BEGIN:VCALENDAR
VERSION:2.0
PRODID:-//Plan Galapagar - ECPv6.15.20//NONSGML v1.0//EN
CALSCALE:GREGORIAN
METHOD:PUBLISH
X-WR-CALNAME:Plan Galapagar
X-ORIGINAL-URL:https://plangalapagar.es
X-WR-CALDESC:Eventos para Plan Galapagar
REFRESH-INTERVAL;VALUE=DURATION:PT1H
X-Robots-Tag:noindex
X-PUBLISHED-TTL:PT1H
BEGIN:VTIMEZONE
TZID:Europe/Madrid
BEGIN:DAYLIGHT
TZOFFSETFROM:+0100
TZOFFSETTO:+0200
TZNAME:CEST
DTSTART:20240331T010000
END:DAYLIGHT
BEGIN:STANDARD
TZOFFSETFROM:+0200
TZOFFSETTO:+0100
TZNAME:CET
DTSTART:20241027T010000
END:STANDARD
BEGIN:DAYLIGHT
TZOFFSETFROM:+0100
TZOFFSETTO:+0200
TZNAME:CEST
DTSTART:20250330T010000
END:DAYLIGHT
BEGIN:STANDARD
TZOFFSETFROM:+0200
TZOFFSETTO:+0100
TZNAME:CET
DTSTART:20251026T010000
END:STANDARD
BEGIN:DAYLIGHT
TZOFFSETFROM:+0100
TZOFFSETTO:+0200
TZNAME:CEST
DTSTART:20260329T010000
END:DAYLIGHT
BEGIN:STANDARD
TZOFFSETFROM:+0200
TZOFFSETTO:+0100
TZNAME:CET
DTSTART:20261025T010000
END:STANDARD
END:VTIMEZONE
BEGIN:VEVENT
DTSTART;TZID=Europe/Madrid:20250301T090000
DTEND;TZID=Europe/Madrid:20250607T180000
DTSTAMP:20260420T110837
CREATED:20240907T141208Z
LAST-MODIFIED:20251114T112210Z
UID:3813-1740819600-1749319200@plangalapagar.es
SUMMARY:Curso de monitor de ocio y tiempo libre-2024
DESCRIPTION:¿Tienes entre 17 y 35 años? ¡Entonces este curso está diseñado para ti! \nEl Ayuntamiento de Galapagar (Madrid)\, junto con la Escuela Coeduca\, han puesto en marcha un curso de monitor de ocio y tiempo libre. Los jóvenes que lo realicen podrán conseguir la titulación oficial para trabajar como monitor en toda España. \nTendrá lugar del sábado 1 de marzo al sábado 7 de junio.  \nHabrá sesiones todos los sábados\, excepto el 3 de mayo. También habrá clases los días lectivos de Semana Santa: viernes 11\, lunes 14\, martes 15 y miércoles 16 de abril de 2025.  \nEl horario de sesiones será de 09:00 a 14:00 y de 15:00 a 18:00 horas. El miércoles 16 de abril el horario será de 09:00 a 15:00 horas.  \n  \n¿Cuánto cuesta? \nEl precio es de 198€. \nServicios incluidos: \n\n150 horas de formación que corresponden a la parte teórico-práctica del curso.\nTutor según las normas de la escuela para sus alumnos durante la fase teórico-práctica y la fase práctica.\nSalida de convivencia en Pensión Completa (excepto la comida del primer día) y traslado en autobús.\n\n  \n¿Qué documentación necesito aportar? \nFotocopia del DNI o escaneado\, fotocopia del título de alguna de las titulaciones requeridas y la autorización de menores de edad. \n  \n¿Cómo me apunto?  \nRealiza el pago mediante ingreso en la cuenta de Servicios Psicoeducativos (ES25 3058 1907 0527 2050 5695). \nEn esta web\, con el botón «Me apunto»\, podrás realizar la inscripción online con tus datos. Deberás adjuntar el justificante de pago y la ficha de inscripción que incluye la autorización de menores. \n  \nObservaciones especiales \nTener 17 años cumplidos en la fecha de inicio del curso (1 de marzo de 2025)\, hasta 35 años. \nEstar en posesión de alguna de las siguientes titulaciones: \n\nTítulo de Graduado en ESO o equivalente.\nEstar en posesión de un certificado profesional de nivel 1 de la familia profesional servicios socioculturales y a la comunidad o de una formación profesional básica.\nTener superada la prueba de acceso a ciclo formativo de grado medio o de grado superior.\nTener superada la prueba de acceso a la universidad.\n\n  \nSe harán las devoluciones en caso de no llegar al mínimo de participantes o por causa de fuerza mayor debidamente justificada y previa valoración de la organización \n¡No te lo pierdas! \nHaz click en el botón «Me apunto» antes del 21 de febrero y reserva tu plaza.
URL:https://plangalapagar.es/plan/curso-de-monitor-de-ocio-y-tiempo-libre-2024/
LOCATION:Punto Joven\, Guadarrama\, 68\, Galapagar\, Madrid\, 28260
CATEGORIES:Jóvenes
ATTACH;FMTTYPE=image/jpeg:https://plangalapagar.es/wp-content/uploads/2024/09/MONITOR.jpg
END:VEVENT
END:VCALENDAR