BEGIN:VCALENDAR
VERSION:2.0
PRODID:-//Plan Galapagar - ECPv6.15.20//NONSGML v1.0//EN
CALSCALE:GREGORIAN
METHOD:PUBLISH
X-WR-CALNAME:Plan Galapagar
X-ORIGINAL-URL:https://plangalapagar.es
X-WR-CALDESC:Eventos para Plan Galapagar
REFRESH-INTERVAL;VALUE=DURATION:PT1H
X-Robots-Tag:noindex
X-PUBLISHED-TTL:PT1H
BEGIN:VTIMEZONE
TZID:Europe/Madrid
BEGIN:DAYLIGHT
TZOFFSETFROM:+0100
TZOFFSETTO:+0200
TZNAME:CEST
DTSTART:20240331T010000
END:DAYLIGHT
BEGIN:STANDARD
TZOFFSETFROM:+0200
TZOFFSETTO:+0100
TZNAME:CET
DTSTART:20241027T010000
END:STANDARD
BEGIN:DAYLIGHT
TZOFFSETFROM:+0100
TZOFFSETTO:+0200
TZNAME:CEST
DTSTART:20250330T010000
END:DAYLIGHT
BEGIN:STANDARD
TZOFFSETFROM:+0200
TZOFFSETTO:+0100
TZNAME:CET
DTSTART:20251026T010000
END:STANDARD
BEGIN:DAYLIGHT
TZOFFSETFROM:+0100
TZOFFSETTO:+0200
TZNAME:CEST
DTSTART:20260329T010000
END:DAYLIGHT
BEGIN:STANDARD
TZOFFSETFROM:+0200
TZOFFSETTO:+0100
TZNAME:CET
DTSTART:20261025T010000
END:STANDARD
END:VTIMEZONE
BEGIN:VEVENT
DTSTART;TZID=Europe/Madrid:20251002T164500
DTEND;TZID=Europe/Madrid:20251218T181500
DTSTAMP:20260420T122403
CREATED:20250924T095122Z
LAST-MODIFIED:20251201T182551Z
UID:5740-1759423500-1766081700@plangalapagar.es
SUMMARY:Diseña tu mundo
DESCRIPTION:¿Tienes entre 10 y 16 años? \n¡No te pierdas este taller de diseño! \nPodrás explorar el mundo del diseño gráfico usando Canva o programas similares. A través de sesiones prácticas\, aprenderás a crear carteles\, portadas\, collages\, logos y contenido visual con sentido estético y comunicativo. Fomentarás la expresión personal\, el trabajo colaborativo y la presentación de ideas visuales con impacto. \nLa actividad no requiere experiencia previa y está diseñada para que puedas desarrollar tu propio estilo gráfico\, combinando creatividad con habilidades digitales útiles para la escuela\, proyectos personales o redes sociales. \nTendrá lugar todos los jueves de octubre a diciembre\, según calendario escolar. *Sujeto a la formación de grupo.  \n  \n¿Cómo me apunto?  \nRegistra los datos solicitados y realiza el pago de 7\,50 € al mes que deberás ingresar en la cuenta de Servicios Psicoeducativos (ES25 3058 1907 0527 2050 5695) o a través de Bizum al teléfono 613 56 66 97 (RUBEN N.V) y adjunta la ficha y el justificante de pago a tu inscripción web. \nSi quieres pagar los 3 meses juntos (octubre\, noviembre y diciembre)\, puedes hacerlo e indicarlo en observaciones. \nSi pagas mes a mes antes del 25 del mes anterior\, debes pagar el mes siguiente y enviar el justificante de pago al correo actividadesgalapagar@coeduca.es.  \nPara darte de baja en la actividad debes solicitarlo antes del 25 de cada mes al correo actividadesgalapagar@coeduca.es.  \nSe harán las devoluciones en caso de no llegar al mínimo de participantes o por causa de fuerza mayor debidamente justificada y previa valoración de la organización.
URL:https://plangalapagar.es/plan/disena-tu-mundo/
LOCATION:Punto Joven\, Guadarrama\, 68\, Galapagar\, Madrid\, 28260
CATEGORIES:Jóvenes
ATTACH;FMTTYPE=image/jpeg:https://plangalapagar.es/wp-content/uploads/2025/09/DISENATUMUNDO.jpg
END:VEVENT
END:VCALENDAR