BEGIN:VCALENDAR
VERSION:2.0
PRODID:-//Plan Galapagar - ECPv6.15.20//NONSGML v1.0//EN
CALSCALE:GREGORIAN
METHOD:PUBLISH
X-WR-CALNAME:Plan Galapagar
X-ORIGINAL-URL:https://plangalapagar.es
X-WR-CALDESC:Eventos para Plan Galapagar
REFRESH-INTERVAL;VALUE=DURATION:PT1H
X-Robots-Tag:noindex
X-PUBLISHED-TTL:PT1H
BEGIN:VTIMEZONE
TZID:Europe/Madrid
BEGIN:DAYLIGHT
TZOFFSETFROM:+0100
TZOFFSETTO:+0200
TZNAME:CEST
DTSTART:20230326T010000
END:DAYLIGHT
BEGIN:STANDARD
TZOFFSETFROM:+0200
TZOFFSETTO:+0100
TZNAME:CET
DTSTART:20231029T010000
END:STANDARD
BEGIN:DAYLIGHT
TZOFFSETFROM:+0100
TZOFFSETTO:+0200
TZNAME:CEST
DTSTART:20240331T010000
END:DAYLIGHT
BEGIN:STANDARD
TZOFFSETFROM:+0200
TZOFFSETTO:+0100
TZNAME:CET
DTSTART:20241027T010000
END:STANDARD
BEGIN:DAYLIGHT
TZOFFSETFROM:+0100
TZOFFSETTO:+0200
TZNAME:CEST
DTSTART:20250330T010000
END:DAYLIGHT
BEGIN:STANDARD
TZOFFSETFROM:+0200
TZOFFSETTO:+0100
TZNAME:CET
DTSTART:20251026T010000
END:STANDARD
END:VTIMEZONE
BEGIN:VEVENT
DTSTART;TZID=Europe/Madrid:20240619T173000
DTEND;TZID=Europe/Madrid:20240619T190000
DTSTAMP:20260421T042610
CREATED:20240601T040055Z
LAST-MODIFIED:20240531T184946Z
UID:3584-1718818200-1718823600@plangalapagar.es
SUMMARY:Diver Family 19 de junio
DESCRIPTION:¡Vuelve Diver Family! \nEl próximo 19 de junio tendrá lugar la actividad «Esperando el verano». Trasvases con agua de colores\, pintura a lo grande\, barcos\, construcciones de arena\, pelotas hinchables\, esponjas y muchas actividades con agua para pasar una tarde refrescante. \nImportante: Trae puesto el bañador\, la crema solar\, calzado de agua que te sujete el pie\, gorra\, toalla y ropa de cambio para pasar una tarde pasada por agua. \nEsta actividad está dirigida a niños y niñas de 1 a 5 años con acompañante. \nHaz click en el botón «Me apunto» y reserva tu plaza. ¡Recuerda que son limitadas!
URL:https://plangalapagar.es/plan/diver-family-19-de-junio/
LOCATION:Punto Joven\, Guadarrama\, 68\, Galapagar\, Madrid\, 28260
CATEGORIES:Infantil
ATTACH;FMTTYPE=image/jpeg:https://plangalapagar.es/wp-content/uploads/2024/06/JUNIO-DIVERFAMILY.jpg
END:VEVENT
END:VCALENDAR