BEGIN:VCALENDAR
VERSION:2.0
PRODID:-//Plan Galapagar - ECPv6.15.20//NONSGML v1.0//EN
CALSCALE:GREGORIAN
METHOD:PUBLISH
X-WR-CALNAME:Plan Galapagar
X-ORIGINAL-URL:https://plangalapagar.es
X-WR-CALDESC:Eventos para Plan Galapagar
REFRESH-INTERVAL;VALUE=DURATION:PT1H
X-Robots-Tag:noindex
X-PUBLISHED-TTL:PT1H
BEGIN:VTIMEZONE
TZID:Europe/Madrid
BEGIN:DAYLIGHT
TZOFFSETFROM:+0100
TZOFFSETTO:+0200
TZNAME:CEST
DTSTART:20240331T010000
END:DAYLIGHT
BEGIN:STANDARD
TZOFFSETFROM:+0200
TZOFFSETTO:+0100
TZNAME:CET
DTSTART:20241027T010000
END:STANDARD
BEGIN:DAYLIGHT
TZOFFSETFROM:+0100
TZOFFSETTO:+0200
TZNAME:CEST
DTSTART:20250330T010000
END:DAYLIGHT
BEGIN:STANDARD
TZOFFSETFROM:+0200
TZOFFSETTO:+0100
TZNAME:CET
DTSTART:20251026T010000
END:STANDARD
BEGIN:DAYLIGHT
TZOFFSETFROM:+0100
TZOFFSETTO:+0200
TZNAME:CEST
DTSTART:20260329T010000
END:DAYLIGHT
BEGIN:STANDARD
TZOFFSETFROM:+0200
TZOFFSETTO:+0100
TZNAME:CET
DTSTART:20261025T010000
END:STANDARD
END:VTIMEZONE
BEGIN:VEVENT
DTSTART;TZID=Europe/Madrid:20250527T173000
DTEND;TZID=Europe/Madrid:20250527T190000
DTSTAMP:20260425T161501
CREATED:20250502T040026Z
LAST-MODIFIED:20250505T121318Z
UID:5055-1748367000-1748372400@plangalapagar.es
SUMMARY:Diver Family 27 de mayo
DESCRIPTION:¡Nueva actividad de Diver Family! \nEl martes 27 de mayo tendrá lugar el plan «Bienvenidos a la granja más divertida». Seremos pequeños agricultores y granjeros explorando la granja. Trabajaremos juntos para construir corrales\, cuidar a los animales y sembrar cultivos imaginarios. Aprenderemos sobre la naturaleza mientras nos movemos como habitantes de la granja. \nUtilizaremos diferentes tipos de texturas (fibras naturales\, hojas secas\, pasto sintético\, etc.)\, olores (flores\, hierbas\, madera)\, sonidos (sonidos suaves de granja) y materiales como el algodón o la lana que representen a los animales. \n¡Muévete\, salta y diviértete como en el campo! \nEsta actividad está dirigida a niños de 1 a 5 años acompañados de un adulto. \nImportante: Este plan se repetirá 2 veces al mes\, en la misma semana\, pero la actividad será la misma y solo puedes apuntarte a uno de ellos para dar espacio a más familias. ¡Gracias por tu colaboración! \nHaz click en el botón «Me apunto» y reserva tu plaza. ¡Recuerda que son limitadas!
URL:https://plangalapagar.es/plan/diver-family-27-de-mayo/
LOCATION:Punto Joven\, Guadarrama\, 68\, Galapagar\, Madrid\, 28260
CATEGORIES:Infantil
ATTACH;FMTTYPE=image/jpeg:https://plangalapagar.es/wp-content/uploads/2025/05/DIVERFAMILY_27m.jpg
END:VEVENT
END:VCALENDAR