BEGIN:VCALENDAR
VERSION:2.0
PRODID:-//Plan Galapagar - ECPv6.15.20//NONSGML v1.0//EN
CALSCALE:GREGORIAN
METHOD:PUBLISH
X-WR-CALNAME:Plan Galapagar
X-ORIGINAL-URL:https://plangalapagar.es
X-WR-CALDESC:Eventos para Plan Galapagar
REFRESH-INTERVAL;VALUE=DURATION:PT1H
X-Robots-Tag:noindex
X-PUBLISHED-TTL:PT1H
BEGIN:VTIMEZONE
TZID:Europe/Madrid
BEGIN:DAYLIGHT
TZOFFSETFROM:+0100
TZOFFSETTO:+0200
TZNAME:CEST
DTSTART:20250330T010000
END:DAYLIGHT
BEGIN:STANDARD
TZOFFSETFROM:+0200
TZOFFSETTO:+0100
TZNAME:CET
DTSTART:20251026T010000
END:STANDARD
BEGIN:DAYLIGHT
TZOFFSETFROM:+0100
TZOFFSETTO:+0200
TZNAME:CEST
DTSTART:20260329T010000
END:DAYLIGHT
BEGIN:STANDARD
TZOFFSETFROM:+0200
TZOFFSETTO:+0100
TZNAME:CET
DTSTART:20261025T010000
END:STANDARD
BEGIN:DAYLIGHT
TZOFFSETFROM:+0100
TZOFFSETTO:+0200
TZNAME:CEST
DTSTART:20270328T010000
END:DAYLIGHT
BEGIN:STANDARD
TZOFFSETFROM:+0200
TZOFFSETTO:+0100
TZNAME:CET
DTSTART:20271031T010000
END:STANDARD
END:VTIMEZONE
BEGIN:VEVENT
DTSTART;TZID=Europe/Madrid:20260213T173000
DTEND;TZID=Europe/Madrid:20260213T203000
DTSTAMP:20260424T084103
CREATED:20260120T111031Z
LAST-MODIFIED:20260120T111031Z
UID:6652-1771003800-1771014600@plangalapagar.es
SUMMARY:Carnaval de colores
DESCRIPTION:Las inscripciones para este plan estarán abiertas a partir del lunes 9 de febrero.  \nEl viernes 13 de febrero tendrá lugar la actividad «Carnaval de colores».  \nMúsica\, ritmo y alegría llenarán cada rincón. Entre desfiles\, bailes y juegos sorprendentes\, los niños se sumergirán en un mundo donde la imaginación se viste de fiesta. \n¡Prepárate para un día lleno de color\, movimiento y diversión sin fin! \n¡No te lo pierdas\, es gratis y las plazas son limitadas! \nHaz click en el botón «Me apunto» y reserva la tuya.
URL:https://plangalapagar.es/plan/diverteca-130226/
LOCATION:Punto Joven\, Guadarrama\, 68\, Galapagar\, Madrid\, 28260
CATEGORIES:Infantil
ATTACH;FMTTYPE=image/jpeg:https://plangalapagar.es/wp-content/uploads/2026/01/DV-13F.jpg
END:VEVENT
END:VCALENDAR