BEGIN:VCALENDAR
VERSION:2.0
PRODID:-//Plan Galapagar - ECPv6.15.20//NONSGML v1.0//EN
CALSCALE:GREGORIAN
METHOD:PUBLISH
X-WR-CALNAME:Plan Galapagar
X-ORIGINAL-URL:https://plangalapagar.es
X-WR-CALDESC:Eventos para Plan Galapagar
REFRESH-INTERVAL;VALUE=DURATION:PT1H
X-Robots-Tag:noindex
X-PUBLISHED-TTL:PT1H
BEGIN:VTIMEZONE
TZID:Europe/Madrid
BEGIN:DAYLIGHT
TZOFFSETFROM:+0100
TZOFFSETTO:+0200
TZNAME:CEST
DTSTART:20240331T010000
END:DAYLIGHT
BEGIN:STANDARD
TZOFFSETFROM:+0200
TZOFFSETTO:+0100
TZNAME:CET
DTSTART:20241027T010000
END:STANDARD
BEGIN:DAYLIGHT
TZOFFSETFROM:+0100
TZOFFSETTO:+0200
TZNAME:CEST
DTSTART:20250330T010000
END:DAYLIGHT
BEGIN:STANDARD
TZOFFSETFROM:+0200
TZOFFSETTO:+0100
TZNAME:CET
DTSTART:20251026T010000
END:STANDARD
BEGIN:DAYLIGHT
TZOFFSETFROM:+0100
TZOFFSETTO:+0200
TZNAME:CEST
DTSTART:20260329T010000
END:DAYLIGHT
BEGIN:STANDARD
TZOFFSETFROM:+0200
TZOFFSETTO:+0100
TZNAME:CET
DTSTART:20261025T010000
END:STANDARD
END:VTIMEZONE
BEGIN:VEVENT
DTSTART;TZID=Europe/Madrid:20251114T173000
DTEND;TZID=Europe/Madrid:20251114T203000
DTSTAMP:20260420T122143
CREATED:20251110T110042Z
LAST-MODIFIED:20251110T115403Z
UID:5936-1763141400-1763152200@plangalapagar.es
SUMMARY:Diverteca 14 de noviembre
DESCRIPTION:¡Nueva actividad de diverteca para los peques de la casa! \nEl viernes 14 de noviembre tendrá lugar la actividad «Juegos que nos unen: Diversión en equipo». En esta tarde llena de energía y compañerismo\, participarás en una serie de juegos cooperativos diseñados para fortalecer el trabajo en equipo\, la comunicación y la empatía. \nDesde yincanas hasta retos grupales y dinámicas de movimiento\, cada actividad está pensada para que todos os apoyéis\, colaboréis y os divirtáis mientras aprendéis valores tan importantes como la solidaridad\, el respeto y la amistad. \n¡Un espacio donde cada niño suma y nadie se queda atrás! \n¡No te lo pierdas\, es gratis y las plazas son limitadas! \nHaz click en el botón «Me apunto» y reserva la tuya.
URL:https://plangalapagar.es/plan/diverteca-14-de-noviembre/
LOCATION:Punto Joven\, Guadarrama\, 68\, Galapagar\, Madrid\, 28260
CATEGORIES:Infantil
ATTACH;FMTTYPE=image/jpeg:https://plangalapagar.es/wp-content/uploads/2025/11/DV_14N.jpg
END:VEVENT
END:VCALENDAR