BEGIN:VCALENDAR
VERSION:2.0
PRODID:-//Plan Galapagar - ECPv6.15.20//NONSGML v1.0//EN
CALSCALE:GREGORIAN
METHOD:PUBLISH
X-WR-CALNAME:Plan Galapagar
X-ORIGINAL-URL:https://plangalapagar.es
X-WR-CALDESC:Eventos para Plan Galapagar
REFRESH-INTERVAL;VALUE=DURATION:PT1H
X-Robots-Tag:noindex
X-PUBLISHED-TTL:PT1H
BEGIN:VTIMEZONE
TZID:Europe/Madrid
BEGIN:DAYLIGHT
TZOFFSETFROM:+0100
TZOFFSETTO:+0200
TZNAME:CEST
DTSTART:20240331T010000
END:DAYLIGHT
BEGIN:STANDARD
TZOFFSETFROM:+0200
TZOFFSETTO:+0100
TZNAME:CET
DTSTART:20241027T010000
END:STANDARD
BEGIN:DAYLIGHT
TZOFFSETFROM:+0100
TZOFFSETTO:+0200
TZNAME:CEST
DTSTART:20250330T010000
END:DAYLIGHT
BEGIN:STANDARD
TZOFFSETFROM:+0200
TZOFFSETTO:+0100
TZNAME:CET
DTSTART:20251026T010000
END:STANDARD
BEGIN:DAYLIGHT
TZOFFSETFROM:+0100
TZOFFSETTO:+0200
TZNAME:CEST
DTSTART:20260329T010000
END:DAYLIGHT
BEGIN:STANDARD
TZOFFSETFROM:+0200
TZOFFSETTO:+0100
TZNAME:CET
DTSTART:20261025T010000
END:STANDARD
END:VTIMEZONE
BEGIN:VEVENT
DTSTART;TZID=Europe/Madrid:20251121T173000
DTEND;TZID=Europe/Madrid:20251121T203000
DTSTAMP:20260420T110525
CREATED:20251117T110048Z
LAST-MODIFIED:20251016T100744Z
UID:5938-1763746200-1763757000@plangalapagar.es
SUMMARY:Diverteca 21 de noviembre
DESCRIPTION:¡Nueva actividad de diverteca para los peques de la casa! \nEl viernes 21 de noviembre tendrá lugar la actividad «Fiesta de otoño». ¡El otoño llega a Punto Joven y lo celebramos por todo lo alto! \nPrepárate para una tarde mágica llena de colores cálidos\, juegos divertidos y mucha creatividad. Exploramos esta estación tan especial con actividades temáticas\, desde una emocionante búsqueda de hojas caídas hasta la creación de preciosas coronas otoñales con elementos naturales. \nAdemás\, habrá música\, juegos grupales y muchas sorpresas para que puedas disfrutar del otoño de una forma única y muy divertida. \n¡Una fiesta para celebrar la naturaleza\, la imaginación y la alegría de estar juntos! \n¡No te lo pierdas\, es gratis y las plazas son limitadas! \nHaz click en el botón «Me apunto» y reserva la tuya.
URL:https://plangalapagar.es/plan/diverteca-21-de-noviembre/
LOCATION:Punto Joven\, Guadarrama\, 68\, Galapagar\, Madrid\, 28260
CATEGORIES:Infantil
ATTACH;FMTTYPE=image/jpeg:https://plangalapagar.es/wp-content/uploads/2025/11/DV_21N.jpg
END:VEVENT
END:VCALENDAR