BEGIN:VCALENDAR
VERSION:2.0
PRODID:-//Plan Galapagar - ECPv6.15.20//NONSGML v1.0//EN
CALSCALE:GREGORIAN
METHOD:PUBLISH
X-WR-CALNAME:Plan Galapagar
X-ORIGINAL-URL:https://plangalapagar.es
X-WR-CALDESC:Eventos para Plan Galapagar
REFRESH-INTERVAL;VALUE=DURATION:PT1H
X-Robots-Tag:noindex
X-PUBLISHED-TTL:PT1H
BEGIN:VTIMEZONE
TZID:Europe/Madrid
BEGIN:DAYLIGHT
TZOFFSETFROM:+0100
TZOFFSETTO:+0200
TZNAME:CEST
DTSTART:20240331T010000
END:DAYLIGHT
BEGIN:STANDARD
TZOFFSETFROM:+0200
TZOFFSETTO:+0100
TZNAME:CET
DTSTART:20241027T010000
END:STANDARD
BEGIN:DAYLIGHT
TZOFFSETFROM:+0100
TZOFFSETTO:+0200
TZNAME:CEST
DTSTART:20250330T010000
END:DAYLIGHT
BEGIN:STANDARD
TZOFFSETFROM:+0200
TZOFFSETTO:+0100
TZNAME:CET
DTSTART:20251026T010000
END:STANDARD
BEGIN:DAYLIGHT
TZOFFSETFROM:+0100
TZOFFSETTO:+0200
TZNAME:CEST
DTSTART:20260329T010000
END:DAYLIGHT
BEGIN:STANDARD
TZOFFSETFROM:+0200
TZOFFSETTO:+0100
TZNAME:CET
DTSTART:20261025T010000
END:STANDARD
END:VTIMEZONE
BEGIN:VEVENT
DTSTART;TZID=Europe/Madrid:20251128T173000
DTEND;TZID=Europe/Madrid:20251128T203000
DTSTAMP:20260420T110516
CREATED:20251124T110056Z
LAST-MODIFIED:20251023T092350Z
UID:5941-1764351000-1764361800@plangalapagar.es
SUMMARY:Diverteca 28 de noviembre
DESCRIPTION:¡Nueva actividad de diverteca para los peques de la casa! \nEl viernes 28 de noviembre tendrá lugar la actividad «Minichefs en acción». En este delicioso taller\, podrás transformarte en un auténtico minichef mientras descubres lo divertido que puede ser cocinar. Prepararás recetas sencillas\, ricas y saludables con ingredientes naturales\, aprendiendo paso a paso mientras desarrollas tu autonomía en la cocina. \nAdemás de cocinar\, aprenderás la importancia de una alimentación equilibrada de una forma práctica y divertida. Al final\, podrás degustar tus propias creaciones y compartirlas con orgullo. \n¡Una experiencia sabrosa\, educativa y para chuparse los dedos! \n¡ATENCIÓN! ALERGIAS ALIMENTARIA: Recuerda que vamos a trabajar con alimentos.\nSi tu hijo tiene alguna alergia alimentaria DEBES PONERLO en el campo de OBSERVACIONES al apuntarte. \n¡No te lo pierdas\, es gratis y las plazas son limitadas! \nHaz click en el botón «Me apunto» y reserva la tuya.
URL:https://plangalapagar.es/plan/diverteca-28-de-noviembre/
LOCATION:Punto Joven\, Guadarrama\, 68\, Galapagar\, Madrid\, 28260
CATEGORIES:Infantil
ATTACH;FMTTYPE=image/jpeg:https://plangalapagar.es/wp-content/uploads/2025/11/DV_28N.jpg
END:VEVENT
END:VCALENDAR