BEGIN:VCALENDAR
VERSION:2.0
PRODID:-//Plan Galapagar - ECPv6.15.20//NONSGML v1.0//EN
CALSCALE:GREGORIAN
METHOD:PUBLISH
X-WR-CALNAME:Plan Galapagar
X-ORIGINAL-URL:https://plangalapagar.es
X-WR-CALDESC:Eventos para Plan Galapagar
REFRESH-INTERVAL;VALUE=DURATION:PT1H
X-Robots-Tag:noindex
X-PUBLISHED-TTL:PT1H
BEGIN:VTIMEZONE
TZID:Europe/Madrid
BEGIN:DAYLIGHT
TZOFFSETFROM:+0100
TZOFFSETTO:+0200
TZNAME:CEST
DTSTART:20240331T010000
END:DAYLIGHT
BEGIN:STANDARD
TZOFFSETFROM:+0200
TZOFFSETTO:+0100
TZNAME:CET
DTSTART:20241027T010000
END:STANDARD
BEGIN:DAYLIGHT
TZOFFSETFROM:+0100
TZOFFSETTO:+0200
TZNAME:CEST
DTSTART:20250330T010000
END:DAYLIGHT
BEGIN:STANDARD
TZOFFSETFROM:+0200
TZOFFSETTO:+0100
TZNAME:CET
DTSTART:20251026T010000
END:STANDARD
BEGIN:DAYLIGHT
TZOFFSETFROM:+0100
TZOFFSETTO:+0200
TZNAME:CEST
DTSTART:20260329T010000
END:DAYLIGHT
BEGIN:STANDARD
TZOFFSETFROM:+0200
TZOFFSETTO:+0100
TZNAME:CET
DTSTART:20261025T010000
END:STANDARD
END:VTIMEZONE
BEGIN:VEVENT
DTSTART;TZID=Europe/Madrid:20251107T173000
DTEND;TZID=Europe/Madrid:20251107T203000
DTSTAMP:20260420T122123
CREATED:20251103T110012Z
LAST-MODIFIED:20251016T095212Z
UID:5934-1762536600-1762547400@plangalapagar.es
SUMMARY:Diverteca 7 de noviembre
DESCRIPTION:¡Nueva actividad de diverteca para los peques de la casa! \nEl viernes 7 de noviembre tendrá lugar la actividad «Taller de reciclaje creativo». Convierte lo viejo en algo totalmente nuevo y sorprendente! \nEn este taller lleno de imaginación y conciencia ambiental\, podrás convertirte en un pequeño artista ecológico. Utilizando materiales reciclables como cartón\, botellas\, tapones o periódicos\, darás vida a originales manualidades\, desde divertidos juguetes hasta coloridos objetos decorativos. \nCada creación será una oportunidad para aprender que reciclar también puede ser divertido\, mientras desarrollas tu creatividad y descubres el valor de cuidar el planeta. \n¡Una experiencia única donde la sostenibilidad y el arte se dan la mano! \n¡No te lo pierdas\, es gratis y las plazas son limitadas! \nHaz click en el botón «Me apunto» y reserva la tuya.
URL:https://plangalapagar.es/plan/diverteca-7-de-noviembre/
LOCATION:Punto Joven\, Guadarrama\, 68\, Galapagar\, Madrid\, 28260
CATEGORIES:Infantil
ATTACH;FMTTYPE=image/jpeg:https://plangalapagar.es/wp-content/uploads/2025/11/DV_7N.jpg
END:VEVENT
END:VCALENDAR