BEGIN:VCALENDAR
VERSION:2.0
PRODID:-//Plan Galapagar - ECPv6.15.20//NONSGML v1.0//EN
CALSCALE:GREGORIAN
METHOD:PUBLISH
X-WR-CALNAME:Plan Galapagar
X-ORIGINAL-URL:https://plangalapagar.es
X-WR-CALDESC:Eventos para Plan Galapagar
REFRESH-INTERVAL;VALUE=DURATION:PT1H
X-Robots-Tag:noindex
X-PUBLISHED-TTL:PT1H
BEGIN:VTIMEZONE
TZID:Europe/Madrid
BEGIN:DAYLIGHT
TZOFFSETFROM:+0100
TZOFFSETTO:+0200
TZNAME:CEST
DTSTART:20240331T010000
END:DAYLIGHT
BEGIN:STANDARD
TZOFFSETFROM:+0200
TZOFFSETTO:+0100
TZNAME:CET
DTSTART:20241027T010000
END:STANDARD
BEGIN:DAYLIGHT
TZOFFSETFROM:+0100
TZOFFSETTO:+0200
TZNAME:CEST
DTSTART:20250330T010000
END:DAYLIGHT
BEGIN:STANDARD
TZOFFSETFROM:+0200
TZOFFSETTO:+0100
TZNAME:CET
DTSTART:20251026T010000
END:STANDARD
BEGIN:DAYLIGHT
TZOFFSETFROM:+0100
TZOFFSETTO:+0200
TZNAME:CEST
DTSTART:20260329T010000
END:DAYLIGHT
BEGIN:STANDARD
TZOFFSETFROM:+0200
TZOFFSETTO:+0100
TZNAME:CET
DTSTART:20261025T010000
END:STANDARD
END:VTIMEZONE
BEGIN:VEVENT
DTSTART;TZID=Europe/Madrid:20250625T080000
DTEND;TZID=Europe/Madrid:20250713T120000
DTSTAMP:20260424T231842
CREATED:20250626T141218Z
LAST-MODIFIED:20250626T141218Z
UID:5296-1750838400-1752408000@plangalapagar.es
SUMMARY:Festival de grupos jóvenes
DESCRIPTION:El Ayuntamiento de Galapagar\, a través de su Concejalía de Juventud\, organiza el festival de grupos jóvenes con el objetivo de promocionar la música juvenil\, ofreciendo un espacio a artistas solistas y bandas jóvenes nóveles y que puedan tener la oportunidad de dar a conocer su trabajo y promocionar los diversos estilos de música que realizan. \nPodrán participar en el festival solistas y grupos de música jóvenes de entre 14 y 35 años. Para optar al premio «Mejor solista/grupo local» será necesario que al menos una de las personas esté empadronada en Galapagar. Las personas participantes no pueden estar sujetas a ningún tipo de contrato discográfico. \nCada solista o grupo deberá presentar un vídeo con su trabajo\, totalmente propio\, admitiéndose trabajos originales y/o versiones. \nNo se admitirá ningún trabajo que incluya contenidos xenófobos\, racistas\, homófobos\, difamatorios o que inciten a cualquier tipo de discriminación o violencia. \n¿Cómo me inscribo?  \nPuedes apuntarte rellenando el formulario con el botón «Me apunto». Antes de darle\, aségurate que tienes toda la documentación que se te va a pedir. Para ello\, te dejamos en este listado: \n\nDescarga el formulario de inscripción\, deberás rellenarlo y escanearlo en PDF para poder subirlo luego.\nDeberás crear un PDF con la biografía del grupo o solista. Describe tu grupo y lo que hacéis\, influencias\, tipo de música\, cuándo os formasteis o lo que te parezca interesante. Exporta eso en un PDF para poder subirlo luego.\nTen preparada una fotografía del grupo o artista para subir.\nDeberás preparar un vídeo presentación\, grabado en formato horizontal. Puedes grabarlo con el móvil o con una cámara. Luego\, súbelo a cualquier plataforma como YouTube o Video\, necesitaremos el enlace para poder verlo. También nos puedes enviar directamente el vídeo subiéndolo a una plataforma de intercambio de archivos como Dropbox o Wetransfer.\nSi hay menores de edad\, deberás descargar esta Autorización expresa para los menores de edad\, rellenarla y escanearla para adjuntarla también en el formulario.\n\nUna vez que tengas toda la documentación lista\, puedes darle al botón «Me apunto» y rellenar el formulario de la siguiente forma\, te explicamos qué adjuntar en cada campo: \n\nNombre del grupo: -> El nombre de tu grupo o del artista.\nNombre y apellido de la persona de contacto: -> La persona con la que contactaremos.\nTeléfono de contacto:->  El teléfono de la persona de contacto.\nEmail:-> Correo de la persona de contacto.\nCV del artista -> Sube un PDF con la biografía de tu grupo o artista.\nFoto1 -> Sube aquí una fotografía o logo del grupo/artista.\nObservaciones -> Enlace del vídeo del grupo (enlace de YouTube o de WeTransfer con el vídeo).\nFormulario de inscripción -> Adjunta la “Solicitud de participación” rellena.\nOtros documentos -> Adjunto el documento de Autorización de menores (si corresponde).\n\n  \nEl Ayuntamiento emitirá acuse de recibo de dicho correo electrónico a todo participante. De no llegarle dicho acuse\, la solicitud de participación no habrá sido correctamente recibida. \nEl plazo de presentación será desde el día siguiente de su publicación en la sede electrónica del Ayuntamiento de Galapagar hasta el 13 de julio de 2025. \nUna vez acabado el plazo de presentación\, un jurado formado al efecto realizará una primera selección de 5 solistas/grupos que participarán en el festival\, atendiendo a criterios de técnica instrumental\, composición\, calidad y creatividad. \nEl 6 de septiembre\, el Ayuntamiento de Galapagar organizará el festival de grupos jóvenes con las personas/grupos seleccionados. \nFinalmente\, tras la celebración del evento\, un jurado formado por especialistas en música seleccionará dos mejores grupos/solistas: Mejor grupo/solista Joven y Mejor grupo/solista de Galapagar. \nLos dos primeros premios actuarán en un segundo concierto que se celebrará 15 de septiembre abriendo el concierto de un grupo profesional. \nAdemás\, la Concejalía de Juventud otorgará entre sus participantes los siguientes premios en metálico: \n\nPrimer premio «Mejor solista/grupo Joven»: 290 €.\nSegundo premio «Mejor solista/grupo Joven de Galapagar»: 260 €.\nTercer premio: 240 €.\nCuarto premio: 210 €.\nQuinto premio: 200 €.\n\nSi el jurado así lo decidiese\, los premios podrán ser declarados desiertos. \nHaz click aquí y consulta las bases.
URL:https://plangalapagar.es/plan/festival-de-grupos-jovenes-2/
LOCATION:Punto Joven\, Guadarrama\, 68\, Galapagar\, Madrid\, 28260
CATEGORIES:Jóvenes
ATTACH;FMTTYPE=image/jpeg:https://plangalapagar.es/wp-content/uploads/2025/06/FESTIVALGRUPOS.jpg
END:VEVENT
END:VCALENDAR