BEGIN:VCALENDAR
VERSION:2.0
PRODID:-//Plan Galapagar - ECPv6.15.20//NONSGML v1.0//EN
CALSCALE:GREGORIAN
METHOD:PUBLISH
X-WR-CALNAME:Plan Galapagar
X-ORIGINAL-URL:https://plangalapagar.es
X-WR-CALDESC:Eventos para Plan Galapagar
REFRESH-INTERVAL;VALUE=DURATION:PT1H
X-Robots-Tag:noindex
X-PUBLISHED-TTL:PT1H
BEGIN:VTIMEZONE
TZID:Europe/Madrid
BEGIN:DAYLIGHT
TZOFFSETFROM:+0100
TZOFFSETTO:+0200
TZNAME:CEST
DTSTART:20240331T010000
END:DAYLIGHT
BEGIN:STANDARD
TZOFFSETFROM:+0200
TZOFFSETTO:+0100
TZNAME:CET
DTSTART:20241027T010000
END:STANDARD
BEGIN:DAYLIGHT
TZOFFSETFROM:+0100
TZOFFSETTO:+0200
TZNAME:CEST
DTSTART:20250330T010000
END:DAYLIGHT
BEGIN:STANDARD
TZOFFSETFROM:+0200
TZOFFSETTO:+0100
TZNAME:CET
DTSTART:20251026T010000
END:STANDARD
BEGIN:DAYLIGHT
TZOFFSETFROM:+0100
TZOFFSETTO:+0200
TZNAME:CEST
DTSTART:20260329T010000
END:DAYLIGHT
BEGIN:STANDARD
TZOFFSETFROM:+0200
TZOFFSETTO:+0100
TZNAME:CET
DTSTART:20261025T010000
END:STANDARD
END:VTIMEZONE
BEGIN:VEVENT
DTSTART;TZID=Europe/Madrid:20251107T170000
DTEND;TZID=Europe/Madrid:20251121T210000
DTSTAMP:20260425T005739
CREATED:20251016T094523Z
LAST-MODIFIED:20251028T072042Z
UID:6010-1762534800-1763758800@plangalapagar.es
SUMMARY:Monográfico 7 y 21 de noviembre
DESCRIPTION:¿Tienes entre 16 y 30 años? \n¡No te pierdas el taller «Monográfico: Diseño de escape rooms educativos en el tiempo libre».  \nEstá dirigido a personas tituladas en ocio y tiempo libre o que están en proceso de formación. Introduce el diseño básico de experiencias tipo escape room con fines educativos y lúdicos\, empleando recursos accesibles y dinámicas de trabajo en grupo. \nPotencia la creatividad\, la cooperación y la planificación de actividades originales en contextos como campamentos\, ludotecas o centros juveniles. \nEste taller está compuesto de 2 sesiones que tendrán lugar el 7 y 21 de noviembre en el horario de 17:00 a 21:00 horas. \n*Este plan está sujeto a la formación de grupo. \n  \n¿Cómo me apunto?  \nRegistra los datos solicitados y realiza el pago de 9 €  que deberás ingresar en la cuenta de Servicios Psicoeducativos (ES25 3058 1907 0527 2050 5695) o a través de Bizum al teléfono 613 56 66 97 (RUBEN N.V) y adjunta el justificante de pago a tu inscripción web. \n¡No te lo pierdas! \nHaz click en el botón «Me apunto» y reserva tu plaza. \n 
URL:https://plangalapagar.es/plan/monografico-7-y-21-de-noviembre/
LOCATION:Punto Joven\, Guadarrama\, 68\, Galapagar\, Madrid\, 28260
CATEGORIES:Jóvenes
ATTACH;FMTTYPE=image/jpeg:https://plangalapagar.es/wp-content/uploads/2025/10/MONOGRAFICO_DISENO_ESCAPERROMS.jpg
END:VEVENT
END:VCALENDAR