BEGIN:VCALENDAR
VERSION:2.0
PRODID:-//Plan Galapagar - ECPv6.15.20//NONSGML v1.0//EN
CALSCALE:GREGORIAN
METHOD:PUBLISH
X-WR-CALNAME:Plan Galapagar
X-ORIGINAL-URL:https://plangalapagar.es
X-WR-CALDESC:Eventos para Plan Galapagar
REFRESH-INTERVAL;VALUE=DURATION:PT1H
X-Robots-Tag:noindex
X-PUBLISHED-TTL:PT1H
BEGIN:VTIMEZONE
TZID:Europe/Madrid
BEGIN:DAYLIGHT
TZOFFSETFROM:+0100
TZOFFSETTO:+0200
TZNAME:CEST
DTSTART:20240331T010000
END:DAYLIGHT
BEGIN:STANDARD
TZOFFSETFROM:+0200
TZOFFSETTO:+0100
TZNAME:CET
DTSTART:20241027T010000
END:STANDARD
BEGIN:DAYLIGHT
TZOFFSETFROM:+0100
TZOFFSETTO:+0200
TZNAME:CEST
DTSTART:20250330T010000
END:DAYLIGHT
BEGIN:STANDARD
TZOFFSETFROM:+0200
TZOFFSETTO:+0100
TZNAME:CET
DTSTART:20251026T010000
END:STANDARD
BEGIN:DAYLIGHT
TZOFFSETFROM:+0100
TZOFFSETTO:+0200
TZNAME:CEST
DTSTART:20260329T010000
END:DAYLIGHT
BEGIN:STANDARD
TZOFFSETFROM:+0200
TZOFFSETTO:+0100
TZNAME:CET
DTSTART:20261025T010000
END:STANDARD
END:VTIMEZONE
BEGIN:VEVENT
DTSTART;TZID=Europe/Madrid:20251010T173000
DTEND;TZID=Europe/Madrid:20251010T203000
DTSTAMP:20260420T134818
CREATED:20250925T132140Z
LAST-MODIFIED:20250925T132140Z
UID:5694-1760117400-1760128200@plangalapagar.es
SUMMARY:Ocio Joven 10 de octubre
DESCRIPTION:¡Nuevo plan de Ocio Joven! \nEl viernes 10 de octubre habrá diversas actividades para los jóvenes que podrán elegir en función de sus intereses. \n\nZona activa:\n\n– Grupo A (de 10 a 13 años). Llega la actividad «Escape Room básico: Atrapa al saboteador con pistas sencillas». Se trata de una actividad cooperativa basada en dinámicas de escape room con pistas visuales\, enigmas sencillos y resolución en grupo. El objetivo es descubrir al «saboteador» dentro de una narrativa lúdica\, fomentando la lógica\, el trabajo en equipo y la gestión del tiempo de forma accesible y motivadora. \n– Grupo B (de 14 a 17 años). Llega la actividad «Urban Art Crew: Crea tu propio tag y mural ficticio». Este taller de iniciación al arte urbano está enfocado a la identidad visual juvenil. Podrás diseñar tu propio tag (firma) e integrarlo en un mural colectivo simulado\, mediante el uso de plantillas\, rotuladores de graffiti y recursos gráficos. La actividad promueve la expresión personal\, el diseño tipográfico y la reflexión estética en un formato seguro y legal. \n\nZona ludoteca: ¡No te pierdas el juego Jungle Speed!\nZona libre: Utiliza el espacio de manera autónoma a través de los recursos abiertos.\n\n¡No te lo pierdas! Es gratis y las plazas son limitadas. \nHaz click en el botón «Me apunto» y reserva la tuya.
URL:https://plangalapagar.es/plan/ocio-joven-10-de-octubre/
LOCATION:Punto Joven\, Guadarrama\, 68\, Galapagar\, Madrid\, 28260
CATEGORIES:Jóvenes
ATTACH;FMTTYPE=image/jpeg:https://plangalapagar.es/wp-content/uploads/2025/09/OJ-10O.jpg
END:VEVENT
END:VCALENDAR