BEGIN:VCALENDAR
VERSION:2.0
PRODID:-//Plan Galapagar - ECPv6.15.20//NONSGML v1.0//EN
CALSCALE:GREGORIAN
METHOD:PUBLISH
X-WR-CALNAME:Plan Galapagar
X-ORIGINAL-URL:https://plangalapagar.es
X-WR-CALDESC:Eventos para Plan Galapagar
REFRESH-INTERVAL;VALUE=DURATION:PT1H
X-Robots-Tag:noindex
X-PUBLISHED-TTL:PT1H
BEGIN:VTIMEZONE
TZID:Europe/Madrid
BEGIN:DAYLIGHT
TZOFFSETFROM:+0100
TZOFFSETTO:+0200
TZNAME:CEST
DTSTART:20240331T010000
END:DAYLIGHT
BEGIN:STANDARD
TZOFFSETFROM:+0200
TZOFFSETTO:+0100
TZNAME:CET
DTSTART:20241027T010000
END:STANDARD
BEGIN:DAYLIGHT
TZOFFSETFROM:+0100
TZOFFSETTO:+0200
TZNAME:CEST
DTSTART:20250330T010000
END:DAYLIGHT
BEGIN:STANDARD
TZOFFSETFROM:+0200
TZOFFSETTO:+0100
TZNAME:CET
DTSTART:20251026T010000
END:STANDARD
BEGIN:DAYLIGHT
TZOFFSETFROM:+0100
TZOFFSETTO:+0200
TZNAME:CEST
DTSTART:20260329T010000
END:DAYLIGHT
BEGIN:STANDARD
TZOFFSETFROM:+0200
TZOFFSETTO:+0100
TZNAME:CET
DTSTART:20261025T010000
END:STANDARD
END:VTIMEZONE
BEGIN:VEVENT
DTSTART;TZID=Europe/Madrid:20251011T173000
DTEND;TZID=Europe/Madrid:20251011T203000
DTSTAMP:20260420T122123
CREATED:20250925T132310Z
LAST-MODIFIED:20250925T132310Z
UID:5705-1760203800-1760214600@plangalapagar.es
SUMMARY:Ocio Joven 11 de octubre
DESCRIPTION:¡Nuevo plan de Ocio Joven! \nEl sábado 11 de octubre habrá diversas actividades para los jóvenes que podrán elegir en función de sus intereses. \n\nZona activa:\n\n– Grupo A (de 10 a 13 años). Llega la actividad «Torneo Code Names: Batalla de palabras». En este juego de mesa por equipos basado en la deducción y la comunicación estratégica\, deberás adivinar palabras clave a partir de pistas dadas por tu compañero/a. Es una actividad ideal para trabajar el vocabulario\, el pensamiento lateral y la cooperación entre iguales en un formato accesible y competitivo. \n– Grupo B (de 14 a 17 años). Llega una actividad inmersiva tipo escape room que combina la resolución de enigmas con dinámicas de rol oculto. En esta versión extendida\, uno o varios participantes actúan como saboteadores encubiertos que interfieren en la resolución del reto. La sesión favorece el pensamiento estratégico\, la colaboración bajo presión y la gestión de roles en situaciones de tensión controlada. \n\nZona ludoteca: ¡No te pierdas el juego Time’s Up: Party!\nZona libre: Utiliza el espacio de manera autónoma a través de los recursos abiertos.\n\n¡No te lo pierdas! Es gratis y las plazas son limitadas. \nHaz click en el botón «Me apunto» y reserva la tuya.
URL:https://plangalapagar.es/plan/ocio-joven-11-de-octubre/
LOCATION:Punto Joven\, Guadarrama\, 68\, Galapagar\, Madrid\, 28260
CATEGORIES:Jóvenes
ATTACH;FMTTYPE=image/jpeg:https://plangalapagar.es/wp-content/uploads/2025/09/OJ-11O.jpg
END:VEVENT
END:VCALENDAR