BEGIN:VCALENDAR
VERSION:2.0
PRODID:-//Plan Galapagar - ECPv6.15.20//NONSGML v1.0//EN
CALSCALE:GREGORIAN
METHOD:PUBLISH
X-WR-CALNAME:Plan Galapagar
X-ORIGINAL-URL:https://plangalapagar.es
X-WR-CALDESC:Eventos para Plan Galapagar
REFRESH-INTERVAL;VALUE=DURATION:PT1H
X-Robots-Tag:noindex
X-PUBLISHED-TTL:PT1H
BEGIN:VTIMEZONE
TZID:Europe/Madrid
BEGIN:DAYLIGHT
TZOFFSETFROM:+0100
TZOFFSETTO:+0200
TZNAME:CEST
DTSTART:20240331T010000
END:DAYLIGHT
BEGIN:STANDARD
TZOFFSETFROM:+0200
TZOFFSETTO:+0100
TZNAME:CET
DTSTART:20241027T010000
END:STANDARD
BEGIN:DAYLIGHT
TZOFFSETFROM:+0100
TZOFFSETTO:+0200
TZNAME:CEST
DTSTART:20250330T010000
END:DAYLIGHT
BEGIN:STANDARD
TZOFFSETFROM:+0200
TZOFFSETTO:+0100
TZNAME:CET
DTSTART:20251026T010000
END:STANDARD
BEGIN:DAYLIGHT
TZOFFSETFROM:+0100
TZOFFSETTO:+0200
TZNAME:CEST
DTSTART:20260329T010000
END:DAYLIGHT
BEGIN:STANDARD
TZOFFSETFROM:+0200
TZOFFSETTO:+0100
TZNAME:CET
DTSTART:20261025T010000
END:STANDARD
END:VTIMEZONE
BEGIN:VEVENT
DTSTART;TZID=Europe/Madrid:20251114T173000
DTEND;TZID=Europe/Madrid:20251114T203000
DTSTAMP:20260424T220300
CREATED:20251031T110018Z
LAST-MODIFIED:20251016T100318Z
UID:5967-1763141400-1763152200@plangalapagar.es
SUMMARY:Ocio Joven 14 de noviembre
DESCRIPTION:¡Nuevo plan de Ocio Joven! \nEl viernes 14 de noviembre habrá diversas actividades para los jóvenes que podrán elegir en función de sus intereses. \n\nZona activa:\n\n– Grupo A (de 10 a 13 años). Llega la actividad «Escape room: Código Viral Kids». Esta actividad está basada en referentes actuales de la cultura pop\, música y tendencias virales (TikTok\, memes\, videojuegos y series juveniles). Habrá enigmas accesibles\, pruebas visuales y dinámicas lúdicas como la búsqueda de objetos\, emojis ocultos\, adivinanzas o cadenas de pistas. Se incorpora una narrativa sencilla tipo «el algoritmo se ha roto y hay que restaurarlo antes de que borre todo Internet». \n– Grupo B (de 14 a 17 años). Llega la actividad «Escape room: Código Viral Pro». Aquí encontrarás enigmas más complejos\, referencias específicas a fenómenos virales actuales\, letras de canciones\, series y códigos en clave. La narrativa gira en torno a «una inteligencia artificial viral fuera de control» que\, por grupos\, deberéis descifrar antes del blackout digital. \n\nZona ludoteca: ¡No te pierdas el juego Monopoly!\nZona libre: Utiliza el espacio de manera autónoma a través de los recursos abiertos.\n\n¡No te lo pierdas! Es gratis y las plazas son limitadas. \nHaz click en el botón «Me apunto» y reserva la tuya.
URL:https://plangalapagar.es/plan/ocio-joven-14-de-noviembre/
LOCATION:Punto Joven\, Guadarrama\, 68\, Galapagar\, Madrid\, 28260
CATEGORIES:Jóvenes
ATTACH;FMTTYPE=image/jpeg:https://plangalapagar.es/wp-content/uploads/2025/10/OJ_14N.jpg
END:VEVENT
END:VCALENDAR