BEGIN:VCALENDAR
VERSION:2.0
PRODID:-//Plan Galapagar - ECPv6.15.20//NONSGML v1.0//EN
CALSCALE:GREGORIAN
METHOD:PUBLISH
X-WR-CALNAME:Plan Galapagar
X-ORIGINAL-URL:https://plangalapagar.es
X-WR-CALDESC:Eventos para Plan Galapagar
REFRESH-INTERVAL;VALUE=DURATION:PT1H
X-Robots-Tag:noindex
X-PUBLISHED-TTL:PT1H
BEGIN:VTIMEZONE
TZID:Europe/Madrid
BEGIN:DAYLIGHT
TZOFFSETFROM:+0100
TZOFFSETTO:+0200
TZNAME:CEST
DTSTART:20240331T010000
END:DAYLIGHT
BEGIN:STANDARD
TZOFFSETFROM:+0200
TZOFFSETTO:+0100
TZNAME:CET
DTSTART:20241027T010000
END:STANDARD
BEGIN:DAYLIGHT
TZOFFSETFROM:+0100
TZOFFSETTO:+0200
TZNAME:CEST
DTSTART:20250330T010000
END:DAYLIGHT
BEGIN:STANDARD
TZOFFSETFROM:+0200
TZOFFSETTO:+0100
TZNAME:CET
DTSTART:20251026T010000
END:STANDARD
BEGIN:DAYLIGHT
TZOFFSETFROM:+0100
TZOFFSETTO:+0200
TZNAME:CEST
DTSTART:20260329T010000
END:DAYLIGHT
BEGIN:STANDARD
TZOFFSETFROM:+0200
TZOFFSETTO:+0100
TZNAME:CET
DTSTART:20261025T010000
END:STANDARD
END:VTIMEZONE
BEGIN:VEVENT
DTSTART;TZID=Europe/Madrid:20251121T173000
DTEND;TZID=Europe/Madrid:20251121T203000
DTSTAMP:20260425T011703
CREATED:20251031T110046Z
LAST-MODIFIED:20251119T100059Z
UID:5971-1763746200-1763757000@plangalapagar.es
SUMMARY:Ocio Joven 21 de noviembre
DESCRIPTION:¡Nuevo plan de Ocio Joven! \nEl viernes 21 de noviembre habrá diversas actividades para los jóvenes que podrán elegir en función de sus intereses. \n\nZona activa:\n\nTaller «Sabores Sin Llama. Edición dulce». Podrás elaborar un postre individual tipo cheesecake en vaso. La receta combina una base triturada de galleta\, una crema suave a base de queso de untar\, yogur o nata vegetal y una cobertura al gusto (mermelada\, cacao o frutas). \nSe fomenta la manipulación de ingredientes seguros\, el montaje por capas y la personalización de sabores. La sesión incluye normas básicas de higiene\, manipulación individual o en pequeños grupos\, y se desarrolla en formato práctico y dinámico. \n– Grupo A (de 10 a 13 años). \n– Grupo B (de 14 a 17 años). \n\nZona ludoteca: ¡No te pierdas el juego Scattergories!\nZona libre: Utiliza el espacio de manera autónoma a través de los recursos abiertos.\n\n¡No te lo pierdas! Es gratis y las plazas son limitadas. \nHaz click en el botón «Me apunto» y reserva la tuya.
URL:https://plangalapagar.es/plan/ocio-joven-21-de-noviembre/
LOCATION:Punto Joven\, Guadarrama\, 68\, Galapagar\, Madrid\, 28260
CATEGORIES:Jóvenes
ATTACH;FMTTYPE=image/jpeg:https://plangalapagar.es/wp-content/uploads/2025/10/OJ_21N.jpg
END:VEVENT
END:VCALENDAR