BEGIN:VCALENDAR
VERSION:2.0
PRODID:-//Plan Galapagar - ECPv6.15.20//NONSGML v1.0//EN
CALSCALE:GREGORIAN
METHOD:PUBLISH
X-WR-CALNAME:Plan Galapagar
X-ORIGINAL-URL:https://plangalapagar.es
X-WR-CALDESC:Eventos para Plan Galapagar
REFRESH-INTERVAL;VALUE=DURATION:PT1H
X-Robots-Tag:noindex
X-PUBLISHED-TTL:PT1H
BEGIN:VTIMEZONE
TZID:Europe/Madrid
BEGIN:DAYLIGHT
TZOFFSETFROM:+0100
TZOFFSETTO:+0200
TZNAME:CEST
DTSTART:20240331T010000
END:DAYLIGHT
BEGIN:STANDARD
TZOFFSETFROM:+0200
TZOFFSETTO:+0100
TZNAME:CET
DTSTART:20241027T010000
END:STANDARD
BEGIN:DAYLIGHT
TZOFFSETFROM:+0100
TZOFFSETTO:+0200
TZNAME:CEST
DTSTART:20250330T010000
END:DAYLIGHT
BEGIN:STANDARD
TZOFFSETFROM:+0200
TZOFFSETTO:+0100
TZNAME:CET
DTSTART:20251026T010000
END:STANDARD
BEGIN:DAYLIGHT
TZOFFSETFROM:+0100
TZOFFSETTO:+0200
TZNAME:CEST
DTSTART:20260329T010000
END:DAYLIGHT
BEGIN:STANDARD
TZOFFSETFROM:+0200
TZOFFSETTO:+0100
TZNAME:CET
DTSTART:20261025T010000
END:STANDARD
END:VTIMEZONE
BEGIN:VEVENT
DTSTART;TZID=Europe/Madrid:20251128T173000
DTEND;TZID=Europe/Madrid:20251128T203000
DTSTAMP:20260425T011703
CREATED:20251031T110058Z
LAST-MODIFIED:20251016T101156Z
UID:5975-1764351000-1764361800@plangalapagar.es
SUMMARY:Ocio Joven 28 de noviembre
DESCRIPTION:¡Nuevo plan de Ocio Joven! \nEl viernes 28 de noviembre habrá diversas actividades para los jóvenes que podrán elegir en función de sus intereses. \n\nZona activa:\n\n– Grupo A (de 10 a 13 años). Llega la actividad «Reacción Challenge Kids: Imita y crea escenas virales». Actividad creativa en grupo basada en la observación y representación de escenas virales populares adaptadas (retos de TikTok\, memes físicos\, bailes o sketches cómicos). A partir de una selección de clips mostrados en pantalla\, podrás ensayar e interpretar versiones teatrales de forma libre\, sin grabación ni móviles. Se promueve la expresión corporal\, el humor\, la improvisación y el trabajo en equipo con dinámicas de observación\, repetición e interpretación gestual. \n– Grupo B (de 14 a 17 años). Llega la actividad «Torneo de Just Dance». Actividad lúdica basada en el videojuego Just Dance\, organizada en formato de torneo por turnos. Podrás competir de forma individual\, en dúo o por equipos\, replicando coreografías al ritmo de canciones populares. La selección musical y el nivel de dificultad se ajustan a cada franja de edad. Se fomenta el movimiento\, la coordinación rítmica\, la expresividad corporal y la socialización a través de la música. \n\nZona ludoteca: ¡No te pierdas el juego Pictionary!\nZona libre: Utiliza el espacio de manera autónoma a través de los recursos abiertos.\n\n¡No te lo pierdas! Es gratis y las plazas son limitadas. \nHaz click en el botón «Me apunto» y reserva la tuya.
URL:https://plangalapagar.es/plan/ocio-joven-28-de-noviembre/
LOCATION:Punto Joven\, Guadarrama\, 68\, Galapagar\, Madrid\, 28260
CATEGORIES:Jóvenes
ATTACH;FMTTYPE=image/jpeg:https://plangalapagar.es/wp-content/uploads/2025/10/OJ_28N.jpg
END:VEVENT
END:VCALENDAR