BEGIN:VCALENDAR
VERSION:2.0
PRODID:-//Plan Galapagar - ECPv6.15.20//NONSGML v1.0//EN
CALSCALE:GREGORIAN
METHOD:PUBLISH
X-WR-CALNAME:Plan Galapagar
X-ORIGINAL-URL:https://plangalapagar.es
X-WR-CALDESC:Eventos para Plan Galapagar
REFRESH-INTERVAL;VALUE=DURATION:PT1H
X-Robots-Tag:noindex
X-PUBLISHED-TTL:PT1H
BEGIN:VTIMEZONE
TZID:Europe/Madrid
BEGIN:DAYLIGHT
TZOFFSETFROM:+0100
TZOFFSETTO:+0200
TZNAME:CEST
DTSTART:20250330T010000
END:DAYLIGHT
BEGIN:STANDARD
TZOFFSETFROM:+0200
TZOFFSETTO:+0100
TZNAME:CET
DTSTART:20251026T010000
END:STANDARD
BEGIN:DAYLIGHT
TZOFFSETFROM:+0100
TZOFFSETTO:+0200
TZNAME:CEST
DTSTART:20260329T010000
END:DAYLIGHT
BEGIN:STANDARD
TZOFFSETFROM:+0200
TZOFFSETTO:+0100
TZNAME:CET
DTSTART:20261025T010000
END:STANDARD
BEGIN:DAYLIGHT
TZOFFSETFROM:+0100
TZOFFSETTO:+0200
TZNAME:CEST
DTSTART:20270328T010000
END:DAYLIGHT
BEGIN:STANDARD
TZOFFSETFROM:+0200
TZOFFSETTO:+0100
TZNAME:CET
DTSTART:20271031T010000
END:STANDARD
END:VTIMEZONE
BEGIN:VEVENT
DTSTART;TZID=Europe/Madrid:20260228T173000
DTEND;TZID=Europe/Madrid:20260228T203000
DTSTAMP:20260424T100114
CREATED:20260120T111750Z
LAST-MODIFIED:20260120T111750Z
UID:6688-1772299800-1772310600@plangalapagar.es
SUMMARY:Torneo de ping-pong
DESCRIPTION:Torneo Code Names\n  \n¡Nuevo plan de Ocio Joven! \nEl sábado 28 de febrero habrá diversas actividades para los jóvenes que podrán elegir en función de sus intereses. \n\nZona activa:\n\n– Grupo A (de 10 a 13 años): «Torneo de ping-pong». Actividad deportiva recreativa organizada en formato de torneo individual o por parejas. Se promueve la coordinación\, el respeto por las normas y el espíritu de juego limpio mediante enfrentamientos rotatorios o en eliminatoria. Puede adaptarse a distintos niveles de habilidad y tiempos de participación.  \n– Grupo B (de 14 a 17 años): «Torneo Code Names». No te pierdas este juego de mesa donde\, por equipos\, practicaremos la deducción y la comunicación estratégica. Deberás adivinar palabras clave a partir de pistas dadas por tu compañero/a. Actividad ideal para trabajar el vocabulario\, el pensamiento lateral y la cooperación entre iguales en un formato accesible y competitivo.  \n\nZona ludoteca: No te pierdas el juego ¡Toma 6!: Coloca cartas evitando penalizaciones.\nZona libre: Utiliza el espacio de manera autónoma a través de los recursos abiertos.\n\n¡No te lo pierdas! Es gratis y las plazas son limitadas. \nHaz click en el botón «Me apunto» y reserva la tuya.
URL:https://plangalapagar.es/plan/ocio-joven-280226/
LOCATION:Punto Joven\, Guadarrama\, 68\, Galapagar\, Madrid\, 28260
CATEGORIES:Jóvenes
ATTACH;FMTTYPE=image/jpeg:https://plangalapagar.es/wp-content/uploads/2026/01/OJ-28F.jpg
END:VEVENT
END:VCALENDAR