BEGIN:VCALENDAR
VERSION:2.0
PRODID:-//Plan Galapagar - ECPv6.15.20//NONSGML v1.0//EN
CALSCALE:GREGORIAN
METHOD:PUBLISH
X-WR-CALNAME:Plan Galapagar
X-ORIGINAL-URL:https://plangalapagar.es
X-WR-CALDESC:Eventos para Plan Galapagar
REFRESH-INTERVAL;VALUE=DURATION:PT1H
X-Robots-Tag:noindex
X-PUBLISHED-TTL:PT1H
BEGIN:VTIMEZONE
TZID:Europe/Madrid
BEGIN:DAYLIGHT
TZOFFSETFROM:+0100
TZOFFSETTO:+0200
TZNAME:CEST
DTSTART:20240331T010000
END:DAYLIGHT
BEGIN:STANDARD
TZOFFSETFROM:+0200
TZOFFSETTO:+0100
TZNAME:CET
DTSTART:20241027T010000
END:STANDARD
BEGIN:DAYLIGHT
TZOFFSETFROM:+0100
TZOFFSETTO:+0200
TZNAME:CEST
DTSTART:20250330T010000
END:DAYLIGHT
BEGIN:STANDARD
TZOFFSETFROM:+0200
TZOFFSETTO:+0100
TZNAME:CET
DTSTART:20251026T010000
END:STANDARD
BEGIN:DAYLIGHT
TZOFFSETFROM:+0100
TZOFFSETTO:+0200
TZNAME:CEST
DTSTART:20260329T010000
END:DAYLIGHT
BEGIN:STANDARD
TZOFFSETFROM:+0200
TZOFFSETTO:+0100
TZNAME:CET
DTSTART:20261025T010000
END:STANDARD
END:VTIMEZONE
BEGIN:VEVENT
DTSTART;TZID=Europe/Madrid:20251115T210000
DTEND;TZID=Europe/Madrid:20251115T233000
DTSTAMP:20260422T105717
CREATED:20251031T050028Z
LAST-MODIFIED:20251016T095515Z
UID:5959-1763240400-1763249400@plangalapagar.es
SUMMARY:Ocio Joven nocturno 15 de noviembre
DESCRIPTION:¿Tienes entre 12 y 17 años? \nEl sábado 15 de noviembre tendrá lugar una nueva actividad de Ocio Joven nocturno\, «Dale al play: Una noche para inventárselo todo». Tú y tu grupo seréis los creadores absolutos de vuestra propia escena\, ¡con la improvisación! \nEmpezamos con unas dinámicas donde aprenderás algunos trucos escénicos\, claves para perder la vergüenza y soltar la imaginación. Después\, prepararemos nuestra miniobra partiendo de elementos sorpresa\, con objetos inesperados y mucha creatividad. No hay guion\, no hay límites. Solo ingenio\, risas y trabajo en equipo. Al final\, cada grupo representará su improvisación ante los demás. \nNo te pierdas una noche diferente donde lo importante no es hacerlo perfecto\, sino atreverse\, reírse y pasarlo en grande. \nHaz click en el botón «Me apunto» y reserva tu plaza.
URL:https://plangalapagar.es/plan/ocio-joven-nocturno-15-de-noviembre/
LOCATION:Punto Joven\, Guadarrama\, 68\, Galapagar\, Madrid\, 28260
CATEGORIES:Jóvenes
ATTACH;FMTTYPE=image/jpeg:https://plangalapagar.es/wp-content/uploads/2025/10/OCIONOCTURNO_15N.jpg
END:VEVENT
END:VCALENDAR