BEGIN:VCALENDAR
VERSION:2.0
PRODID:-//Plan Galapagar - ECPv6.15.20//NONSGML v1.0//EN
CALSCALE:GREGORIAN
METHOD:PUBLISH
X-WR-CALNAME:Plan Galapagar
X-ORIGINAL-URL:https://plangalapagar.es
X-WR-CALDESC:Eventos para Plan Galapagar
REFRESH-INTERVAL;VALUE=DURATION:PT1H
X-Robots-Tag:noindex
X-PUBLISHED-TTL:PT1H
BEGIN:VTIMEZONE
TZID:Europe/Madrid
BEGIN:DAYLIGHT
TZOFFSETFROM:+0100
TZOFFSETTO:+0200
TZNAME:CEST
DTSTART:20220327T010000
END:DAYLIGHT
BEGIN:STANDARD
TZOFFSETFROM:+0200
TZOFFSETTO:+0100
TZNAME:CET
DTSTART:20221030T010000
END:STANDARD
BEGIN:DAYLIGHT
TZOFFSETFROM:+0100
TZOFFSETTO:+0200
TZNAME:CEST
DTSTART:20230326T010000
END:DAYLIGHT
BEGIN:STANDARD
TZOFFSETFROM:+0200
TZOFFSETTO:+0100
TZNAME:CET
DTSTART:20231029T010000
END:STANDARD
BEGIN:DAYLIGHT
TZOFFSETFROM:+0100
TZOFFSETTO:+0200
TZNAME:CEST
DTSTART:20240331T010000
END:DAYLIGHT
BEGIN:STANDARD
TZOFFSETFROM:+0200
TZOFFSETTO:+0100
TZNAME:CET
DTSTART:20241027T010000
END:STANDARD
END:VTIMEZONE
BEGIN:VEVENT
DTSTART;TZID=Europe/Madrid:20230626T110000
DTEND;TZID=Europe/Madrid:20230630T140000
DTSTAMP:20260421T185911
CREATED:20230614T094137Z
LAST-MODIFIED:20230614T094137Z
UID:2452-1687777200-1688133600@plangalapagar.es
SUMMARY:Plan Verano Joven 26-30 de junio
DESCRIPTION:¿Tienes entre 12 y 17 años? \n¡No te pierdas el Verano Joven en Galapagar y disfruta de las actividades que tenemos preparadas para jóvenes. \nDurante la semana del 26 al 30 de junio habrá diversos planes para que puedas disfrutar con tus amigos y amigas.  \n\nLunes 26 de junio: ¡Día de bienvenida! Habrá juegos de presentación\, conocimiento y distensión. Asimismo\, tendrá lugar un acuerdo normativo y una propuesta sobre las actividades que os gustaría hacer.\nMartes 27 de junio: Habrá un torneo de juegos de mesa.\nMiércoles 28 de junio: Con este calor\, vamos a refrescarnos un poquito\, ¿no? Te proponemos una gymkhana de agua. \nJueves 29 de junio: Cluedo «El misterio de la fábrica».\n\n¿Dónde y cuándo? El horario de actividades de lunes a jueves es de 11:00 a 14:00 horas en Punto Joven. Las actividades son gratuitas.  \n\nViernes 30 de junio: Segovia fotogénica\, cultural y divertida. De 10:30 a 18:00 horas. \n\nVen a disfrutar de un día chulo en Segovia. Conoceremos curiosidades de la ciudad y lugares de interés a través de una gymkhana fotográfica compartiendo experiencias. \n¿Cuál es el precio? Esta actividad es gratuita e incluye monitores\, seguro y transporte.  \n¡Dale al botón Me apunto y reserva tu plaza! Una vez inscrito\, recibirás un correo electrónico con la ficha de inscripción/autorización\, la cual deberás entregar debidamente cumplimentada en Punto Joven (de forma presencial) antes del día de comienzo de la actividad. \nLa inscripción incluye la reserva de plaza de las actividades de toda la semana en su horario correspondiente. Te deberás apuntar una sola vez para todas las actividades. \nLas inscripciones se cierran el próximo 22 de junio.  \n  \n 
URL:https://plangalapagar.es/plan/plan-verano-joven-26-30-de-junio/
LOCATION:Punto Joven\, Guadarrama\, 68\, Galapagar\, Madrid\, 28260
CATEGORIES:Jóvenes
ATTACH;FMTTYPE=image/jpeg:https://plangalapagar.es/wp-content/uploads/2023/06/Verano-Joven-1-26-al-30-Junio.jpg
END:VEVENT
END:VCALENDAR