BEGIN:VCALENDAR
VERSION:2.0
PRODID:-//Plan Galapagar - ECPv6.15.20//NONSGML v1.0//EN
CALSCALE:GREGORIAN
METHOD:PUBLISH
X-WR-CALNAME:Plan Galapagar
X-ORIGINAL-URL:https://plangalapagar.es
X-WR-CALDESC:Eventos para Plan Galapagar
REFRESH-INTERVAL;VALUE=DURATION:PT1H
X-Robots-Tag:noindex
X-PUBLISHED-TTL:PT1H
BEGIN:VTIMEZONE
TZID:Europe/Madrid
BEGIN:DAYLIGHT
TZOFFSETFROM:+0100
TZOFFSETTO:+0200
TZNAME:CEST
DTSTART:20250330T010000
END:DAYLIGHT
BEGIN:STANDARD
TZOFFSETFROM:+0200
TZOFFSETTO:+0100
TZNAME:CET
DTSTART:20251026T010000
END:STANDARD
BEGIN:DAYLIGHT
TZOFFSETFROM:+0100
TZOFFSETTO:+0200
TZNAME:CEST
DTSTART:20260329T010000
END:DAYLIGHT
BEGIN:STANDARD
TZOFFSETFROM:+0200
TZOFFSETTO:+0100
TZNAME:CET
DTSTART:20261025T010000
END:STANDARD
BEGIN:DAYLIGHT
TZOFFSETFROM:+0100
TZOFFSETTO:+0200
TZNAME:CEST
DTSTART:20270328T010000
END:DAYLIGHT
BEGIN:STANDARD
TZOFFSETFROM:+0200
TZOFFSETTO:+0100
TZNAME:CET
DTSTART:20271031T010000
END:STANDARD
END:VTIMEZONE
BEGIN:VEVENT
DTSTART;TZID=Europe/Madrid:20260212T180000
DTEND;TZID=Europe/Madrid:20260212T193000
DTSTAMP:20260424T083232
CREATED:20260120T110955Z
LAST-MODIFIED:20260120T110955Z
UID:6748-1770919200-1770924600@plangalapagar.es
SUMMARY:Planes en Madrid para jóvenes
DESCRIPTION:Gratis o casi\n  \nSi tienes entre 14 y 17 años\, ¡no te pierdas este plan! \nEl jueves 12 de febrero tendrá lugar el taller «Planes en Madrid para jóvenes. Gratis o casi». Descubre cómo encontrar actividades culturales\, rutas\, eventos y propuestas de ocio gratuitas o muy económicas en la Comunidad de Madrid. Incluye recomendaciones\, webs y apps útiles. \n¿Te lo vas a perder? \nEste plan es gratuito y las plazas son limitadas.  \nHaz click en el botón «Me apunto» y reserva la tuya. \n 
URL:https://plangalapagar.es/plan/planes-en-madrid-para-jovenes/
LOCATION:Punto Joven\, Guadarrama\, 68\, Galapagar\, Madrid\, 28260
CATEGORIES:Jóvenes
ATTACH;FMTTYPE=image/jpeg:https://plangalapagar.es/wp-content/uploads/2026/01/INFOJUVENIL_12F.jpg
END:VEVENT
END:VCALENDAR