BEGIN:VCALENDAR
VERSION:2.0
PRODID:-//Plan Galapagar - ECPv6.15.20//NONSGML v1.0//EN
CALSCALE:GREGORIAN
METHOD:PUBLISH
X-WR-CALNAME:Plan Galapagar
X-ORIGINAL-URL:https://plangalapagar.es
X-WR-CALDESC:Eventos para Plan Galapagar
REFRESH-INTERVAL;VALUE=DURATION:PT1H
X-Robots-Tag:noindex
X-PUBLISHED-TTL:PT1H
BEGIN:VTIMEZONE
TZID:Europe/Madrid
BEGIN:DAYLIGHT
TZOFFSETFROM:+0100
TZOFFSETTO:+0200
TZNAME:CEST
DTSTART:20240331T010000
END:DAYLIGHT
BEGIN:STANDARD
TZOFFSETFROM:+0200
TZOFFSETTO:+0100
TZNAME:CET
DTSTART:20241027T010000
END:STANDARD
BEGIN:DAYLIGHT
TZOFFSETFROM:+0100
TZOFFSETTO:+0200
TZNAME:CEST
DTSTART:20250330T010000
END:DAYLIGHT
BEGIN:STANDARD
TZOFFSETFROM:+0200
TZOFFSETTO:+0100
TZNAME:CET
DTSTART:20251026T010000
END:STANDARD
BEGIN:DAYLIGHT
TZOFFSETFROM:+0100
TZOFFSETTO:+0200
TZNAME:CEST
DTSTART:20260329T010000
END:DAYLIGHT
BEGIN:STANDARD
TZOFFSETFROM:+0200
TZOFFSETTO:+0100
TZNAME:CET
DTSTART:20261025T010000
END:STANDARD
END:VTIMEZONE
BEGIN:VEVENT
DTSTART;TZID=Europe/Madrid:20251011T103000
DTEND;TZID=Europe/Madrid:20251011T140000
DTSTAMP:20260420T123300
CREATED:20250925T083139Z
LAST-MODIFIED:20251003T063346Z
UID:5768-1760178600-1760191200@plangalapagar.es
SUMMARY:Ruta familiar 11 de octubre
DESCRIPTION:¿Te apetece un plan en familia? \n¡No te pierdas la ruta familiar en Manzanares del Real! \nSe trata de una salida durante la mañana del sábado 11 de octubre dirigida a familias con menores a partir de 6 años con el objetivo de conocer el patrimonio histórico de Manzanares el Real y el entorno natural del Parque Nacional de la Sierra de Guadarrama. \nLa actividad se estructura en dos bloques principales: \n\nVisita guiada al entorno histórico del Castillo de Manzanares el Real a través de una de las rutas gratuitas que ofrece la Oficina de Turismo en colaboración con guías profesionales. El recorrido incluye el exterior del Castillo de los Mendoza\, el puente medieval\, la iglesia\, el castillo viejo y otros elementos singulares del casco urbano. La duración aproximada es de 1\,5 – 2 horas.\nVisita al Centro de Visitantes La Pedriza\, donde se propone una parada educativa con materiales interactivos sobre geología\, fauna y flora de la zona\, complementada con una pequeña ruta interpretativa de baja dificultad en las inmediaciones (sendero accesible para familias). La duración estimada es de 1 a 1\,5 horas.\n\nEl punto de encuentro para esta actividad será delante de la oficina de Turismo en Manzanares el Real. \n*Se recomienda calzado cómodo\, agua\, algo de almuerzo y ropa adecuada al clima\, así como una mochila pequeña y protección solar. \n  \n¿Cómo me apunto? \nCumplimenta el formulario de inscripción para cada uno de los participantes que vayan a asistir a la actividad. \nEste plan es de pago y el precio por participante es de 1\,50 € que deberán ser ingresados en la cuenta de Servicios Psicoeducativos (ES25 3058 1907 0527 2050 5695)\, o a través de Bizum al teléfono 613 56 66 97 (RUBEN N.V). Puedes hacer un sólo pago para toda la familia y adjuntar el justificante de pago. \nHaz click en el botón «Me apunto» y reserva tu plaza.
URL:https://plangalapagar.es/plan/ruta-familiar-11-de-octubre/
CATEGORIES:Familiares
ATTACH;FMTTYPE=image/jpeg:https://plangalapagar.es/wp-content/uploads/2025/09/RUTASENFAMILIA-1.jpg
END:VEVENT
END:VCALENDAR