BEGIN:VCALENDAR
VERSION:2.0
PRODID:-//Plan Galapagar - ECPv6.15.20//NONSGML v1.0//EN
CALSCALE:GREGORIAN
METHOD:PUBLISH
X-WR-CALNAME:Plan Galapagar
X-ORIGINAL-URL:https://plangalapagar.es
X-WR-CALDESC:Eventos para Plan Galapagar
REFRESH-INTERVAL;VALUE=DURATION:PT1H
X-Robots-Tag:noindex
X-PUBLISHED-TTL:PT1H
BEGIN:VTIMEZONE
TZID:Europe/Madrid
BEGIN:DAYLIGHT
TZOFFSETFROM:+0100
TZOFFSETTO:+0200
TZNAME:CEST
DTSTART:20240331T010000
END:DAYLIGHT
BEGIN:STANDARD
TZOFFSETFROM:+0200
TZOFFSETTO:+0100
TZNAME:CET
DTSTART:20241027T010000
END:STANDARD
BEGIN:DAYLIGHT
TZOFFSETFROM:+0100
TZOFFSETTO:+0200
TZNAME:CEST
DTSTART:20250330T010000
END:DAYLIGHT
BEGIN:STANDARD
TZOFFSETFROM:+0200
TZOFFSETTO:+0100
TZNAME:CET
DTSTART:20251026T010000
END:STANDARD
BEGIN:DAYLIGHT
TZOFFSETFROM:+0100
TZOFFSETTO:+0200
TZNAME:CEST
DTSTART:20260329T010000
END:DAYLIGHT
BEGIN:STANDARD
TZOFFSETFROM:+0200
TZOFFSETTO:+0100
TZNAME:CET
DTSTART:20261025T010000
END:STANDARD
END:VTIMEZONE
BEGIN:VEVENT
DTSTART;TZID=Europe/Madrid:20251115T093000
DTEND;TZID=Europe/Madrid:20251115T163000
DTSTAMP:20260424T184535
CREATED:20251016T095115Z
LAST-MODIFIED:20251016T095115Z
UID:5988-1763199000-1763224200@plangalapagar.es
SUMMARY:Salida formativa 15 de noviembre
DESCRIPTION:¿Tienes entre 10 y 17 años? \n¡No te pierdas nuestra salida formativa al Museo Nacional de Ciencia y Tecnología (MUNCYT) en Alcobendas! \nTendrá lugar el sábado 15 de noviembre y está enfocada al descubrimiento científico y la cultura urbana. La actividad comienza con una visita al museo\, donde realizaremos un taller didáctico guiado por el propio equipo educativo del museo. \nTras la visita\, daremos un paseo urbano guiado por Alcobendas\, descubriendo elementos científicos aplicados a la ciudad (energía\, sostenibilidad\, estructuras\, transporte)\, con una dinámica final tipo «reto de observación» por grupos. \nSalida: desde Punto Joven de Galapagar a las 09:30 horas.  \nLlegada: a Punto Joven de Galapagar a las 16:30 horas.  \n*Traer ropa y calzado cómodo para caminar y moverte al aire libre.  Lleva agua\, almuerzo tipo picnic y protección solar. \n¡No te lo pierdas! \nEste plan es de pago y el precio es de 11\,50 € por persona que deberás ingresar en la cuenta de Servicios Psicoeducativos (ES25 3058 1907 0527 2050 5695). \nHaz click en el botón «Me apunto» y reserva tu plaza.
URL:https://plangalapagar.es/plan/salida-formativa-15-de-noviembre/
LOCATION:Punto Joven\, Guadarrama\, 68\, Galapagar\, Madrid\, 28260
CATEGORIES:Jóvenes
ATTACH;FMTTYPE=image/jpeg:https://plangalapagar.es/wp-content/uploads/2025/10/SALIDAFORMATIVA_15N.jpg
END:VEVENT
END:VCALENDAR