BEGIN:VCALENDAR
VERSION:2.0
PRODID:-//Plan Galapagar - ECPv6.15.20//NONSGML v1.0//EN
CALSCALE:GREGORIAN
METHOD:PUBLISH
X-WR-CALNAME:Plan Galapagar
X-ORIGINAL-URL:https://plangalapagar.es
X-WR-CALDESC:Eventos para Plan Galapagar
REFRESH-INTERVAL;VALUE=DURATION:PT1H
X-Robots-Tag:noindex
X-PUBLISHED-TTL:PT1H
BEGIN:VTIMEZONE
TZID:Europe/Madrid
BEGIN:DAYLIGHT
TZOFFSETFROM:+0100
TZOFFSETTO:+0200
TZNAME:CEST
DTSTART:20240331T010000
END:DAYLIGHT
BEGIN:STANDARD
TZOFFSETFROM:+0200
TZOFFSETTO:+0100
TZNAME:CET
DTSTART:20241027T010000
END:STANDARD
BEGIN:DAYLIGHT
TZOFFSETFROM:+0100
TZOFFSETTO:+0200
TZNAME:CEST
DTSTART:20250330T010000
END:DAYLIGHT
BEGIN:STANDARD
TZOFFSETFROM:+0200
TZOFFSETTO:+0100
TZNAME:CET
DTSTART:20251026T010000
END:STANDARD
BEGIN:DAYLIGHT
TZOFFSETFROM:+0100
TZOFFSETTO:+0200
TZNAME:CEST
DTSTART:20260329T010000
END:DAYLIGHT
BEGIN:STANDARD
TZOFFSETFROM:+0200
TZOFFSETTO:+0100
TZNAME:CET
DTSTART:20261025T010000
END:STANDARD
END:VTIMEZONE
BEGIN:VEVENT
DTSTART;TZID=Europe/Madrid:20251124T173000
DTEND;TZID=Europe/Madrid:20251124T193000
DTSTAMP:20260424T184532
CREATED:20251016T095828Z
LAST-MODIFIED:20251016T095828Z
UID:5955-1764005400-1764012600@plangalapagar.es
SUMMARY:Taller JOE 24 de noviembre
DESCRIPTION:¡Si tienes entre 16 y 30 años\, no te pierdas el taller «Portales\, redes y contactos: Cómo buscar empleo hoy» incluido dentro de las Jornadas de Orientación al Estudiante! \nEl lunes 24 de noviembre tendrá lugar este taller centrado en herramientas digitales y redes sociales para la búsqueda de empleo\, con enfoque en portales\, alertas\, creación de perfiles y networking básico. \nObjetivos:  \n\nAprender a utilizar portales de empleo.\nComprender el uso profesional de redes como LinkedIn.\nSaber cómo generar una red de contactos desde cero.\n\n  \nMetodología:  \n\nDemostración en vivo: Creación de alertas de empleo.\nActividad «Quién está en mi red»: Mapeo de contactos.\nTaller práctico: Crear o mejorar tu perfil en redes.\nCierre con plan de acción personalizado.\n\n  \n¿Qué recursos didácticos utilizarás? \n\nPortales de empleo\, LinkedIn\, Garantía Juvenil.\nOrdenadores con conexión o uso del móvil.\nManual de recursos online actualizado.\nFicha de planificación de búsqueda activa.\n\n  \n¡No te lo pierdas! Es gratis y las plazas son limitadas. \nHaz click en el botón «Me apunto» y reserva la tuya.
URL:https://plangalapagar.es/plan/taller-joe-24-de-noviembre/
LOCATION:Punto Joven\, Guadarrama\, 68\, Galapagar\, Madrid\, 28260
CATEGORIES:Jóvenes
ATTACH;FMTTYPE=image/jpeg:https://plangalapagar.es/wp-content/uploads/2025/10/JORNADAS_MENSUAL_24N.jpg
END:VEVENT
END:VCALENDAR