BEGIN:VCALENDAR
VERSION:2.0
PRODID:-//Plan Galapagar - ECPv6.15.20//NONSGML v1.0//EN
CALSCALE:GREGORIAN
METHOD:PUBLISH
X-WR-CALNAME:Plan Galapagar
X-ORIGINAL-URL:https://plangalapagar.es
X-WR-CALDESC:Eventos para Plan Galapagar
REFRESH-INTERVAL;VALUE=DURATION:PT1H
X-Robots-Tag:noindex
X-PUBLISHED-TTL:PT1H
BEGIN:VTIMEZONE
TZID:Europe/Madrid
BEGIN:DAYLIGHT
TZOFFSETFROM:+0100
TZOFFSETTO:+0200
TZNAME:CEST
DTSTART:20240331T010000
END:DAYLIGHT
BEGIN:STANDARD
TZOFFSETFROM:+0200
TZOFFSETTO:+0100
TZNAME:CET
DTSTART:20241027T010000
END:STANDARD
BEGIN:DAYLIGHT
TZOFFSETFROM:+0100
TZOFFSETTO:+0200
TZNAME:CEST
DTSTART:20250330T010000
END:DAYLIGHT
BEGIN:STANDARD
TZOFFSETFROM:+0200
TZOFFSETTO:+0100
TZNAME:CET
DTSTART:20251026T010000
END:STANDARD
BEGIN:DAYLIGHT
TZOFFSETFROM:+0100
TZOFFSETTO:+0200
TZNAME:CEST
DTSTART:20260329T010000
END:DAYLIGHT
BEGIN:STANDARD
TZOFFSETFROM:+0200
TZOFFSETTO:+0100
TZNAME:CET
DTSTART:20261025T010000
END:STANDARD
END:VTIMEZONE
BEGIN:VEVENT
DTSTART;TZID=Europe/Madrid:20251017T170000
DTEND;TZID=Europe/Madrid:20251017T190000
DTSTAMP:20260420T123519
CREATED:20250924T105049Z
LAST-MODIFIED:20250925T131744Z
UID:5745-1760720400-1760727600@plangalapagar.es
SUMMARY:Taller montaje de vídeos - Grupo 1
DESCRIPTION:¿Tienes entre 12 y 17 años? \n¡No te pierdas nuestro taller de montaje de vídeos! \nTendrás la oportunidad de aprender a crear vídeos personales y creativos utilizando DaVinci Resuelve\, un programa gratuito y profesional de edición de vídeo. \nPodrás trabajar en un proyecto personal. Por ejemplo\, un vídeo de tu último viaje\, un recuerdo con amigos o una recopilación de momentos especiales. Aprenderás a ordenar clips\, añadir música\, insertar transiciones y efectos y exportar tus vídeos con calidad profesional. \nTendrá lugar el viernes 17 de octubre y corresponde al grupo 1 (de 12 a 17 años) en horario de 17:00 a 19:00 horas.  \nEste plan es de pago y el precio es de 2\,50 € que deberás ingresar en la cuenta de Servicios Psicoeducativos (ES25 3058 1907 0527 2050 5695)\, o a través de Bizum al teléfono 613 56 66 97 (RUBEN N.V). \nHaz click en el botón «Me apunto» y reserva tu plaza.
URL:https://plangalapagar.es/plan/taller-montaje-de-videos-grupo-1/
LOCATION:Punto Joven\, Guadarrama\, 68\, Galapagar\, Madrid\, 28260
CATEGORIES:Jóvenes
ATTACH;FMTTYPE=image/jpeg:https://plangalapagar.es/wp-content/uploads/2025/09/MONTAJEVIDEO_G1.jpg
END:VEVENT
END:VCALENDAR