BEGIN:VCALENDAR
VERSION:2.0
PRODID:-//Plan Galapagar - ECPv6.15.20//NONSGML v1.0//EN
CALSCALE:GREGORIAN
METHOD:PUBLISH
X-WR-CALNAME:Plan Galapagar
X-ORIGINAL-URL:https://plangalapagar.es
X-WR-CALDESC:Eventos para Plan Galapagar
REFRESH-INTERVAL;VALUE=DURATION:PT1H
X-Robots-Tag:noindex
X-PUBLISHED-TTL:PT1H
BEGIN:VTIMEZONE
TZID:Europe/Madrid
BEGIN:DAYLIGHT
TZOFFSETFROM:+0100
TZOFFSETTO:+0200
TZNAME:CEST
DTSTART:20250330T010000
END:DAYLIGHT
BEGIN:STANDARD
TZOFFSETFROM:+0200
TZOFFSETTO:+0100
TZNAME:CET
DTSTART:20251026T010000
END:STANDARD
BEGIN:DAYLIGHT
TZOFFSETFROM:+0100
TZOFFSETTO:+0200
TZNAME:CEST
DTSTART:20260329T010000
END:DAYLIGHT
BEGIN:STANDARD
TZOFFSETFROM:+0200
TZOFFSETTO:+0100
TZNAME:CET
DTSTART:20261025T010000
END:STANDARD
BEGIN:DAYLIGHT
TZOFFSETFROM:+0100
TZOFFSETTO:+0200
TZNAME:CEST
DTSTART:20270328T010000
END:DAYLIGHT
BEGIN:STANDARD
TZOFFSETFROM:+0200
TZOFFSETTO:+0100
TZNAME:CET
DTSTART:20271031T010000
END:STANDARD
END:VTIMEZONE
BEGIN:VEVENT
DTSTART;TZID=Europe/Madrid:20260126T170000
DTEND;TZID=Europe/Madrid:20260615T180000
DTSTAMP:20260421T203636
CREATED:20260114T131704Z
LAST-MODIFIED:20260416T151216Z
UID:6691-1769446800-1781546400@plangalapagar.es
SUMMARY:TEAcompaño - Grupo 3
DESCRIPTION:¡Nuevo taller «TEAcompaño»\, un espacio de juego adaptado para niños con TEA! \nSe trata de una actividad semanal dirigida a niños y niñas con Trastorno del Espectro Autista (TEA) de 6 a 12 años\, especialmente aquellos con altos niveles de apoyo. Se ofrece un espacio tranquilo\, estructurado y seguro donde puedan explorar el juego\, interactuar a su ritmo y desarrollar habilidades socioemocionales mediante actividades sensoriales\, manipulativas y comunicativas. \nSerá un grupo muy reducido y contará con acompañamiento profesional especializado\, con posibilidad de presencia de un familiar si se considera necesario. \nCada sesión sigue la misma estructura\, garantizando previsibilidad y seguridad. Aún así\, el primer día (o los que sea necesario para que cada participante se sienta seguro) se recomienda que vengan acompañados de una persona de referencia que les aporte mayor seguridad y calma. \nDesarrollo de las sesiones: \n\n Bienvenida y anticipación visual (5 minutos):\n\n\nPanel visual con la secuencia de actividades.\nRutina inicial: saludo\, normas básicas\, transición suave.\nElección de tarjeta de emoción.\n\n\n Actividad sensorial o reguladora (10-15 minutos):\n\n\nMesa de luz\, bins sensoriales (arena\, arroz\, espuma\, pompones).\nPelotas\, peso profundo\, masaje relajante con pelotas táctiles.\n\n\n Actividad principal (20-25 minutos):\n\nRotación mensual de bloques temáticos: \n\nEnero: Juego simbólico adaptado (cocinitas\, muñecos\, animales).\nFebrero: Psicomotricidad suave (circuitos\, pelotas\, túneles).\nMarzo: Arte y creatividad adaptada (pintura sensorial\, texturas).\nAbril: Construcción y lógica (Lego grande\, encajables\, puzles).\nMayo: Música y ritmo (instrumentos simples\, vibración\, melodías).\n\n\n Relajación y cierre (10 minutos):\n\n\nMúsica suave\, rincón tranquilo\, respiraciones guiadas.\nRevisión visual de la sesión y despedida.\n\n  \nEste plan consta de tres grupos: El grupo 1 tendrá lugar los martes desde el 13 de enero hasta el 16 de junio de 17:00 a 18:00 horas según calendario escolar. El grupo 2 tendrá lugar los miércoles desde el 14 de enero hasta el 17 de junio de 17:00 a 18:00 horas según calendario escolar. El grupo 3 tendrá lugar los lunes desde el 12 de enero hasta el 15 de junio de 17:00 a 18:00 horas según calendario escolar. Este plan corresponde al grupo 3. \n¿Cómo me apunto? \n\nRealiza el pago de 23\,50 € al mes al mes en la cuenta de Servicios Psicoeducativos:\n\nIBAN: ES25 3058 1907 0527 2050 5695\nBizum: 613 56 66 97 (RUBEN N.V)\n\n\nHaz clic en el botón «Me apunto»\, rellena el formulario y adjunta el justificante de pago.\nSi deseas pagar varios meses juntos\, indícalo en el apartado de observaciones y adjunta el justificante correspondiente.\nPara pagos mes a mes\, realiza el pago antes del 25 del mes anterior y envía el justificante a: actividadesgalapagar@coeduca.es.\nPara darte de baja\, solicita la baja antes del 25 del mes anterior al correo actividadesgalapagar@coeduca.es.\n\nDevoluciones: \n\nSolo se realizarán si no se alcanza el mínimo de participantes o por causa de fuerza mayor debidamente justificada y previa valoración de la organización.
URL:https://plangalapagar.es/plan/teacompano-grupo-3/
LOCATION:Punto Joven\, Guadarrama\, 68\, Galapagar\, Madrid\, 28260
CATEGORIES:Infantil
ATTACH;FMTTYPE=image/jpeg:https://plangalapagar.es/wp-content/uploads/2026/01/TEA_G3.jpg
END:VEVENT
END:VCALENDAR