BEGIN:VCALENDAR
VERSION:2.0
PRODID:-//Plan Galapagar - ECPv6.15.20//NONSGML v1.0//EN
CALSCALE:GREGORIAN
METHOD:PUBLISH
X-WR-CALNAME:Plan Galapagar
X-ORIGINAL-URL:https://plangalapagar.es
X-WR-CALDESC:Eventos para Plan Galapagar
REFRESH-INTERVAL;VALUE=DURATION:PT1H
X-Robots-Tag:noindex
X-PUBLISHED-TTL:PT1H
BEGIN:VTIMEZONE
TZID:Europe/Madrid
BEGIN:DAYLIGHT
TZOFFSETFROM:+0100
TZOFFSETTO:+0200
TZNAME:CEST
DTSTART:20230326T010000
END:DAYLIGHT
BEGIN:STANDARD
TZOFFSETFROM:+0200
TZOFFSETTO:+0100
TZNAME:CET
DTSTART:20231029T010000
END:STANDARD
BEGIN:DAYLIGHT
TZOFFSETFROM:+0100
TZOFFSETTO:+0200
TZNAME:CEST
DTSTART:20240331T010000
END:DAYLIGHT
BEGIN:STANDARD
TZOFFSETFROM:+0200
TZOFFSETTO:+0100
TZNAME:CET
DTSTART:20241027T010000
END:STANDARD
BEGIN:DAYLIGHT
TZOFFSETFROM:+0100
TZOFFSETTO:+0200
TZNAME:CEST
DTSTART:20250330T010000
END:DAYLIGHT
BEGIN:STANDARD
TZOFFSETFROM:+0200
TZOFFSETTO:+0100
TZNAME:CET
DTSTART:20251026T010000
END:STANDARD
END:VTIMEZONE
BEGIN:VEVENT
DTSTART;TZID=Europe/Madrid:20240102T180000
DTEND;TZID=Europe/Madrid:20240102T193000
DTSTAMP:20260423T104131
CREATED:20231201T050009Z
LAST-MODIFIED:20231127T120054Z
UID:2960-1704218400-1704223800@plangalapagar.es
SUMMARY:Torneo Mario Kart navideño 2 de enero
DESCRIPTION:Tras el éxito del torneo veraniego de Mario Kart\, ¡lanzamos la edición navideña! \nPor ello\, el martes 2 de enero tendrá lugar el II Torneo de Mario Kart.  \n¿Qué mejor forma de empezar el año que ganando la Copa Champiñón\, la Copa Flor o la Copa Estrella? \n¡Empieza el año a lo grande y no te quedes sin tu plaza\, son limitadas y el precio es gratuito! \nSi tienes entre 12 y 30 años\, no te pierdas este plan. \nHaz click en el botón «Me apunto» y reserva la tuya. \n 
URL:https://plangalapagar.es/plan/torneo-mario-kart-navideno-2-de-enero/
LOCATION:Punto Joven\, Guadarrama\, 68\, Galapagar\, Madrid\, 28260
CATEGORIES:Jóvenes
ATTACH;FMTTYPE=image/jpeg:https://plangalapagar.es/wp-content/uploads/2023/11/MARIOKART_largo.jpg
END:VEVENT
END:VCALENDAR