BEGIN:VCALENDAR
VERSION:2.0
PRODID:-//Plan Galapagar - ECPv6.15.20//NONSGML v1.0//EN
CALSCALE:GREGORIAN
METHOD:PUBLISH
X-WR-CALNAME:Plan Galapagar
X-ORIGINAL-URL:https://plangalapagar.es
X-WR-CALDESC:Eventos para Plan Galapagar
REFRESH-INTERVAL;VALUE=DURATION:PT1H
X-Robots-Tag:noindex
X-PUBLISHED-TTL:PT1H
BEGIN:VTIMEZONE
TZID:Europe/Madrid
BEGIN:DAYLIGHT
TZOFFSETFROM:+0100
TZOFFSETTO:+0200
TZNAME:CEST
DTSTART:20240331T010000
END:DAYLIGHT
BEGIN:STANDARD
TZOFFSETFROM:+0200
TZOFFSETTO:+0100
TZNAME:CET
DTSTART:20241027T010000
END:STANDARD
BEGIN:DAYLIGHT
TZOFFSETFROM:+0100
TZOFFSETTO:+0200
TZNAME:CEST
DTSTART:20250330T010000
END:DAYLIGHT
BEGIN:STANDARD
TZOFFSETFROM:+0200
TZOFFSETTO:+0100
TZNAME:CET
DTSTART:20251026T010000
END:STANDARD
BEGIN:DAYLIGHT
TZOFFSETFROM:+0100
TZOFFSETTO:+0200
TZNAME:CEST
DTSTART:20260329T010000
END:DAYLIGHT
BEGIN:STANDARD
TZOFFSETFROM:+0200
TZOFFSETTO:+0100
TZNAME:CET
DTSTART:20261025T010000
END:STANDARD
END:VTIMEZONE
BEGIN:VEVENT
DTSTART;TZID=Europe/Madrid:20250514T180000
DTEND;TZID=Europe/Madrid:20250514T200000
DTSTAMP:20260425T011732
CREATED:20250424T113042Z
LAST-MODIFIED:20250424T113402Z
UID:5035-1747245600-1747252800@plangalapagar.es
SUMMARY:Trabajo en ocio y tiempo libre 14 de mayo
DESCRIPTION:¿Tienes entre 16 y 30 años? ¡No te pierdas nuestro taller sobre trabajo en el ocio y tiempo libre! \nEstá dirigido a jóvenes interesados en compatibilizar sus estudios con una experiencia laboral enriquecedora y flexible como es la figura del monitor de ocio y tiempo libre. Se presentarán diferentes salidas laborales (campamentos\, animación\, actividades extraescolares\, hoteles…)\, así como las competencias personales y profesionales que se desarrollan en este campo: liderazgo\, comunicación\, creatividad\, planificación\, trabajo en equipo\, etc. \nTambién se orientará sobre el acceso al empleo (CV\, documentación necesaria\, procesos de búsqueda de ofertas) y se fomentará una actitud activa\, empática y colaborativa. \nUn taller práctico\, divertido y útil para iniciarse en el mundo laboral. ¡No te lo pierdas! \nEs gratis y las plazas son limitadas. \nHaz click en el botón «Me apunto» y reserva tuya.
URL:https://plangalapagar.es/plan/trabajo-en-ocio-y-tiempo-libre-14-de-mayo/
LOCATION:Punto Joven\, Guadarrama\, 68\, Galapagar\, Madrid\, 28260
CATEGORIES:Jóvenes
ATTACH;FMTTYPE=image/jpeg:https://plangalapagar.es/wp-content/uploads/2025/04/JOE_OCIO_7M.jpg
END:VEVENT
END:VCALENDAR