BEGIN:VCALENDAR
VERSION:2.0
PRODID:-//Plan Galapagar - ECPv6.15.20//NONSGML v1.0//EN
CALSCALE:GREGORIAN
METHOD:PUBLISH
X-WR-CALNAME:Plan Galapagar
X-ORIGINAL-URL:https://plangalapagar.es
X-WR-CALDESC:Eventos para Plan Galapagar
REFRESH-INTERVAL;VALUE=DURATION:PT1H
X-Robots-Tag:noindex
X-PUBLISHED-TTL:PT1H
BEGIN:VTIMEZONE
TZID:Europe/Madrid
BEGIN:DAYLIGHT
TZOFFSETFROM:+0100
TZOFFSETTO:+0200
TZNAME:CEST
DTSTART:20220327T010000
END:DAYLIGHT
BEGIN:STANDARD
TZOFFSETFROM:+0200
TZOFFSETTO:+0100
TZNAME:CET
DTSTART:20221030T010000
END:STANDARD
BEGIN:DAYLIGHT
TZOFFSETFROM:+0100
TZOFFSETTO:+0200
TZNAME:CEST
DTSTART:20230326T010000
END:DAYLIGHT
BEGIN:STANDARD
TZOFFSETFROM:+0200
TZOFFSETTO:+0100
TZNAME:CET
DTSTART:20231029T010000
END:STANDARD
BEGIN:DAYLIGHT
TZOFFSETFROM:+0100
TZOFFSETTO:+0200
TZNAME:CEST
DTSTART:20240331T010000
END:DAYLIGHT
BEGIN:STANDARD
TZOFFSETFROM:+0200
TZOFFSETTO:+0100
TZNAME:CET
DTSTART:20241027T010000
END:STANDARD
END:VTIMEZONE
BEGIN:VEVENT
DTSTART;TZID=Europe/Madrid:20230505T170000
DTEND;TZID=Europe/Madrid:20230505T200000
DTSTAMP:20260424T003640
CREATED:20230501T040025Z
LAST-MODIFIED:20230424T083738Z
UID:10000159-1683306000-1683316800@plangalapagar.es
SUMMARY:Diverteca 5 de mayo
DESCRIPTION:¡Nueva actividad para los más peques de la casa! \nEl próximo viernes 5 de mayo tendrá lugar la actividad «Tarjetas rasca y gana para la mejor madre del mundo». Realizaremos una preciosa tarjeta con sorpresas para recordarle a nuestra mamá que la queremos mucho\, mucho\, mucho. \n¡No te pierdas este plan\, es gratis y las plazas son limitadas! \nDale al botón Me apunto.
URL:https://plangalapagar.es/plan/diverteca-5-de-mayo/
LOCATION:Punto Joven\, Guadarrama\, 68\, Galapagar\, Madrid\, 28260
CATEGORIES:Infantil
ATTACH;FMTTYPE=image/jpeg:https://plangalapagar.es/wp-content/uploads/2023/04/05-05.jpg
END:VEVENT
BEGIN:VEVENT
DTSTART;TZID=Europe/Madrid:20230506T173000
DTEND;TZID=Europe/Madrid:20230506T203000
DTSTAMP:20260424T003640
CREATED:20230501T040047Z
LAST-MODIFIED:20230504T120426Z
UID:10000160-1683394200-1683405000@plangalapagar.es
SUMMARY:Ocio Joven 6 de mayo
DESCRIPTION:Esta semana llega una nueva actividad para jóvenes. ¿Te la vas a perder? \nEn esta ocasión\, el próximo sábado 6 de mayo habrá un taller de educación afectiva. Puedes recibir información y resolver todas tus dudas. \n¡No te pierdas este plan! \nEs gratis y las plazas son limitadas.  \n¡Dale al botón Me apunto!
URL:https://plangalapagar.es/plan/ocio-joven-6-de-mayo/
LOCATION:Punto Joven\, Guadarrama\, 68\, Galapagar\, Madrid\, 28260
CATEGORIES:Jóvenes
ATTACH;FMTTYPE=image/jpeg:https://plangalapagar.es/wp-content/uploads/2023/05/06-05.jpg
END:VEVENT
BEGIN:VEVENT
DTSTART;TZID=Europe/Madrid:20230512T170000
DTEND;TZID=Europe/Madrid:20230512T200000
DTSTAMP:20260424T003640
CREATED:20230508T040007Z
LAST-MODIFIED:20230511T073354Z
UID:10000161-1683910800-1683921600@plangalapagar.es
SUMMARY:Diverteca 12 de mayo
DESCRIPTION:¡Nueva actividad para niños y niñas! \nVen a celebrar con nosotros el Día Internacional de las Familias el próximo viernes 12 de mayo. Todas las familias son únicas y especiales. Por eso\, este día contaremos un cuento y crearemos nuestro árbol familiar. \n¡No te pierdas este plan! \nEs gratis y las plazas son limitadas. \n¡Dale al botón Me apunto!
URL:https://plangalapagar.es/plan/diverteca-12-de-mayo/
LOCATION:Punto Joven\, Guadarrama\, 68\, Galapagar\, Madrid\, 28260
CATEGORIES:Infantil
ATTACH;FMTTYPE=image/jpeg:https://plangalapagar.es/wp-content/uploads/2023/04/12-05.jpg
END:VEVENT
BEGIN:VEVENT
DTSTART;TZID=Europe/Madrid:20230513T173000
DTEND;TZID=Europe/Madrid:20230513T203000
DTSTAMP:20260424T003640
CREATED:20230508T040014Z
LAST-MODIFIED:20230424T091248Z
UID:10000164-1683999000-1684009800@plangalapagar.es
SUMMARY:Ocio Joven 13 de mayo
DESCRIPTION:¡Nueva actividad para jóvenes! \nEl próximo sábado 13 de mayo tendrá lugar la actividad «Minionrelajación». Si vamos tranquilos/as a los exámenes siempre es mejor. Por ello\, este día aprenderemos una serie de técnicas de relajación y realizaremos pelotas antiestrés.  \n¿Te lo vas a perder? \nEs gratis y las plazas son limitadas. \n¡Dale al botón Me apunto!
URL:https://plangalapagar.es/plan/ocio-joven-13-de-mayo/
LOCATION:Punto Joven\, Guadarrama\, 68\, Galapagar\, Madrid\, 28260
CATEGORIES:Jóvenes
ATTACH;FMTTYPE=image/jpeg:https://plangalapagar.es/wp-content/uploads/2023/04/13-05.jpg
END:VEVENT
BEGIN:VEVENT
DTSTART;TZID=Europe/Madrid:20230519T170000
DTEND;TZID=Europe/Madrid:20230519T200000
DTSTAMP:20260424T003640
CREATED:20230515T040014Z
LAST-MODIFIED:20230424T085623Z
UID:10000162-1684515600-1684526400@plangalapagar.es
SUMMARY:Diverteca 19 de mayo
DESCRIPTION:¡Celebra con nosotros San Isidro! \nEl próximo viernes 19 de mayo\, en conmemoración a la tradicional fiesta de San Isidro que se celebra el 15 de mayo\, realizaremos claveles de papel\, aprenderemos a bailar el chotis y descubriremos con juegos curiosidades y tradiciones de esta fiesta. \n¿Te lo vas a perder? \nEs gratis y las plazas son limitadas.  \n¡Dale al botón Me apunto!
URL:https://plangalapagar.es/plan/diverteca-19-de-mayo/
LOCATION:Punto Joven\, Guadarrama\, 68\, Galapagar\, Madrid\, 28260
CATEGORIES:Infantil
ATTACH;FMTTYPE=image/jpeg:https://plangalapagar.es/wp-content/uploads/2023/04/19-05.jpg
END:VEVENT
BEGIN:VEVENT
DTSTART;TZID=Europe/Madrid:20230520T173000
DTEND;TZID=Europe/Madrid:20230520T203000
DTSTAMP:20260424T003640
CREATED:20230515T040020Z
LAST-MODIFIED:20230424T092410Z
UID:10000165-1684603800-1684614600@plangalapagar.es
SUMMARY:Ocio Joven 20 de mayo
DESCRIPTION:¡Nueva actividad para jóvenes! \nEl próximo sábado 20 de mayo habrá una Gymkhana fotográfica por Galapagar. Simulando las redes\, ya que no las podemos compartir… Realiza fotos de instagramer según las indicaciones y recibe muchos likes personales del resto de participantes. \n¿A que suena divertido? No te pierdas este plan. \n¡Es gratis y las plazas son limitadas! \nDale al botón Me apunto.
URL:https://plangalapagar.es/plan/ocio-joven-20-de-mayo/
LOCATION:Madrid
CATEGORIES:Jóvenes
ATTACH;FMTTYPE=image/jpeg:https://plangalapagar.es/wp-content/uploads/2023/04/20-05.jpg
END:VEVENT
BEGIN:VEVENT
DTSTART;TZID=Europe/Madrid:20230526T170000
DTEND;TZID=Europe/Madrid:20230526T200000
DTSTAMP:20260424T003640
CREATED:20230522T040017Z
LAST-MODIFIED:20230524T103755Z
UID:10000163-1685120400-1685131200@plangalapagar.es
SUMMARY:Diverteca 26 de mayo
DESCRIPTION:Debido al mal tiempo y las lluvias\, se ha cambiado la actividad de Diverteca de la excursión al Parque del Toril por un taller de pintura.  \nPintaremos de una manera diferente\, con espuma de afeitar\, cola y colorante y desarrollaremos nuestras habilidades artísticas. \n¿Te la vas a perder? \nEs gratis y las plazas son limitadas.
URL:https://plangalapagar.es/plan/diverteca-26-de-mayo/
LOCATION:Punto Joven\, Guadarrama\, 68\, Galapagar\, Madrid\, 28260
CATEGORIES:Infantil
ATTACH;FMTTYPE=image/jpeg:https://plangalapagar.es/wp-content/uploads/2023/05/espuma-portada-copia.jpg
END:VEVENT
BEGIN:VEVENT
DTSTART;TZID=Europe/Madrid:20230527T173000
DTEND;TZID=Europe/Madrid:20230527T203000
DTSTAMP:20260424T003640
CREATED:20230522T040051Z
LAST-MODIFIED:20230424T093355Z
UID:10000166-1685208600-1685219400@plangalapagar.es
SUMMARY:Ocio Joven 27 de mayo
DESCRIPTION:Terminamos el mes de mayo con la actividad «Party» para jóvenes. \nEl próximo sábado 27 de mayo puedes demostrar tus habilidades dibujando sin ver\, dando forma a los flexipaguetis\, tarareando\, haciendo mímica… \n¿Te la vas a perder? \nEs gratis y las plazas son limitadas.   \n¡Dale al botón Me apunto!
URL:https://plangalapagar.es/plan/ocio-joven-27-de-mayo/
LOCATION:Punto Joven\, Guadarrama\, 68\, Galapagar\, Madrid\, 28260
CATEGORIES:Jóvenes
ATTACH;FMTTYPE=image/jpeg:https://plangalapagar.es/wp-content/uploads/2023/04/27-05.jpg
END:VEVENT
END:VCALENDAR