BEGIN:VCALENDAR
VERSION:2.0
PRODID:-//Plan Galapagar - ECPv6.15.20//NONSGML v1.0//EN
CALSCALE:GREGORIAN
METHOD:PUBLISH
X-ORIGINAL-URL:https://plangalapagar.es
X-WR-CALDESC:Eventos para Plan Galapagar
REFRESH-INTERVAL;VALUE=DURATION:PT1H
X-Robots-Tag:noindex
X-PUBLISHED-TTL:PT1H
BEGIN:VTIMEZONE
TZID:Europe/Madrid
BEGIN:DAYLIGHT
TZOFFSETFROM:+0100
TZOFFSETTO:+0200
TZNAME:CEST
DTSTART:20230326T010000
END:DAYLIGHT
BEGIN:STANDARD
TZOFFSETFROM:+0200
TZOFFSETTO:+0100
TZNAME:CET
DTSTART:20231029T010000
END:STANDARD
BEGIN:DAYLIGHT
TZOFFSETFROM:+0100
TZOFFSETTO:+0200
TZNAME:CEST
DTSTART:20240331T010000
END:DAYLIGHT
BEGIN:STANDARD
TZOFFSETFROM:+0200
TZOFFSETTO:+0100
TZNAME:CET
DTSTART:20241027T010000
END:STANDARD
BEGIN:DAYLIGHT
TZOFFSETFROM:+0100
TZOFFSETTO:+0200
TZNAME:CEST
DTSTART:20250330T010000
END:DAYLIGHT
BEGIN:STANDARD
TZOFFSETFROM:+0200
TZOFFSETTO:+0100
TZNAME:CET
DTSTART:20251026T010000
END:STANDARD
END:VTIMEZONE
BEGIN:VEVENT
DTSTART;TZID=Europe/Madrid:20240215T180000
DTEND;TZID=Europe/Madrid:20240321T193000
DTSTAMP:20260423T104045
CREATED:20240201T103743Z
LAST-MODIFIED:20240201T103743Z
UID:10000273-1708020000-1711049400@plangalapagar.es
SUMMARY:Programa Tecno Profes
DESCRIPTION:Apúntate al Programa “Conectando Generaciones” y enseña a personas mayores a usar los diferentes dispositivos electrónicos. La cosa más sencilla de hacer con el móvil para ti\, para ellos es un mundo. ¡Ayúdales a hacer su vida más fácil! \n¿En qué consiste? Para convertiros en “tecno-profes” tendréis que venir a las sesiones preparatorias\, exclusivas para jóvenes\, el 15\, 22 y 29 de febrero. Si no puedes asistir a una\, ¡no te preocupes! Siempre puedes unirte en la siguiente sesión. En ellas organizaremos las intervenciones con los “Sabios”\, diseñaremos juntos una guía de uso de móviles\, aprenderemos habilidades para comunicarnos y decidiremos el mejor método para compartir todo lo que sabemos. \nLas sesiones prácticas con “los sabios” se desarrollarán los jueves 7\, 14 y 21 de marzo una vez que hayamos formado el grupo de “tecno-profes”. \nSolo necesitas tu propio móvil y ganas de compartir todo lo que sabes con unas generaciones que nos han dado mucho. \n¡Convierte a los más mayores del pueblo en Tecno Sabios! \n¡No te pierdas este plan\, es gratis y las plazas son limitadas! \nHaz click en el botón «Me apunto» y reserva la tuya.
URL:https://plangalapagar.es/plan/programa-tecno-profes/
LOCATION:Punto Joven\, Guadarrama\, 68\, Galapagar\, Madrid\, 28260
CATEGORIES:Jóvenes
ATTACH;FMTTYPE=image/jpeg:https://plangalapagar.es/wp-content/uploads/2024/01/CONGEN-TECNOPROFES.jpg
END:VEVENT
BEGIN:VEVENT
DTSTART;TZID=Europe/Madrid:20240301T173000
DTEND;TZID=Europe/Madrid:20240301T203000
DTSTAMP:20260423T104045
CREATED:20240226T050003Z
LAST-MODIFIED:20240226T120455Z
UID:10000278-1709314200-1709325000@plangalapagar.es
SUMMARY:Diverteca 1 de marzo
DESCRIPTION:¡Nuevo plan de diverteca para peques de 3 a 9 años! \nEl próximo viernes 1 de marzo tendrá lugar la actividad «Iguales y diferentes» en Punto Joven.  \nElmer es el elefante favorito de los más pequeños. Y es que en la selva no hay otro como él. Sus colores vivos lo hacen distinto de los demás. Con sus divertidas historias aprenderemos que todos nosotros somos tan especiales como él. Trabajaremos valores como la solidaridad\, el respeto y la amistad a través de juegos y\, además\, realizaremos nuestro propio elefante-vidriera con nuestros colores favoritos. \n¿Te lo vas a perder? \n¡Es gratis y las plazas son limitadas! \nHaz click en el botón «Me apunto» y reserva la tuya.
URL:https://plangalapagar.es/plan/diverteca-1-de-marzo/
LOCATION:Punto Joven\, Guadarrama\, 68\, Galapagar\, Madrid\, 28260
CATEGORIES:Infantil
ATTACH;FMTTYPE=image/jpeg:https://plangalapagar.es/wp-content/uploads/2024/02/DV-MAR-1.jpg
END:VEVENT
BEGIN:VEVENT
DTSTART;TZID=Europe/Madrid:20240302T173000
DTEND;TZID=Europe/Madrid:20240302T203000
DTSTAMP:20260423T104045
CREATED:20240215T050024Z
LAST-MODIFIED:20240222T094339Z
UID:10000269-1709400600-1709411400@plangalapagar.es
SUMMARY:Ocio Joven 2 de marzo
DESCRIPTION:¡Nuevo plan para jóvenes! «Cluedo en vivo con Escape Room».  \nEl sábado 2 de marzo se presenta un nuevo misterio a resolver en Punto Joven. Galapito ha desaparecido\, y los jóvenes de Galapagar son los principales sospechosos. \nSolo tú puedes averiguar lo que pasó realmente y demostrar que no son los jóvenes los culpables\, sino la solución. Pero… ¿Cómo lo harás? Ven a Punto Joven y sumérgete en esta historia. \n¿Quiénes son los personajes? Vosotros mismos. El Cluedo en vivo es un juego de inmersión en el que cada jugador ha de adoptar la personalidad de uno de los personajes que componen la trama de la historia. \nNo perdáis de vista el objetivo\, resolver el crimen. Tendréis que poner a prueba vuestro ingenio para resolverlo. Además\, para conseguir nuevas pistas\, tendréis varias pruebas\, estilo escape room\, que deberéis descifrar. ¿Crees que eres capaz de resolver el misterio? \n¡No te pierdas este plan! Es gratis y las plazas son limitadas. \nHaz click en el botón «Me apunto» y reserva la tuya. \n 
URL:https://plangalapagar.es/plan/ocio-joven-2-de-marzo/
LOCATION:Punto Joven\, Guadarrama\, 68\, Galapagar\, Madrid\, 28260
CATEGORIES:Jóvenes
ATTACH;FMTTYPE=image/jpeg:https://plangalapagar.es/wp-content/uploads/2024/02/OJ-MAR-2.jpg
END:VEVENT
BEGIN:VEVENT
DTSTART;TZID=Europe/Madrid:20240306T180000
DTEND;TZID=Europe/Madrid:20240306T193000
DTSTAMP:20260423T104045
CREATED:20240201T104812Z
LAST-MODIFIED:20240201T104812Z
UID:10000277-1709748000-1709753400@plangalapagar.es
SUMMARY:Comunica-t 6 de marzo
DESCRIPTION:¿Tienes entre 12 y 30 años? \nLlega la sesión comunica-t: «Grupos\, familia y pareja». \nNo queremos red flags en nuestra vida social. En esta sesión veremos cómo comunicarnos de una manera asertiva en grupo\, con familia o pareja. Veremos también cómo confrontar comunicaciones verbales violentas cuando las recibimos. \nHabrá role-playing\, juegos y dinámicas diferentes para poner en práctica todo lo aprendido. \n¡No te pierdas este plan\, es gratis y las plazas son limitadas! \nHaz click en el botón «Me apunto» y reserva la tuya. \nRecuerda que debes apuntarte individualmente a cada taller\, por si no puedes acudir a todos.
URL:https://plangalapagar.es/plan/comunica-t-6-de-marzo/
LOCATION:Punto Joven\, Guadarrama\, 68\, Galapagar\, Madrid\, 28260
CATEGORIES:Jóvenes
ATTACH;FMTTYPE=image/jpeg:https://plangalapagar.es/wp-content/uploads/2024/01/COMUT3.jpg
END:VEVENT
BEGIN:VEVENT
DTSTART;TZID=Europe/Madrid:20240307T180000
DTEND;TZID=Europe/Madrid:20240321T193000
DTSTAMP:20260423T104045
CREATED:20240207T091820Z
LAST-MODIFIED:20240207T091820Z
UID:10000274-1709834400-1711049400@plangalapagar.es
SUMMARY:Programa Tecno Sabios
DESCRIPTION:Los tiempos cambian. Horas y horas hablando por teléfono con seres queridos\, amigas o amigos. ¿Por qué no dar un paso más y verlos en vídeo en directo mientras habláis? La videollamada la llaman ahora los jóvenes y son ellos/as los que os pueden enseñar cómo hacerlo. \nAprende a usar el móvil\, la tablet\, un ordenador o un reloj inteligente. Gestiona citas médicas\, accede al horario del transporte público o aprende a hacer fotos y vídeos con el móvil. \n¿En qué consiste el programa? En una serie de sesiones presenciales en Punto Joven de Galapagar. En ellas os enseñarán a usar vuestros propios dispositivos electrónicos como móviles u ordenadores. \nEl programa abarca desde funciones sencillas como subir o bajar el volumen del teléfono o aprender a desbloquearlo\, hasta otras más complejas como usar distintas aplicaciones\, gestionar citas médicas\, usar WhatsApp\, hacer videollamadas\, escuchar música o ver vídeos en youtube. \nVuestros profes serán diferentes jóvenes del municipio. Serán ellos/as quienes os enseñen todo lo que saben\, quienes preparen las guías que usaréis y a quienes preguntarles todas las dudas que tengáis. Porque…\, ¿quién mejor que ellos/as que pasan horas y horas delante de las pantallas? \nAl final de cada sesión nos gustaría que fuerais vosotros/as los que compartáis con los jóvenes diferentes historias\, hazañas\, experiencias\, historias u otro tipo de conocimientos\, y con ello demostrarle a los jóvenes que había una vida antes de las pantallas digitales y que la sigue habiendo hoy en día. \n¿Qué necesitáis traer? Para convertiros en “Los Sabios”\, necesitaréis tener muchas ganas de aprender de los jóvenes\, compartir experiencias y pasar un buen rato. Además\, deberéis traer vuestro propio dispositivo electrónico que queráis aprender a usar\, ya sea móvil\, tablet\, reloj digital u ordenador. \nSabemos que sois sabios en muchos aspectos\, así que solo falta que os convirtáis en “Tecno Sabios”. \n¿Cuándo? El 7\, 14 y 21 de marzo.  \n¡Anímate y apúntate al programa\, es gratis y las plazas son limitadas! \nHaz click en el botón «Me apunto» y reserva la tuya. También puedes hacerlo de forma presencial en Punto Joven. \n 
URL:https://plangalapagar.es/plan/programa-tecno-sabios/
LOCATION:Punto Joven\, Guadarrama\, 68\, Galapagar\, Madrid\, 28260
CATEGORIES:Familiares
ATTACH;FMTTYPE=image/jpeg:https://plangalapagar.es/wp-content/uploads/2024/01/CONGEN-TECNOSABIOS-1.jpg
END:VEVENT
BEGIN:VEVENT
DTSTART;TZID=Europe/Madrid:20240308T173000
DTEND;TZID=Europe/Madrid:20240308T203000
DTSTAMP:20260423T104045
CREATED:20240304T050047Z
LAST-MODIFIED:20240226T120823Z
UID:10000279-1709919000-1709929800@plangalapagar.es
SUMMARY:Diverteca 8 de marzo
DESCRIPTION:¡Nuevo plan para los peques! ¿Tienes entre 3 y 9 años? \nEl próximo viernes 8 de marzo tendrá lugar la actividad «Las fallas» en Punto Joven.  \nLa palabra «falla» deriva del latín «fácula»\, que significa antorcha. Como no nos podemos ir a Valencia en una tarde\, crearemos nuestro propio Ninot en miniatura con materiales reciclados y todos serán indultados para evitar su quema y llevárnoslo a casa de recuerdo. \n¿Te lo vas a perder? \n¡Es gratis y las plazas son limitadas! \nHaz click en el botón «Me apunto» y reserva la tuya.
URL:https://plangalapagar.es/plan/diverteca-8-de-marzo/
LOCATION:Punto Joven\, Guadarrama\, 68\, Galapagar\, Madrid\, 28260
CATEGORIES:Infantil
ATTACH;FMTTYPE=image/jpeg:https://plangalapagar.es/wp-content/uploads/2024/03/DV-MAR-8.jpg
END:VEVENT
BEGIN:VEVENT
DTSTART;TZID=Europe/Madrid:20240308T180000
DTEND;TZID=Europe/Madrid:20240327T193000
DTSTAMP:20260423T104045
CREATED:20240301T050047Z
LAST-MODIFIED:20240229T150728Z
UID:10000287-1709920800-1711567800@plangalapagar.es
SUMMARY:"Game Master": Aprende a crear juegos en vivo
DESCRIPTION:¿Te gustan los escape room y los cluedos en vivo? ¡No te pierdas «Game Master»: Aprende a crear juegos en vivo! \nSeguro que más de una vez has pensado en cómo los habrán organizado. ¿Cómo se crean las pruebas? ¿Cómo se desarrolla la historia? \nConviértete en todo un «Game Master» y aprende a organizar tus propios cluedos en vivo y escape rooms. Organízalos para tu familia o amigos\, ¡y déjales con la boca abierta a todos! \nEl programa costa de 3 sesiones preparatorias que tendrán lugar los viernes 8\, 15 y 22 de marzo y 2 sesiones prácticas (martes 26 y miércoles 27 de marzo) donde por equipos pondréis en práctica todo lo aprendido. \nSesión 1 – Viernes 8 de marzo: Inicio a los juegos en vivo \nQué son\, qué tipos hay y cómo desarrollarlos. Herramientas\, tipos de pruebas y cómo crearlas. \nSesión 2 – Viernes 15 de marzo: Habilidades\, destrezas y herramientas \nHabilidades y destrezas necesarias para ser «Game Master». Organización por equipos para desarrollar un juego propio en vivo a su elección. \nSesión 3 – Viernes 22 de marzo: Preparación del juego de cada equipo \nPor equipos\, prepararéis la historia y el tipo de juego que queréis desarrollar. Prepara las pruebas\, las pistas y las herramientas necesarias. \nSesión 5 y 6 – Martes 26 y miércoles 27 de marzo: Puesta en práctica para que el resto de compañeros jueguen \nEn estas dos sesiones\, cada equipo desarrollará su juego y el resto de compañeros jugará. Posteriormente\, se hará entrega de un diploma a cada uno de los participantes como «Game master juvenil». \n¡No te pierdas este plan. Es gratis y las plazas son limitadas! \nEsta actividad tendrá lugar en Punto Joven en la sala buhardilla. \nHaz click en el botón «Me apunto» y reserva la tuya.
URL:https://plangalapagar.es/plan/game-master-aprende-a-crear-juegos-en-vivo/
LOCATION:Punto Joven\, Guadarrama\, 68\, Galapagar\, Madrid\, 28260
CATEGORIES:Jóvenes
ATTACH;FMTTYPE=image/jpeg:https://plangalapagar.es/wp-content/uploads/2024/03/GAMEMASTERplanunico.jpg
END:VEVENT
BEGIN:VEVENT
DTSTART;TZID=Europe/Madrid:20240309T173000
DTEND;TZID=Europe/Madrid:20240309T203000
DTSTAMP:20260423T104045
CREATED:20240301T050029Z
LAST-MODIFIED:20240226T121015Z
UID:10000280-1710005400-1710016200@plangalapagar.es
SUMMARY:Ocio Joven 9 de marzo
DESCRIPTION:¡Nuevo plan para jóvenes de 10 a 17 años! \nEl próximo sábado 9 de marzo tendrá lugar la actividad «Taller de chapas» en Punto Joven. \nDiseñarás tu propia chapa\, dibujando\, pintando y personalizándola de la manera que más te guste para luego convertir esa creación en una chapa de verdad y poder ponerla en tus prendas favoritas. \n¿A que suena divertido? \n¡No te pierdas este plan. Es gratis y las plazas son limitadas! \nHaz click en el botón «Me apunto» y reserva la tuya.
URL:https://plangalapagar.es/plan/ocio-joven-9-de-marzo/
LOCATION:Punto Joven\, Guadarrama\, 68\, Galapagar\, Madrid\, 28260
CATEGORIES:Jóvenes
ATTACH;FMTTYPE=image/jpeg:https://plangalapagar.es/wp-content/uploads/2024/03/OJ-MAR-9.jpg
END:VEVENT
BEGIN:VEVENT
DTSTART;VALUE=DATE:20240311
DTEND;VALUE=DATE:20240413
DTSTAMP:20260423T104045
CREATED:20240306T120457Z
LAST-MODIFIED:20240405T072153Z
UID:10000288-1710115200-1712966399@plangalapagar.es
SUMMARY:XXI Circuito de Arte Joven
DESCRIPTION:Si eres joven y tienes un espíritu artístico\, no te pierdas la oportunidad de participar en el XXI Circuito de Arte Joven de la Zona Noroeste de la Comunidad de Madrid 2024\, que tendrá lugar del 11 de marzo al 12 de abril. \n¿Cuáles son los requisitos?  \n\nParticipantes: jóvenes de 14 a 30 años de los municipios participantes: Alpedrete\, Collado Villalba\, Colmenarejo\, El Escorial\, Galapagar\, Guadarrama\, Hoyo de Manzanares y Torrelodones.\nModalidades artísticas: se aceptan diversas formas de expresión artística\, como fotografía\, pintura\, dibujo\, técnica de estampación y escultura. Se admitirán obras en digital siempre y cuando se presenten en formato físico.\nCantidad de obras: Puedes presentar hasta tres obras\, ya sea de manera individual o en grupo.\n\n  \nLos premios:  \n\nMejor Obra presentada en Galapagar: 250 €.\nMejor Obra artista local: 150 €.\nTercera Obra seleccionada: 100 €.\n\n  \nPremios adicionales del Ayuntamiento de Galapagar: \n\nPremio Junior (14-17 años): 100 € en material artístico.\nPremio Especial (diversidad funcional\, vinculados a Galapagar): 100 € en material artístico.\n\n  \n¿Cómo participar? \n\nPrimero necesitarás rellenar esta ficha de inscripción (clic aquí para descargarla). \nTen preparado tu currículum artístico en PDF y también una fotografía por cada obra que quieras presentar.\nTen preparado tu DNI escaneado o una foto del mismo.\nRecuerda que ninguno de estos documentos debe sobrepasar los 2Mb de peso de archivo.\n\nCon todo esto listo\, reserva tu plaza dando al botón «Me apunto» de esta página. Allí te pedirá completar tu información personal y que adjuntes los documentos mencionados ya rellenos. \nRecuerda que la inscripción y recepción de obras es hasta el 12 de abril. ¡No dejes esta inscripción para el último día! \nPara más información\, haz clic aquí y consulta las bases del concurso. \n 
URL:https://plangalapagar.es/plan/xxi-circuito-de-arte-joven/
LOCATION:Madrid
CATEGORIES:Jóvenes
ATTACH;FMTTYPE=image/jpeg:https://plangalapagar.es/wp-content/uploads/2024/03/arte-joven-2024-web.jpg
END:VEVENT
BEGIN:VEVENT
DTSTART;TZID=Europe/Madrid:20240315T173000
DTEND;TZID=Europe/Madrid:20240315T203000
DTSTAMP:20260423T104045
CREATED:20240311T050030Z
LAST-MODIFIED:20240226T121204Z
UID:10000281-1710523800-1710534600@plangalapagar.es
SUMMARY:Diverteca 15 de marzo
DESCRIPTION:¿Tienes entre 3 y 9 años? \nEl próximo viernes 15 de marzo celebra con nosotros el Día del Padre en Punto Joven. \nMi papá es cariñoso\, divertido\, ¡y le encanta jugar conmigo! Por eso\, esta tarde vamos a preparar un regalo muy especial para su día. Realizaremos unas preciosas tarjetas llenas de color\, con mensajes personalizados y llenos de amor para demostrarle todo nuestro cariño. \n¿Te lo vas a perder? \n¡Es gratis y las plazas son limitadas! \nHaz click en el botón «Me apunto» y reserva la tuya.
URL:https://plangalapagar.es/plan/diverteca-15-de-marzo/
LOCATION:Punto Joven\, Guadarrama\, 68\, Galapagar\, Madrid\, 28260
CATEGORIES:Infantil
ATTACH;FMTTYPE=image/jpeg:https://plangalapagar.es/wp-content/uploads/2024/03/DV-MAR-15.jpg
END:VEVENT
BEGIN:VEVENT
DTSTART;TZID=Europe/Madrid:20240316T173000
DTEND;TZID=Europe/Madrid:20240316T203000
DTSTAMP:20260423T104045
CREATED:20240301T050028Z
LAST-MODIFIED:20240226T121327Z
UID:10000282-1710610200-1710621000@plangalapagar.es
SUMMARY:Ocio Joven 16 de marzo
DESCRIPTION:¿Tienes entre 10 y 17 años? \nEl próximo sábado 16 de marzo tendrá lugar la actividad «Gala-Chef» en Punto Joven.  \nMangas pasteleras\, tartaletas\, chocolate\, miel\, decoraciones de colores y mucho más para preparar una deliciosa y dulce merienda. \n¿Te apetece demostrar tu habilidad en la cocina? \n¡No te lo pierdas. Es gratis y las plazas son limitadas! \nHaz click en el botón «Me apunto» y reserva la tuya.
URL:https://plangalapagar.es/plan/ocio-joven-16-de-marzo/
LOCATION:Punto Joven\, Guadarrama\, 68\, Galapagar\, Madrid\, 28260
CATEGORIES:Jóvenes
ATTACH;FMTTYPE=image/jpeg:https://plangalapagar.es/wp-content/uploads/2024/03/OJ-MAR-16.jpg
END:VEVENT
BEGIN:VEVENT
DTSTART;TZID=Europe/Madrid:20240320T173000
DTEND;TZID=Europe/Madrid:20240320T190000
DTSTAMP:20260423T104045
CREATED:20240301T050005Z
LAST-MODIFIED:20240314T083834Z
UID:10000283-1710955800-1710961200@plangalapagar.es
SUMMARY:Diver Family 20 de marzo
DESCRIPTION:¡Llega un nuevo plan de Diver Family! \nEl próximo miércoles 20 de marzo tendrá lugar la actividad «En la granja de Pepito». \nDisfrutaremos de una tarde animalesca donde podremos simular como se ordeña a la vaca\, recogeremos los huevos de las gallinas\, montaremos en nuestros creativos ponis y conoceremos a unas particulares ovejas. \n¿Quieres pasar una tarde granjera? \n¡No te pierdas este plan. Es gratis y las plazas son limitadas! \nHaz click en el botón «Me apunto» y reserva la tuya. \nEste plan está dirigido a niños y niñas de 1 a 5 años con acompañante.
URL:https://plangalapagar.es/plan/diver-family-20-de-marzo/
LOCATION:Punto Joven\, Guadarrama\, 68\, Galapagar\, Madrid\, 28260
CATEGORIES:Infantil
ATTACH;FMTTYPE=image/jpeg:https://plangalapagar.es/wp-content/uploads/2024/03/Diver-Family-20-marzo.jpg
END:VEVENT
BEGIN:VEVENT
DTSTART;TZID=Europe/Madrid:20240322T173000
DTEND;TZID=Europe/Madrid:20240322T203000
DTSTAMP:20260423T104045
CREATED:20240318T050028Z
LAST-MODIFIED:20240226T121641Z
UID:10000284-1711128600-1711139400@plangalapagar.es
SUMMARY:Diverteca 22 de marzo
DESCRIPTION:¡Nuevo plan de diverteca para los peques de la casa! \nEl próximo viernes 22 de marzo tendrá lugar la actividad «Tres en raya» en Punto Joven. \nHaremos nuestro propio tres en raya para poder jugar con nuestro contrincante favorito. ¡A ver quién tiene la mejor estrategia para ganar a su rival! \n¿Te lo vas a perder? \n¡Es gratis y las plazas son limitadas! \nHaz click en el botón «Me apunto» y reserva la tuya.
URL:https://plangalapagar.es/plan/diverteca-22-de-marzo/
LOCATION:Punto Joven\, Guadarrama\, 68\, Galapagar\, Madrid\, 28260
CATEGORIES:Infantil
ATTACH;FMTTYPE=image/jpeg:https://plangalapagar.es/wp-content/uploads/2024/03/DV-MAR-22.jpg
END:VEVENT
BEGIN:VEVENT
DTSTART;TZID=Europe/Madrid:20240323T173000
DTEND;TZID=Europe/Madrid:20240323T203000
DTSTAMP:20260423T104045
CREATED:20240301T050038Z
LAST-MODIFIED:20240226T121915Z
UID:10000285-1711215000-1711225800@plangalapagar.es
SUMMARY:Ocio Joven 23 de marzo
DESCRIPTION:¿Tienes entre 10 y 17 años? \nEl próximo sábado 23 de marzo tendrá lugar la actividad «Customización» en Punto Joven.  \nTrae tu agenda\, cuaderno\, funda de tu móvil o tablet o cualquier objeto que uses habitualmente\, pero estés cansado de ver igual\, para darle un toque personal y un cambio de aires con una nueva decoración. \n¿Te lo vas a perder? \n¡Es gratis y las plazas son limitadas! \nHaz click en el botón «Me apunto» y reserva la tuya.
URL:https://plangalapagar.es/plan/ocio-joven-23-de-marzo/
LOCATION:Punto Joven\, Guadarrama\, 68\, Galapagar\, Madrid\, 28260
CATEGORIES:Jóvenes
ATTACH;FMTTYPE=image/jpeg:https://plangalapagar.es/wp-content/uploads/2024/03/OJ-MAR-23.jpg
END:VEVENT
END:VCALENDAR