BEGIN:VCALENDAR
VERSION:2.0
PRODID:-//Plan Galapagar - ECPv6.15.20//NONSGML v1.0//EN
CALSCALE:GREGORIAN
METHOD:PUBLISH
X-WR-CALNAME:Plan Galapagar
X-ORIGINAL-URL:https://plangalapagar.es
X-WR-CALDESC:Eventos para Plan Galapagar
REFRESH-INTERVAL;VALUE=DURATION:PT1H
X-Robots-Tag:noindex
X-PUBLISHED-TTL:PT1H
BEGIN:VTIMEZONE
TZID:Europe/Madrid
BEGIN:DAYLIGHT
TZOFFSETFROM:+0100
TZOFFSETTO:+0200
TZNAME:CEST
DTSTART:20230326T010000
END:DAYLIGHT
BEGIN:STANDARD
TZOFFSETFROM:+0200
TZOFFSETTO:+0100
TZNAME:CET
DTSTART:20231029T010000
END:STANDARD
BEGIN:DAYLIGHT
TZOFFSETFROM:+0100
TZOFFSETTO:+0200
TZNAME:CEST
DTSTART:20240331T010000
END:DAYLIGHT
BEGIN:STANDARD
TZOFFSETFROM:+0200
TZOFFSETTO:+0100
TZNAME:CET
DTSTART:20241027T010000
END:STANDARD
BEGIN:DAYLIGHT
TZOFFSETFROM:+0100
TZOFFSETTO:+0200
TZNAME:CEST
DTSTART:20250330T010000
END:DAYLIGHT
BEGIN:STANDARD
TZOFFSETFROM:+0200
TZOFFSETTO:+0100
TZNAME:CET
DTSTART:20251026T010000
END:STANDARD
END:VTIMEZONE
BEGIN:VEVENT
DTSTART;VALUE=DATE:20240311
DTEND;VALUE=DATE:20240413
DTSTAMP:20260421T090928
CREATED:20240306T120457Z
LAST-MODIFIED:20240405T072153Z
UID:10000288-1710115200-1712966399@plangalapagar.es
SUMMARY:XXI Circuito de Arte Joven
DESCRIPTION:Si eres joven y tienes un espíritu artístico\, no te pierdas la oportunidad de participar en el XXI Circuito de Arte Joven de la Zona Noroeste de la Comunidad de Madrid 2024\, que tendrá lugar del 11 de marzo al 12 de abril. \n¿Cuáles son los requisitos?  \n\nParticipantes: jóvenes de 14 a 30 años de los municipios participantes: Alpedrete\, Collado Villalba\, Colmenarejo\, El Escorial\, Galapagar\, Guadarrama\, Hoyo de Manzanares y Torrelodones.\nModalidades artísticas: se aceptan diversas formas de expresión artística\, como fotografía\, pintura\, dibujo\, técnica de estampación y escultura. Se admitirán obras en digital siempre y cuando se presenten en formato físico.\nCantidad de obras: Puedes presentar hasta tres obras\, ya sea de manera individual o en grupo.\n\n  \nLos premios:  \n\nMejor Obra presentada en Galapagar: 250 €.\nMejor Obra artista local: 150 €.\nTercera Obra seleccionada: 100 €.\n\n  \nPremios adicionales del Ayuntamiento de Galapagar: \n\nPremio Junior (14-17 años): 100 € en material artístico.\nPremio Especial (diversidad funcional\, vinculados a Galapagar): 100 € en material artístico.\n\n  \n¿Cómo participar? \n\nPrimero necesitarás rellenar esta ficha de inscripción (clic aquí para descargarla). \nTen preparado tu currículum artístico en PDF y también una fotografía por cada obra que quieras presentar.\nTen preparado tu DNI escaneado o una foto del mismo.\nRecuerda que ninguno de estos documentos debe sobrepasar los 2Mb de peso de archivo.\n\nCon todo esto listo\, reserva tu plaza dando al botón «Me apunto» de esta página. Allí te pedirá completar tu información personal y que adjuntes los documentos mencionados ya rellenos. \nRecuerda que la inscripción y recepción de obras es hasta el 12 de abril. ¡No dejes esta inscripción para el último día! \nPara más información\, haz clic aquí y consulta las bases del concurso. \n 
URL:https://plangalapagar.es/plan/xxi-circuito-de-arte-joven/
LOCATION:Madrid
CATEGORIES:Jóvenes
ATTACH;FMTTYPE=image/jpeg:https://plangalapagar.es/wp-content/uploads/2024/03/arte-joven-2024-web.jpg
END:VEVENT
BEGIN:VEVENT
DTSTART;TZID=Europe/Madrid:20240402T174500
DTEND;TZID=Europe/Madrid:20240402T201500
DTSTAMP:20260421T090928
CREATED:20240327T144043Z
LAST-MODIFIED:20240327T143706Z
UID:10000289-1712079900-1712088900@plangalapagar.es
SUMMARY:Tardes de juegos 2 de abril
DESCRIPTION:¿Aburrido de las tardes monótonas? ¡No te preocupes más! Hemos preparado el escenario perfecto para que desates tu energía y disfrutes al máximo. \n¡El próximo 2 de abril prepárate para vivir una tarde de diversión extrema en Punto Joven de Galapagar! \nToma tu mejor raqueta y muestra tus habilidades en el ping-pong. ¿Prefieres algo más competitivo? Enfréntate a tus amigos en emocionantes partidos de futbolín y demuestra quién es el verdadero campeón. Pero eso no es todo\, porque la diversión no tiene límites. \n¿Eres un fanático de los videojuegos? ¡Entonces estás en el lugar indicado! Sumérgete en la acción con la Wii\, desafía tus límites en el Play 5 y descubre un universo de entretenimiento que te dejará sin aliento. ¡Conéctate con tus amigos y enfréntalos en batallas épicas que te llevarán al siguiente nivel de diversión! \n¿Te lo vas a perder? ¡Claro que no! Ven y únete a la fiesta todos los martes en Punto Joven de Galapagar. No importa si eres un experto en juegos o simplemente buscas pasar un buen rato\, aquí encontrarás la aventura que estabas esperando. \n¡Te esperamos para vivir una tarde llena de juegos\, risas y momentos inolvidables! \nHaz click en el botón «Me apunto» y reserva tu plaza.
URL:https://plangalapagar.es/plan/tardes-de-juegos-2-de-abril/
LOCATION:Punto Joven\, Guadarrama\, 68\, Galapagar\, Madrid\, 28260
CATEGORIES:Jóvenes
ATTACH;FMTTYPE=image/jpeg:https://plangalapagar.es/wp-content/uploads/2024/03/TARDES_ABR_2.jpg
END:VEVENT
BEGIN:VEVENT
DTSTART;TZID=Europe/Madrid:20240403T180000
DTEND;TZID=Europe/Madrid:20240417T191500
DTSTAMP:20260421T090928
CREATED:20240327T144332Z
LAST-MODIFIED:20240327T144149Z
UID:10000293-1712167200-1713381300@plangalapagar.es
SUMMARY:Da vida a tus historias
DESCRIPTION:¿Eres de esas personas que están todo el día imaginando historias en su cabeza\, situaciones hipotéticas\, incluso mágicas? \n¡Es el momento de dar forma a todas esas ideas! \nDado que abril es el mes de la lectura por excelencia\, os traemos dos talleres para dar vida a todas las historias que seáis capaces de imaginar. Tendrán lugar los miércoles 3 y 10 de abril en Punto Joven. En estos dos talleres os ayudaremos a “dar vida\, literalmente\, a vuestras historias”\, con consejos\, ejemplos y pautas a seguir de una forma divertida\, original y muy\, pero que muy fantasiosa. \nEl miércoles 17 de abril expondremos las obras creadas durante los dos talleres al resto de compañeros/as. \nYa es hora de ponerse manos a la obra y dar forma a los personajes. Quién sabe\, igual creáis una futura Hermione Granger o un futuro Snow… Pero\, ¿qué sería de esos personajes si no existe una buena historia\, un buen hilo narrativo que conecte todas las piezas de un fantástico puzle creado por vosotras/os? \n¿Misterio\, policiaca\, fantasía\, romance? Todos los géneros son posibles y cada uno tiene sus peculiaridades. \nSer lector está super bien pero\, ¿por qué no empezar a ser escritor/a? \nHaz click en el botón «Me apunto» y reserva tu plaza. ¡Es gratis y son limitadas!
URL:https://plangalapagar.es/plan/da-vida-a-tus-historias/
LOCATION:Punto Joven\, Guadarrama\, 68\, Galapagar\, Madrid\, 28260
CATEGORIES:Jóvenes
ATTACH;FMTTYPE=image/jpeg:https://plangalapagar.es/wp-content/uploads/2024/03/DA_VIDA_A_TUS_HISTORIAS.jpg
END:VEVENT
BEGIN:VEVENT
DTSTART;TZID=Europe/Madrid:20240405T173000
DTEND;TZID=Europe/Madrid:20240405T203000
DTSTAMP:20260421T090928
CREATED:20240401T040013Z
LAST-MODIFIED:20240327T144517Z
UID:10000298-1712338200-1712349000@plangalapagar.es
SUMMARY:Diverteca 5 de abril
DESCRIPTION:¡Nueva actividad de diverteca para los peques de la casa! \nEl próximo viernes 5 de abril tendrá lugar una actividad muy divertida. Los huevos de Pascua han desaparecido y alguien les ha robado su color\, por eso los buscaremos a través de un juego de pistas y descubriremos qué ha pasado con sus colores. Después\, los pintaremos con pinceles de espuma y mucha purpurina. \n¡No te pierdas este plan. Es gratis y las plazas son limitadas! \nHaz click en el botón «Me apunto» y reserva la tuya.
URL:https://plangalapagar.es/plan/diverteca-5-de-abril/
LOCATION:Punto Joven\, Guadarrama\, 68\, Galapagar\, Madrid\, 28260
CATEGORIES:Infantil
ATTACH;FMTTYPE=image/jpeg:https://plangalapagar.es/wp-content/uploads/2024/04/DV-ABR-5.jpg
END:VEVENT
BEGIN:VEVENT
DTSTART;TZID=Europe/Madrid:20240405T180000
DTEND;TZID=Europe/Madrid:20240405T193000
DTSTAMP:20260421T090928
CREATED:20240329T050044Z
LAST-MODIFIED:20240327T144829Z
UID:10000294-1712340000-1712345400@plangalapagar.es
SUMMARY:"Crea tu plan" 5 de abril
DESCRIPTION:Este verano en Galapagar tendremos excursiones\, festivales\, eventos chulos… ¡GRATIS. Gratis… es pensar y proponer estas ideas! \nSeguro que has pensado un montón de veces por qué no hay planes chulos en Galapagar y se te han ocurrido muchos. ¡Pues es momento de ser proactiva/o! \nEl próximo 5 de abril tenemos ganas de escucharos\, de que nos digáis qué es lo que queréis hacer\, qué planes os gustan\, si queréis excursiones\, festivales… De esta forma y entre todos/as podemos organizar cosas llamativas entre los jóvenes del municipio para que se lleven a cabo desde Punto Joven. \nSi te has quejado alguna vez de que Galapagar es aburrido\, los viernes es el momento de reclamar en alto y que tus quejas\, acompañadas de propuestas\, sean escuchadas. \n¡Da rienda suelta tus ideas y ven a proponerlas\, te recibiremos con los brazos abiertos! \nNo te pierdas este plan\, es gratis y las plazas son limitadas.  \nHaz click en el botón «Me apunto» y reserva la tuya.
URL:https://plangalapagar.es/plan/crea-tu-plan-5-de-abril/
LOCATION:Punto Joven\, Guadarrama\, 68\, Galapagar\, Madrid\, 28260
CATEGORIES:Jóvenes
ATTACH;FMTTYPE=image/jpeg:https://plangalapagar.es/wp-content/uploads/2024/03/CREATUPLAN_ABR_5.jpg
END:VEVENT
BEGIN:VEVENT
DTSTART;TZID=Europe/Madrid:20240406T173000
DTEND;TZID=Europe/Madrid:20240406T203000
DTSTAMP:20260421T090928
CREATED:20240401T040028Z
LAST-MODIFIED:20240327T145025Z
UID:10000299-1712424600-1712435400@plangalapagar.es
SUMMARY:Ocio Joven 6 de abril
DESCRIPTION:¡Nueva actividad para jóvenes! \nEl sábado 6 de abril haremos una decoración de cupcakes. Con fondant (pasta de azúcar) de colores y diferentes decoraciones comestibles realizaremos preciosas magdalenas para comer o regalar. \n¡Demuestra tus dotes culinarias! \n¡No te pierdas este plan. Es gratis y las plazas son limitadas! \nHaz click en el botón «Me apunto» y reserva la tuya.
URL:https://plangalapagar.es/plan/ocio-joven-6-de-abril/
LOCATION:Punto Joven\, Guadarrama\, 68\, Galapagar\, Madrid\, 28260
CATEGORIES:Jóvenes
ATTACH;FMTTYPE=image/jpeg:https://plangalapagar.es/wp-content/uploads/2024/04/OJ-ABR-6.jpg
END:VEVENT
BEGIN:VEVENT
DTSTART;TZID=Europe/Madrid:20240409T174500
DTEND;TZID=Europe/Madrid:20240409T201500
DTSTAMP:20260421T090928
CREATED:20240401T040004Z
LAST-MODIFIED:20240327T145241Z
UID:10000290-1712684700-1712693700@plangalapagar.es
SUMMARY:Tardes de juegos 9 de abril
DESCRIPTION:¿Aburrido de las tardes monótonas? ¡No te preocupes más! Hemos preparado el escenario perfecto para que desates tu energía y disfrutes al máximo. \n¡El próximo martes 9 de abril prepárate para vivir una tarde de diversión extrema en Punto Joven de Galapagar! \nToma tu mejor raqueta y muestra tus habilidades en el ping-pong. ¿Prefieres algo más competitivo? Enfréntate a tus amigos en emocionantes partidos de futbolín y demuestra quién es el verdadero campeón. Pero eso no es todo\, porque la diversión no tiene límites. \n¿Eres un fanático de los videojuegos? ¡Entonces estás en el lugar indicado! Sumérgete en la acción con la Wii\, desafía tus límites en el Play 5 y descubre un universo de entretenimiento que te dejará sin aliento. ¡Conéctate con tus amigos y enfréntalos en batallas épicas que te llevarán al siguiente nivel de diversión! \n¿Te lo vas a perder? ¡Claro que no! Ven y únete a la fiesta todos los martes en Punto Joven de Galapagar. No importa si eres un experto en juegos o simplemente buscas pasar un buen rato\, aquí encontrarás la aventura que estabas esperando. \n¡Te esperamos para vivir una tarde llena de juegos\, risas y momentos inolvidables! \nHaz click en el botón «Me apunto» y reserva tu plaza.
URL:https://plangalapagar.es/plan/tardes-de-juegos-9-de-abril/
LOCATION:Punto Joven\, Guadarrama\, 68\, Galapagar\, Madrid\, 28260
CATEGORIES:Jóvenes
ATTACH;FMTTYPE=image/jpeg:https://plangalapagar.es/wp-content/uploads/2024/04/TARDES_ABR_9.jpg
END:VEVENT
BEGIN:VEVENT
DTSTART;TZID=Europe/Madrid:20240412T173000
DTEND;TZID=Europe/Madrid:20240412T203000
DTSTAMP:20260421T090928
CREATED:20240408T040013Z
LAST-MODIFIED:20240327T145455Z
UID:10000300-1712943000-1712953800@plangalapagar.es
SUMMARY:Diverteca 12 de abril
DESCRIPTION:¡Nuevo plan de diverteca! \nEl próximo viernes 12 de abril tendrá lugar una actividad para los peques de la casa. Luz\, color y alegría. Crearemos nuestros propios farolillos para “el alumbrao” de nuestro casero y particular recinto ferial y bailaremos sevillanas en nuestras inventadas casetas en Punto Joven. \n¡No te pierdas este plan. Es gratis y las plazas son limitadas! \nHaz click en el botón «Me apunto» y reserva la tuya.
URL:https://plangalapagar.es/plan/diverteca-12-de-abril/
LOCATION:Punto Joven\, Guadarrama\, 68\, Galapagar\, Madrid\, 28260
CATEGORIES:Infantil
ATTACH;FMTTYPE=image/jpeg:https://plangalapagar.es/wp-content/uploads/2024/04/DV-ABR-12.jpg
END:VEVENT
BEGIN:VEVENT
DTSTART;TZID=Europe/Madrid:20240412T180000
DTEND;TZID=Europe/Madrid:20240412T193000
DTSTAMP:20260421T090928
CREATED:20240401T040015Z
LAST-MODIFIED:20240327T145752Z
UID:10000295-1712944800-1712950200@plangalapagar.es
SUMMARY:"Crea tu plan" 12 de abril
DESCRIPTION:Este verano en Galapagar tendremos excursiones\, festivales\, eventos chulos… ¡GRATIS. Gratis… es pensar y proponer estas ideas! \nSeguro que has pensado un montón de veces por qué no hay planes chulos en Galapagar y se te han ocurrido muchos. ¡Pues es momento de ser proactiva/o! \nEl próximo 12 de abril tenemos ganas de escucharos\, de que nos digáis qué es lo que queréis hacer\, qué planes os gustan\, si queréis excursiones\, festivales… De esta forma y entre todos/as podemos organizar cosas llamativas entre los jóvenes del municipio para que se lleven a cabo desde Punto Joven. \nSi te has quejado alguna vez de que Galapagar es aburrido\, los viernes es el momento de reclamar en alto y que tus quejas\, acompañadas de propuestas\, sean escuchadas. \n¡Da rienda suelta tus ideas y ven a proponerlas\, te recibiremos con los brazos abiertos! \nNo te pierdas este plan\, es gratis y las plazas son limitadas.  \nHaz click en el botón «Me apunto» y reserva la tuya.
URL:https://plangalapagar.es/plan/crea-tu-plan-12-de-abril/
LOCATION:Punto Joven\, Guadarrama\, 68\, Galapagar\, Madrid\, 28260
CATEGORIES:Jóvenes
ATTACH;FMTTYPE=image/jpeg:https://plangalapagar.es/wp-content/uploads/2024/04/CREATUPLAN_ABR_12.jpg
END:VEVENT
BEGIN:VEVENT
DTSTART;TZID=Europe/Madrid:20240413T173000
DTEND;TZID=Europe/Madrid:20240413T203000
DTSTAMP:20260421T090928
CREATED:20240401T040009Z
LAST-MODIFIED:20240327T150019Z
UID:10000301-1713029400-1713040200@plangalapagar.es
SUMMARY:Ocio Joven 13 de abril
DESCRIPTION:¡Nuevo plan para jóvenes! \nEl próximo sábado 13 de abril tendrá lugar la fiesta joven «Feria de Abril». \n¡Prepárate para una fiesta llena de alegría y color! Punto Joven se transformará en un pedacito de Andalucía para celebrar nuestra propia Feria de Abril. Ven y únete a la diversión con música\, baile y deliciosa comida. \n¡Y no te olvides de vestirte para la ocasión con tus trajes más flamencos! ¡Te esperamos para vivir una tarde llena de ambiente festivo y buena compañía! \nGuirnaldas\, luces\, picoteo\, música flamenca\, sevillanas y mucho más. \n¿Te lo vas a perder? ¡Es gratis y las plazas son limitadas! \nHaz click en el botón «Me apunto» y reserva la tuya.
URL:https://plangalapagar.es/plan/ocio-joven-13-de-abril/
LOCATION:Punto Joven\, Guadarrama\, 68\, Galapagar\, Madrid\, 28260
CATEGORIES:Jóvenes
ATTACH;FMTTYPE=image/jpeg:https://plangalapagar.es/wp-content/uploads/2024/04/OJ-ABR-13.jpg
END:VEVENT
BEGIN:VEVENT
DTSTART;TZID=Europe/Madrid:20240416T174500
DTEND;TZID=Europe/Madrid:20240416T201500
DTSTAMP:20260421T090928
CREATED:20240401T040031Z
LAST-MODIFIED:20240327T150242Z
UID:10000291-1713289500-1713298500@plangalapagar.es
SUMMARY:Tardes de juegos 16 de abril
DESCRIPTION:¿Aburrido de las tardes monótonas? ¡No te preocupes más! Hemos preparado el escenario perfecto para que desates tu energía y disfrutes al máximo. \n¡El próximo martes 16 de abril prepárate para vivir una tarde de diversión extrema en Punto Joven de Galapagar! \nToma tu mejor raqueta y muestra tus habilidades en el ping-pong. ¿Prefieres algo más competitivo? Enfréntate a tus amigos en emocionantes partidos de futbolín y demuestra quién es el verdadero campeón. Pero eso no es todo\, porque la diversión no tiene límites. \n¿Eres un fanático de los videojuegos? ¡Entonces estás en el lugar indicado! Sumérgete en la acción con la Wii\, desafía tus límites en el Play 5 y descubre un universo de entretenimiento que te dejará sin aliento. ¡Conéctate con tus amigos y enfréntalos en batallas épicas que te llevarán al siguiente nivel de diversión! \n¿Te lo vas a perder? ¡Claro que no! Ven y únete a la fiesta todos los martes en Punto Joven de Galapagar. No importa si eres un experto en juegos o simplemente buscas pasar un buen rato\, aquí encontrarás la aventura que estabas esperando. \n¡Te esperamos para vivir una tarde llena de juegos\, risas y momentos inolvidables! \nHaz click en el botón «Me apunto» y reserva tu plaza.
URL:https://plangalapagar.es/plan/tardes-de-juegos-16-de-abril/
LOCATION:Punto Joven\, Guadarrama\, 68\, Galapagar\, Madrid\, 28260
CATEGORIES:Jóvenes
ATTACH;FMTTYPE=image/jpeg:https://plangalapagar.es/wp-content/uploads/2024/04/TARDES_ABR_16.jpg
END:VEVENT
BEGIN:VEVENT
DTSTART;TZID=Europe/Madrid:20240419T173000
DTEND;TZID=Europe/Madrid:20240419T203000
DTSTAMP:20260421T090928
CREATED:20240415T040009Z
LAST-MODIFIED:20240416T070020Z
UID:10000302-1713547800-1713558600@plangalapagar.es
SUMMARY:Diverteca 19 de abril
DESCRIPTION:¡Nuevo plan para los peques para celebrar el Día del Libro! \nEl próximo viernes 19 de abril realizaremos cuentacuentos\, rincones donde los mayores contarán cuentos a los pequeños y un marcapáginas. \n¡Podéis traer vuestro cuento favorito para enseñárselo a los demás! \n¡No te pierdas este plan. Es gratis y las plazas son limitadas! \nHaz click en el botón «Me apunto» y reserva la tuya.
URL:https://plangalapagar.es/plan/diverteca-19-de-abril/
LOCATION:Punto Joven\, Guadarrama\, 68\, Galapagar\, Madrid\, 28260
CATEGORIES:Infantil
ATTACH;FMTTYPE=image/jpeg:https://plangalapagar.es/wp-content/uploads/2024/04/DV-ABR-19.jpg
END:VEVENT
BEGIN:VEVENT
DTSTART;TZID=Europe/Madrid:20240419T180000
DTEND;TZID=Europe/Madrid:20240419T193000
DTSTAMP:20260421T090928
CREATED:20240401T040052Z
LAST-MODIFIED:20240327T150613Z
UID:10000296-1713549600-1713555000@plangalapagar.es
SUMMARY:"Crea tu plan" 19 de abril
DESCRIPTION:Este verano en Galapagar tendremos excursiones\, festivales\, eventos chulos… ¡GRATIS. Gratis… es pensar y proponer estas ideas! \nSeguro que has pensado un montón de veces por qué no hay planes chulos en Galapagar y se te han ocurrido muchos. ¡Pues es momento de ser proactiva/o! \nEl próximo 19 de abril tenemos ganas de escucharos\, de que nos digáis qué es lo que queréis hacer\, qué planes os gustan\, si queréis excursiones\, festivales… De esta forma y entre todos/as podemos organizar cosas llamativas entre los jóvenes del municipio para que se lleven a cabo desde Punto Joven. \nSi te has quejado alguna vez de que Galapagar es aburrido\, los viernes es el momento de reclamar en alto y que tus quejas\, acompañadas de propuestas\, sean escuchadas. \n¡Da rienda suelta tus ideas y ven a proponerlas\, te recibiremos con los brazos abiertos! \nNo te pierdas este plan\, es gratis y las plazas son limitadas.  \nHaz click en el botón «Me apunto» y reserva la tuya.
URL:https://plangalapagar.es/plan/crea-tu-plan-19-de-abril/
LOCATION:Punto Joven\, Guadarrama\, 68\, Galapagar\, Madrid\, 28260
CATEGORIES:Jóvenes
ATTACH;FMTTYPE=image/jpeg:https://plangalapagar.es/wp-content/uploads/2024/04/CREATUPLAN_ABR_19.jpg
END:VEVENT
BEGIN:VEVENT
DTSTART;TZID=Europe/Madrid:20240420T173000
DTEND;TZID=Europe/Madrid:20240420T203000
DTSTAMP:20260421T090928
CREATED:20240401T040007Z
LAST-MODIFIED:20240327T150820Z
UID:10000303-1713634200-1713645000@plangalapagar.es
SUMMARY:Ocio Joven 20 de abril
DESCRIPTION:¡Nuevo plan para jóvenes! \nEl próximo sábado 20 de abril tendrá lugar el «Escape Room Online – Antídoto». \nSabemos que os encantan los escape room\, por eso este sábado traemos uno un poquito diferente. Seréis dos grupos de investigadores de dos laboratorios diferentes\, situados en diferentes países\, que estáis experimentando para conseguir elaborar una vacuna contra un virus mortal. \nHabéis hecho grandes avances en los últimos días\, ya solo queda que ambos os pongáis en contacto para compartir vuestros hallazgos y así conseguir salvar a la humanidad. \n¿Lo conseguiréis? \n¡No te pierdas este plan. Es gratis y las plazas son limitadas! \nHaz click en el botón «Me apunto» y reserva la tuya.
URL:https://plangalapagar.es/plan/ocio-joven-20-de-abril/
LOCATION:Punto Joven\, Guadarrama\, 68\, Galapagar\, Madrid\, 28260
CATEGORIES:Jóvenes
ATTACH;FMTTYPE=image/jpeg:https://plangalapagar.es/wp-content/uploads/2024/04/OJ-ABR-20.jpg
END:VEVENT
BEGIN:VEVENT
DTSTART;TZID=Europe/Madrid:20240423T174500
DTEND;TZID=Europe/Madrid:20240423T201500
DTSTAMP:20260421T090928
CREATED:20240401T040001Z
LAST-MODIFIED:20240327T151123Z
UID:10000292-1713894300-1713903300@plangalapagar.es
SUMMARY:Tardes de juegos 23 de abril
DESCRIPTION:¿Aburrido de las tardes monótonas? ¡No te preocupes más! Hemos preparado el escenario perfecto para que desates tu energía y disfrutes al máximo. \n¡El próximo martes 23 de abril prepárate para vivir una tarde de diversión extrema en Punto Joven de Galapagar! \nToma tu mejor raqueta y muestra tus habilidades en el ping-pong. ¿Prefieres algo más competitivo? Enfréntate a tus amigos en emocionantes partidos de futbolín y demuestra quién es el verdadero campeón. Pero eso no es todo\, porque la diversión no tiene límites. \n¿Eres un fanático de los videojuegos? ¡Entonces estás en el lugar indicado! Sumérgete en la acción con la Wii\, desafía tus límites en el Play 5 y descubre un universo de entretenimiento que te dejará sin aliento. ¡Conéctate con tus amigos y enfréntalos en batallas épicas que te llevarán al siguiente nivel de diversión! \n¿Te lo vas a perder? ¡Claro que no! Ven y únete a la fiesta todos los martes en Punto Joven de Galapagar. No importa si eres un experto en juegos o simplemente buscas pasar un buen rato\, aquí encontrarás la aventura que estabas esperando. \n¡Te esperamos para vivir una tarde llena de juegos\, risas y momentos inolvidables! \nHaz click en el botón «Me apunto» y reserva tu plaza.
URL:https://plangalapagar.es/plan/tardes-de-juegos-23-de-abril/
LOCATION:Punto Joven\, Guadarrama\, 68\, Galapagar\, Madrid\, 28260
CATEGORIES:Jóvenes
ATTACH;FMTTYPE=image/jpeg:https://plangalapagar.es/wp-content/uploads/2024/04/TARDES_ABR_23.jpg
END:VEVENT
BEGIN:VEVENT
DTSTART;TZID=Europe/Madrid:20240424T173000
DTEND;TZID=Europe/Madrid:20240424T190000
DTSTAMP:20260421T090928
CREATED:20240401T040051Z
LAST-MODIFIED:20240405T120204Z
UID:10000304-1713979800-1713985200@plangalapagar.es
SUMMARY:Diver Family 24 de abril
DESCRIPTION:¡Nuevo plan de Diver Family! \nEl próximo miércoles 24 de abril celebramos la primavera. Flores\, pétalos\, macetas\, abejorros\, regaderas… Estamos en uno de los meses más coloridos del año donde los peques tendrán mucho que experimentar y descubrir. \n¿Quieres pasar una tarde divertida? ¡No te lo puedes perder! \nEste plan está dirigido a niños y niñas de 1 a 5 años con acompañante. \n¡No te lo pierdas. Es gratis y las plazas son limitadas! \nHaz click en el botón «Me apunto» y reserva la tuya.
URL:https://plangalapagar.es/plan/diver-family-24-de-abril/
LOCATION:Punto Joven\, Guadarrama\, 68\, Galapagar\, Madrid\, 28260
CATEGORIES:Infantil
ATTACH;FMTTYPE=image/jpeg:https://plangalapagar.es/wp-content/uploads/2024/04/DIVERFAMILY_ABRIL.jpg
END:VEVENT
BEGIN:VEVENT
DTSTART;TZID=Europe/Madrid:20240426T173000
DTEND;TZID=Europe/Madrid:20240426T203000
DTSTAMP:20260421T090928
CREATED:20240422T040047Z
LAST-MODIFIED:20240416T070052Z
UID:10000305-1714152600-1714163400@plangalapagar.es
SUMMARY:Diverteca 26 de abril
DESCRIPTION:¡Nuevo plan de diverteca! \nEl próximo viernes 26 de abril venceremos nuestros miedos creando nuestro propio monstruo que crece y desaparece. Compartiremos nuestros miedos y escucharemos las ideas más creativas para vencerlos. \n¡No te pierdas este plan. Es gratis y las plazas son limitadas! \nHaz click en el botón «Me apunto» y reserva la tuya.
URL:https://plangalapagar.es/plan/diverteca-26-de-abril/
LOCATION:Punto Joven\, Guadarrama\, 68\, Galapagar\, Madrid\, 28260
CATEGORIES:Infantil
ATTACH;FMTTYPE=image/jpeg:https://plangalapagar.es/wp-content/uploads/2024/04/DV-ABR-26.jpg
END:VEVENT
BEGIN:VEVENT
DTSTART;TZID=Europe/Madrid:20240426T180000
DTEND;TZID=Europe/Madrid:20240426T193000
DTSTAMP:20260421T090928
CREATED:20240401T040044Z
LAST-MODIFIED:20240327T151815Z
UID:10000297-1714154400-1714159800@plangalapagar.es
SUMMARY:"Crea tu plan" 26 de abril
DESCRIPTION:Este verano en Galapagar tendremos excursiones\, festivales\, eventos chulos… ¡GRATIS. Gratis… es pensar y proponer estas ideas! \nSeguro que has pensado un montón de veces por qué no hay planes chulos en Galapagar y se te han ocurrido muchos. ¡Pues es momento de ser proactiva/o! \nEl próximo 26 de abril tenemos ganas de escucharos\, de que nos digáis qué es lo que queréis hacer\, qué planes os gustan\, si queréis excursiones\, festivales… De esta forma y entre todos/as podemos organizar cosas llamativas entre los jóvenes del municipio para que se lleven a cabo desde Punto Joven. \nSi te has quejado alguna vez de que Galapagar es aburrido\, los viernes es el momento de reclamar en alto y que tus quejas\, acompañadas de propuestas\, sean escuchadas. \n¡Da rienda suelta tus ideas y ven a proponerlas\, te recibiremos con los brazos abiertos! \nNo te pierdas este plan\, es gratis y las plazas son limitadas.  \nHaz click en el botón «Me apunto» y reserva la tuya.
URL:https://plangalapagar.es/plan/crea-tu-plan-26-de-abril/
LOCATION:Punto Joven\, Guadarrama\, 68\, Galapagar\, Madrid\, 28260
CATEGORIES:Jóvenes
ATTACH;FMTTYPE=image/jpeg:https://plangalapagar.es/wp-content/uploads/2024/04/CREATUPLAN_ABR_26.jpg
END:VEVENT
BEGIN:VEVENT
DTSTART;TZID=Europe/Madrid:20240427T173000
DTEND;TZID=Europe/Madrid:20240427T203000
DTSTAMP:20260421T090928
CREATED:20240401T040032Z
LAST-MODIFIED:20240327T152005Z
UID:10000306-1714239000-1714249800@plangalapagar.es
SUMMARY:Ocio Joven 27 de abril
DESCRIPTION:¡Nuevo plan para jóvenes! \nEl próximo sábado 27 de abril habrá un torneo de play 5. Es hora de demostrar cómo te manejas con la play. Competiremos en el juego más votado a través de nuestras redes sociales. \nYa es hora de dejar atrás eso de jugar solo en casa\, es el momento de juntarse en un mismo espacio y disfrutar de la play todos juntos. No en 3D\, ni en 5k\, ni nada por el estilo… En persona\, que eso sí que es una experiencia 360 de verdad. \n¡No te pierdas este plan. Es gratis y las plazas son limitadas! \nHaz click en el botón «Me apunto» y reserva la tuya.
URL:https://plangalapagar.es/plan/ocio-joven-27-de-abril/
LOCATION:Punto Joven\, Guadarrama\, 68\, Galapagar\, Madrid\, 28260
CATEGORIES:Jóvenes
ATTACH;FMTTYPE=image/jpeg:https://plangalapagar.es/wp-content/uploads/2024/04/OJ-ABR-27.jpg
END:VEVENT
BEGIN:VEVENT
DTSTART;TZID=Europe/Madrid:20240430T180000
DTEND;TZID=Europe/Madrid:20240430T200000
DTSTAMP:20260421T090928
CREATED:20240401T040042Z
LAST-MODIFIED:20240401T080409Z
UID:10000307-1714500000-1714507200@plangalapagar.es
SUMMARY:Micro Abierto - Monólogos 30 de abril
DESCRIPTION:¿Tienes algo que decir\, cantar\, recitar o tocar? ¡Este es tu escenario! \nEl próximo martes 30 de abril disfruta de una tarde llena de creatividad\, expresión y buena vibra. Desde poesía hasta música\, comedia o cualquier forma de arte que desees compartir. Este es el lugar donde puedes dejar volar tu imaginación y conectarte con otros jóvenes apasionados como tú. \nNo importa si eres un novato o un veterano en el escenario\, todos sois bienvenidos. Es un ambiente acogedor y de apoyo donde puedes ser tú mismo y mostrar tu talento ante una audiencia receptiva. \n¿Quieres participar? ¡Genial! Regístrate para asegurar tu lugar en la lista de actuaciones. O si prefieres ser parte de la audiencia\, ven a disfrutar de una noche llena de sorpresas y descubre el talento emergente de Galapagar. \n¡Te esperamos en nuestra próxima sesión de micro abierto en Punto Joven! No te lo pierdas\, será una experiencia inolvidable llena de arte\, diversión y nuevas amistades. ¡Nos vemos allí! \nHaz click en el botón «Me apunto» y reserva la tuya.
URL:https://plangalapagar.es/plan/micro-abierto-monologos-30-de-abril/
LOCATION:Punto Joven\, Guadarrama\, 68\, Galapagar\, Madrid\, 28260
CATEGORIES:Jóvenes
ATTACH;FMTTYPE=image/jpeg:https://plangalapagar.es/wp-content/uploads/2024/04/MICROABIERTO.jpg
END:VEVENT
END:VCALENDAR