BEGIN:VCALENDAR
VERSION:2.0
PRODID:-//Plan Galapagar - ECPv6.15.20//NONSGML v1.0//EN
CALSCALE:GREGORIAN
METHOD:PUBLISH
X-ORIGINAL-URL:https://plangalapagar.es
X-WR-CALDESC:Eventos para Plan Galapagar
REFRESH-INTERVAL;VALUE=DURATION:PT1H
X-Robots-Tag:noindex
X-PUBLISHED-TTL:PT1H
BEGIN:VTIMEZONE
TZID:Europe/Madrid
BEGIN:DAYLIGHT
TZOFFSETFROM:+0100
TZOFFSETTO:+0200
TZNAME:CEST
DTSTART:20230326T010000
END:DAYLIGHT
BEGIN:STANDARD
TZOFFSETFROM:+0200
TZOFFSETTO:+0100
TZNAME:CET
DTSTART:20231029T010000
END:STANDARD
BEGIN:DAYLIGHT
TZOFFSETFROM:+0100
TZOFFSETTO:+0200
TZNAME:CEST
DTSTART:20240331T010000
END:DAYLIGHT
BEGIN:STANDARD
TZOFFSETFROM:+0200
TZOFFSETTO:+0100
TZNAME:CET
DTSTART:20241027T010000
END:STANDARD
BEGIN:DAYLIGHT
TZOFFSETFROM:+0100
TZOFFSETTO:+0200
TZNAME:CEST
DTSTART:20250330T010000
END:DAYLIGHT
BEGIN:STANDARD
TZOFFSETFROM:+0200
TZOFFSETTO:+0100
TZNAME:CET
DTSTART:20251026T010000
END:STANDARD
END:VTIMEZONE
BEGIN:VEVENT
DTSTART;TZID=Europe/Madrid:20240508T180000
DTEND;TZID=Europe/Madrid:20240508T193000
DTSTAMP:20260421T073313
CREATED:20240430T040024Z
LAST-MODIFIED:20240430T101633Z
UID:10000309-1715191200-1715196600@plangalapagar.es
SUMMARY:Técnicas de estudio - Mapas mentales
DESCRIPTION:¿Tienes entre 12 y 20 años? ¡Prepárate para desatar tu estrategia de aprendizaje con nuestros talleres de «Técnicas de Estudio»! \n¿Aburrido de las mismas viejas técnicas de estudio? ¡Es hora de darle un giro épico a tu forma de aprender! \nEl programa está compuesto por dos talleres\, independientes pero complementarios. Podrás apuntarte de forma individual a cada uno de ellos. En el primer taller\, que tendrá lugar el miércoles 8 de mayo\, veremos el asombroso mundo de los mapas mentales y las estrategias de fichas desde un punto diferente\, dinámico y práctico. \nEn nuestros talleres no solo aprenderás\, sino que lo harás de una forma lúdica\, actual y divertida. Descubre cómo resumir tus apuntes de manera más rápida que un rayo\, domina los mapas mentales como un verdadero héroe del conocimiento. ¡Convierte cada página en una aventura emocionante! \n¿Quién dijo que estudiar tenía que ser aburrido? Con nosotras\, transformarás esas largas horas de estudio en momentos llenos de diversión y descubrimiento. ¡Porque aprender puede ser tan emocionante como jugar tu videojuego favorito! \n¡No te pierdas la oportunidad de ser parte de esta revolución en el mundo del estudio! \nHaz click en el botón «Me apunto» y reserva tu plaza. ¡Recuerda que son limitadas!
URL:https://plangalapagar.es/plan/tecnicas-de-estudio-mapas-mentales/
LOCATION:Punto Joven\, Guadarrama\, 68\, Galapagar\, Madrid\, 28260
CATEGORIES:Jóvenes
ATTACH;FMTTYPE=image/jpeg:https://plangalapagar.es/wp-content/uploads/2024/04/MAYO-8-TECNICAS.jpg
END:VEVENT
BEGIN:VEVENT
DTSTART;TZID=Europe/Madrid:20240509T184500
DTEND;TZID=Europe/Madrid:20240627T201500
DTSTAMP:20260421T073313
CREATED:20240430T040003Z
LAST-MODIFIED:20240510T065911Z
UID:10000313-1715280300-1719519300@plangalapagar.es
SUMMARY:Conectando generaciones: Tecno - Profes
DESCRIPTION:¡Ey\, chicos y chicas de la era digital! ¿Listos para una aventura que combina tecnología y diversión? \n¡Por fin llega la segunda edición «Conectando generaciones: Tecno – Profes»! \nÚnete a una experiencia única donde la tecnología y la sabiduría se encuentran para crear conexiones intergeneracionales inolvidables. Después del éxito rotundo de nuestra primera edición\, estamos emocionados de anunciar la segunda entrega de esta increíble actividad. \n¿Qué tal si te digo que tienes el poder de convertirte en un héroe de la tecnología? En nuestra primera edición\, lo hicimos épico\, y ahora estamos de vuelta para una segunda ronda llena de aún más emoción. \nComo Tecno – profes\, tú y tus amigos seréis los cerebros detrás de la magia tecnológica. Durante tres sesiones de preparación de contenidos trabajaremos juntos para organizar dinámicas y recopilar los materiales necesarios para las sesiones con los Tecno – Sabios. Desde enseñar cómo usar un smartphone hasta explorar las maravillas de la navegación en Internet\, haremos que cada sesión sea informativa\, interactiva y divertida para todos los participantes. \n¿Qué vamos a hacer? ¡Pues enseñar a nuestros «Sabios” a dominar los móviles\, a navegar por Internet como unos cracks y a conquistar el mundo digital! Prepárate para momentos épicos mientras compartes tu pasión y aprendes un montón de cosas nuevas. \n¿Por qué unirte? Porque en Tecno – Profes no solo estamos conectando dispositivos electrónicos\, ¡estamos conectando corazones y mentes de diferentes generaciones! Únete a nosotros mientras creamos puentes entre el pasado y el futuro\, una lección de tecnología a la vez. Únete a la revolución tecnológica y forma parte de algo que marcará la diferencia. \nLas sesiones preparatorias tendrán lugar el 9\, 16 y 23 de mayo.  \nLas sesiones prácticas serán el 6\, 13\, 20 y 27 de junio.  \n¿Estás listo para ser el héroe de la tecnología? ¡Entonces regístrate ahora mismo y prepárate para una experiencia que te hará sentir genial! \n¡No te pierdas esta oportunidad de ser parte de algo verdaderamente especial! \nHaz click en el botón «Me apunto» y reserva tu plaza. ¡Recuerda que son limitadas!
URL:https://plangalapagar.es/plan/conectando-generaciones-tecno-profes/
LOCATION:Punto Joven\, Guadarrama\, 68\, Galapagar\, Madrid\, 28260
CATEGORIES:Jóvenes
ATTACH;FMTTYPE=image/jpeg:https://plangalapagar.es/wp-content/uploads/2024/04/CONGEN-TECNOPROFES.jpg
END:VEVENT
BEGIN:VEVENT
DTSTART;TZID=Europe/Madrid:20240510T173000
DTEND;TZID=Europe/Madrid:20240510T203000
DTSTAMP:20260421T073313
CREATED:20240506T040012Z
LAST-MODIFIED:20240430T101948Z
UID:10000317-1715362200-1715373000@plangalapagar.es
SUMMARY:Diverteca 10 de mayo
DESCRIPTION:¡Llega un nuevo plan de Diverteca para los peques de la casa! \nEl 15 de mayo es el Día Internacional de la Familia\, por eso\, el viernes 10 de mayo conoceremos los diferentes tipos de familias que hay en la Diverteca y veremos que todas son maravillosas y especiales. Por eso\, les daremos un regalito hecho con nuestras propias manos. \n¡No te pierdas este plan! Es gratis y las plazas son limitadas.  \nHaz click en el botón «Me apunto» y reserva la tuya.
URL:https://plangalapagar.es/plan/diverteca-10-de-mayo/
LOCATION:Punto Joven\, Guadarrama\, 68\, Galapagar\, Madrid\, 28260
CATEGORIES:Infantil
ATTACH;FMTTYPE=image/jpeg:https://plangalapagar.es/wp-content/uploads/2024/05/DV-10MAYO.jpg
END:VEVENT
BEGIN:VEVENT
DTSTART;TZID=Europe/Madrid:20240510T180000
DTEND;TZID=Europe/Madrid:20240531T193000
DTSTAMP:20260421T073313
CREATED:20240430T040022Z
LAST-MODIFIED:20240430T102114Z
UID:10000315-1715364000-1717183800@plangalapagar.es
SUMMARY:Cineforum: Cortos animados
DESCRIPTION:¿Tienes entre 10 y 17 años? Únete a nosotros para disfrutar de una tarde de cineforum con cortos animados que te dejarán sin aliento. ¡Los viernes de mayo son de cine en nuestro Punto Joven! \nCada semana exploraremos nuevas historias\, emociones y aventuras que no te puedes perder. ¡Trae a tus amigos y prepárate para sumergirte en el mundo del cine de animación! ¡Te esperamos cada viernes a las 18:00 horas en Punto Joven! Ah\, y no olvides traer tus palomitas\, refrescos o la merienda que más te apetezca. \nViernes 10 de mayo: Tema «Amistad y relaciones» \n\n«Kitbull»\n«Loop»\n«La Luna»\n«Lou»\n«In a Heartbeat»\n\nViernes 17 de mayo: Tema «Crecimiento personal y autoaceptación» \n\n«Purl»\n«Out»\n«Bao»\n«Pearl»\n«Hair Love»\n\nViernes 24 de mayo: Tema «Emociones y superación» \n\n«If Anything Happens I Love You»\n«Canvas»\n«The Present»\n«Feast»\n\nViernes 31 de mayo: Tema «Aventura y fantasía» \n\n«Wind»\n«Float»\n«The Blue Umbrella»\n«The Secret of Kells»\n\n  \nHaz click en el botón «Me apunto» y reserva tu plaza. ¡Recuerda que son limitadas!
URL:https://plangalapagar.es/plan/cineforum-cortos-animados/
LOCATION:Punto Joven\, Guadarrama\, 68\, Galapagar\, Madrid\, 28260
CATEGORIES:Jóvenes
ATTACH;FMTTYPE=image/jpeg:https://plangalapagar.es/wp-content/uploads/2024/04/CINEFORUM.jpg
END:VEVENT
BEGIN:VEVENT
DTSTART;TZID=Europe/Madrid:20240511T173000
DTEND;TZID=Europe/Madrid:20240511T203000
DTSTAMP:20260421T073313
CREATED:20240430T040039Z
LAST-MODIFIED:20240430T102225Z
UID:10000321-1715448600-1715459400@plangalapagar.es
SUMMARY:Ocio Joven 11 de mayo
DESCRIPTION:¡Nuevo plan para jóvenes! \nEl próximo sábado 11 de mayo llega la «Aventura P: En busca de la IA perdida».  \nHace algunos años\, en un pequeño pueblo donde la tecnología y la naturaleza se entrelazaban\, se contaba una leyenda sobre una Inteligencia Artificial Olvidada\, conocida como «AIVA». Se decía que AIVA era la creación más avanzada de la inteligencia artificial\, capaz de aprender y adaptarse por sí misma\, pero había desaparecido misteriosamente… \n¿Estás listo para desenterrar los secretos perdidos y reclamar la gloria como un verdadero explorador? Prepárate para una búsqueda del tesoro épica diseñada para desafiar tu ingenio y llevar tus habilidades al límite. ¡Únete a la aventura más emocionante de la primavera! \nDurante la actividad\, te embarcarás en una emocionante misión para encontrar una IA perdida\, oculta en los rincones más remotos y misteriosos. ¿Tienes lo que se necesita para descifrar códigos\, resolver enigmas y enfrentarte a desafíos tecnológicos? ¡Es tu momento de brillar! ¿Te atreves a adentrarte en el mundo de la inteligencia artificial y enfrentarte a hackers malintencionados? ¡Demuestra tu valentía y habilidades tecnológicas mientras te abres paso hacia la victoria! \n¡No te pierdas esta experiencia! Reúne a tus amigos\, forma un equipo imparable y prepárate para vivir una aventura que recordarás para siempre. ¡Es hora de descubrir los secretos perdidos y demostrar que estás en tu prime! \nEste plan es gratis y las plazas son limitadas.  \nHaz click en el botón «Me apunto» y reserva la tuya.
URL:https://plangalapagar.es/plan/ocio-joven-11-de-mayo/
LOCATION:Punto Joven\, Guadarrama\, 68\, Galapagar\, Madrid\, 28260
CATEGORIES:Jóvenes
ATTACH;FMTTYPE=image/jpeg:https://plangalapagar.es/wp-content/uploads/2024/04/OJ-11mayo.jpg
END:VEVENT
BEGIN:VEVENT
DTSTART;TZID=Europe/Madrid:20240514T180000
DTEND;TZID=Europe/Madrid:20240514T193000
DTSTAMP:20260421T073313
CREATED:20240430T040030Z
LAST-MODIFIED:20240430T102349Z
UID:10000310-1715709600-1715715000@plangalapagar.es
SUMMARY:Técnicas de estudio - Storytelling
DESCRIPTION:¿Tienes entre 12 y 20 años? \n¡Descubre el poder de contar para entender en nuestro taller de «Técnicas de estudio»! \nSumérgete en un mundo de aprendizaje innovador donde el storytelling se convierte en tu aliado para dominar cualquier materia. \nEn nuestra segunda sesión\, que tendrá lugar el martes 14 de mayo\, exploraremos a fondo cómo el arte de contar historias puede transformar la manera en que comprendes y retienes la información. A través de actividades prácticas y dinámicas\, te enseñaremos estrategias efectivas para mejorar tu capacidad de estudio y rendimiento académico. \nPrepárate para descubrir nuevas formas de aprender mientras desatas tu creatividad y desarrollas habilidades que te acompañarán en tu camino educativo. \n¡No te pierdas esta oportunidad única de hacer del estudio una experiencia divertida y enriquecedora! \nHaz click en el botón «Me apunto» y reserva tu plaza. ¡Recuerda que son limitadas!
URL:https://plangalapagar.es/plan/tecnicas-de-estudio-storytelling/
LOCATION:Punto Joven\, Guadarrama\, 68\, Galapagar\, Madrid\, 28260
CATEGORIES:Jóvenes
ATTACH;FMTTYPE=image/jpeg:https://plangalapagar.es/wp-content/uploads/2024/04/MAYO-14-STORY.jpg
END:VEVENT
BEGIN:VEVENT
DTSTART;TZID=Europe/Madrid:20240517T173000
DTEND;TZID=Europe/Madrid:20240517T203000
DTSTAMP:20260421T073313
CREATED:20240513T040048Z
LAST-MODIFIED:20240430T102505Z
UID:10000318-1715967000-1715977800@plangalapagar.es
SUMMARY:Diverteca 17 de mayo
DESCRIPTION:¡Nuevo plan de Diverteca! \nEl próximo viernes 17 de mayo\, en pequeños grupos\, crearemos flores con distintos materiales para decorar nuestros particulares patios que visitarán y votarán el resto de compañeros. \n¡Podremos llevarnos nuestras creaciones floridas a casa! \n¡No te pierdas este plan! Es gratis y las plazas son limitadas.  \nHaz click en el botón «Me apunto» y reserva la tuya.
URL:https://plangalapagar.es/plan/diverteca-17-de-mayo/
LOCATION:Punto Joven\, Guadarrama\, 68\, Galapagar\, Madrid\, 28260
CATEGORIES:Infantil
ATTACH;FMTTYPE=image/jpeg:https://plangalapagar.es/wp-content/uploads/2024/05/DV-17MAYO.jpg
END:VEVENT
BEGIN:VEVENT
DTSTART;TZID=Europe/Madrid:20240518T173000
DTEND;TZID=Europe/Madrid:20240518T203000
DTSTAMP:20260421T073313
CREATED:20240430T040045Z
LAST-MODIFIED:20240430T102619Z
UID:10000322-1716053400-1716064200@plangalapagar.es
SUMMARY:Ocio Joven 18 de mayo
DESCRIPTION:¿Listo para demostrar tus habilidades en el mando? ¡Entonces este plan es para ti! Únete a nosotros en nuestro «Torneo de PlayStation 5» en Punto Joven el próximo sábado 18 de mayo y vive la emoción de la competición gamer más intensa. \nPrepárate para sumergirte en un mundo de desafíos\, estrategias y diversión pura. No importa si eres un novato o un veterano\, ¡todos son bienvenidos a participar! Experimenta la adrenalina de competir contra otros gamers\, hacer nuevos amigos y disfrutar de la camaradería que solo los videojuegos pueden brindar. Este torneo es tu oportunidad de demostrar tu pasión por el gaming y dejar tu huella en la comunidad gamer local. \n¡No se trata solo de ganar\, se trata de vivir la emoción del juego y compartir esa pasión con otros! \n¡No te pierdas este plan! Es gratis y las plazas son limitadas.  \nHaz click en el botón «Me apunto» y reserva la tuya.
URL:https://plangalapagar.es/plan/ocio-joven-18-de-mayo/
LOCATION:Punto Joven\, Guadarrama\, 68\, Galapagar\, Madrid\, 28260
CATEGORIES:Jóvenes
ATTACH;FMTTYPE=image/jpeg:https://plangalapagar.es/wp-content/uploads/2024/04/OJ-18mayo.jpg
END:VEVENT
BEGIN:VEVENT
DTSTART;TZID=Europe/Madrid:20240521T183000
DTEND;TZID=Europe/Madrid:20240521T194500
DTSTAMP:20260421T073313
CREATED:20240430T040005Z
LAST-MODIFIED:20240430T102734Z
UID:10000311-1716316200-1716320700@plangalapagar.es
SUMMARY:Prepára-te para la EVAU - Manejo del estrés y la ansiedad
DESCRIPTION:¿Estás en 2º de Bachillerato? ¡Prepárate para brillar en la EVAU con nuestros talleres! \n¿Estás listo para enfrentarte a la EVAU con confianza y tranquilidad? ¡Entonces nuestros talleres «Prepara-te para la EVAU» son para ti! En ellos\, no nos centramos en el contenido de los exámenes\, sino en prepararte como persona para afrontar este desafío con calma\, seguridad y determinación. \nDurante este primer taller\, que tendrá lugar el martes 21 de mayo\, aprenderás herramientas prácticas para gestionar el estrés\, los nervios y la presión que puede surgir durante los exámenes. Te enseñaremos técnicas de relajación\, respiración y mindfulness para ayudarte a mantener la calma en momentos clave. \nAdemás\, tendrás la oportunidad de compartir experiencias con otros estudiantes\, fortaleciendo tu red de apoyo y creando un ambiente de colaboración y motivación mutua. Juntos\, nos apoyaremos para alcanzar nuestros objetivos y superar cualquier obstáculo que se nos presente. \n¡No pierdas la oportunidad de prepararte no solo académicamente\, sino también emocionalmente para la EVAU! \nHaz click en el botón «Me apunto» y reserva tu plaza. ¡Recuerda que son limitadas! \nEsta actividad está dirigida a jóvenes que estén cursando 2º de Bachillerato.  \n 
URL:https://plangalapagar.es/plan/prepara-te-para-la-evau-manejo-del-estres-y-la-ansiedad/
LOCATION:Punto Joven\, Guadarrama\, 68\, Galapagar\, Madrid\, 28260
CATEGORIES:Jóvenes
ATTACH;FMTTYPE=image/jpeg:https://plangalapagar.es/wp-content/uploads/2024/04/MAYO-21-EVAU.jpg
END:VEVENT
BEGIN:VEVENT
DTSTART;TZID=Europe/Madrid:20240522T173000
DTEND;TZID=Europe/Madrid:20240522T190000
DTSTAMP:20260421T073313
CREATED:20240430T040046Z
LAST-MODIFIED:20240506T104340Z
UID:10000316-1716399000-1716404400@plangalapagar.es
SUMMARY:Diver Family 22 de mayo
DESCRIPTION:¡En esta sesión de Diver Family descubriremos el maravilloso mundo de los dinosaurios que tanto gustan a los más pequeños de la casa! \nTendrá lugar el próximo miércoles 22 de mayo en Punto Joven.  \nFósiles\, excavaciones\, dinosaurios mágicos escondidos por el hielo y mucho más. \n¿Te lo vas a perder? ¡Es gratis! \nHaz click en el botón «Me apunto y reserva tu plaza». ¡Recuerda que son limitadas! \nEsta actividad está dirigida a niños y niñas de 1 a 5 años con acompañante.
URL:https://plangalapagar.es/plan/diver-family-22-de-mayo/
LOCATION:Punto Joven\, Guadarrama\, 68\, Galapagar\, Madrid\, 28260
CATEGORIES:Infantil
ATTACH;FMTTYPE=image/jpeg:https://plangalapagar.es/wp-content/uploads/2024/04/DIVERFAMILY.jpg
END:VEVENT
BEGIN:VEVENT
DTSTART;TZID=Europe/Madrid:20240524T173000
DTEND;TZID=Europe/Madrid:20240524T203000
DTSTAMP:20260421T073313
CREATED:20240520T065452Z
LAST-MODIFIED:20240520T065316Z
UID:10000319-1716571800-1716582600@plangalapagar.es
SUMMARY:Diverteca 24 de mayo
DESCRIPTION:¡Nuevo plan para los peques de la casa! \nEl próximo viernes 24 de mayo haremos botellas de la calma. Todas las personas necesitamos calmarnos de vez en cuando. ¿Y qué mejor que crear nuestro propio material que ayude a los más pequeños a conseguirlo más fácilmente? \nImportante: No olvidéis traer una botella de agua pequeña y vacía por participante. \n¡No te pierdas este plan! Es gratis y las plazas son limitadas.  \nHaz click en el botón «Me apunto» y reserva la tuya.
URL:https://plangalapagar.es/plan/diverteca-24-de-mayo/
LOCATION:Punto Joven\, Guadarrama\, 68\, Galapagar\, Madrid\, 28260
CATEGORIES:Infantil
ATTACH;FMTTYPE=image/jpeg:https://plangalapagar.es/wp-content/uploads/2024/05/DV-24MAYO.jpg
END:VEVENT
BEGIN:VEVENT
DTSTART;TZID=Europe/Madrid:20240525T173000
DTEND;TZID=Europe/Madrid:20240525T203000
DTSTAMP:20260421T073313
CREATED:20240430T040028Z
LAST-MODIFIED:20240430T103129Z
UID:10000323-1716658200-1716669000@plangalapagar.es
SUMMARY:Ocio Joven 25 de mayo
DESCRIPTION:¡Nuevo plan para jóvenes! \nEl próximo sábado 25 de mayo prepárate para una explosión de color y estilo con nuestra actividad de teñido de camisetas tipo tie dye.  \nTrae tus camisetas favoritas y únete a la diversión mientras exploramos diferentes técnicas para crear diseños alucinantes y únicos. Desde espirales psicodélicas hasta degradados suaves\, el límite es tu imaginación. \n¡Sumérgete en una experiencia creativa llena de música y buen rollo y no te pierdas la oportunidad de hacer de tus camisetas una obra maestra de lo más viral. ¡Ven y haz que tus prendas sean el centro de atención con el toque personal de la tendencia tie dye! \n¡No te pierdas este plan! Es gratis y las plazas son limitadas.  \nHaz click en el botón «Me apunto» y reserva la tuya.
URL:https://plangalapagar.es/plan/ocio-joven-25-de-mayo/
LOCATION:Punto Joven\, Guadarrama\, 68\, Galapagar\, Madrid\, 28260
CATEGORIES:Jóvenes
ATTACH;FMTTYPE=image/jpeg:https://plangalapagar.es/wp-content/uploads/2024/04/OJ-25mayo.jpg
END:VEVENT
BEGIN:VEVENT
DTSTART;TZID=Europe/Madrid:20240529T183000
DTEND;TZID=Europe/Madrid:20240529T194500
DTSTAMP:20260421T073313
CREATED:20240430T040033Z
LAST-MODIFIED:20240430T103415Z
UID:10000312-1717007400-1717011900@plangalapagar.es
SUMMARY:Prepára-te para la EVAU - Visualización\, tiempo\, autocuidado y relajación
DESCRIPTION:¿Estás en 2º de Bachillerato? ¡Prepárate para brillar en la EVAU con nuestros talleres! \n¿Estás listo para enfrentarte a la EVAU con confianza y tranquilidad? ¡Entonces nuestros talleres «Prepára-te para la EVAU» son para ti! En ellos\, no nos centramos en el contenido de los exámenes\, sino en prepararte como persona para afrontar este desafío con calma\, seguridad y determinación. \nDurante este segundo taller\, que tendrá lugar el miércoles 29 de mayo\, aprenderás técnicas de visualización\, gestión del tiempo\, autocuidado y relajación para enfrentar los retos académicos con total confianza. \nAprenderás cómo utilizar la visualización creativa para prepararte mentalmente para los exámenes. Te enseñaremos a imaginar escenarios exitosos\, visualizando cada paso del proceso de examen con confianza y claridad. Esta técnica te ayudará a reducir la ansiedad y a mejorar tu enfoque durante la prueba. \nDescubre estrategias efectivas para organizar tu tiempo de estudio y planificar tus sesiones de revisión de manera eficiente. Aprenderás a crear horarios realistas y a priorizar tus tareas de estudio para optimizar tu rendimiento académico sin quemarte. \nExploraremos la importancia del autocuidado durante la preparación para la EVAU. Desde técnicas de respiración y relajación hasta consejos prácticos para mantener una dieta equilibrada y dormir lo suficiente\, te proporcionaremos herramientas para cuidar tu bienestar físico y emocional mientras te preparas para los exámenes. \nAprenderás técnicas de relajación efectivas para reducir el estrés y mejorar tu concentración durante el estudio y los exámenes. Desde ejercicios de respiración hasta meditación guiada\, te daremos las herramientas necesarias para mantener la calma y la claridad mental en situaciones de alta presión. \nHaz click en el botón «Me apunto» y reserva tu plaza. ¡Recuerda que son limitadas! \nEsta actividad está dirigida a jóvenes que estén cursando 2º de Bachillerato. 
URL:https://plangalapagar.es/plan/prepara-te-para-la-evau-visualizacion-tiempo-autocuidado-y-relajacion/
LOCATION:Punto Joven\, Guadarrama\, 68\, Galapagar\, Madrid\, 28260
CATEGORIES:Jóvenes
ATTACH;FMTTYPE=image/jpeg:https://plangalapagar.es/wp-content/uploads/2024/04/MAYO-29-TIEMPO.jpg
END:VEVENT
BEGIN:VEVENT
DTSTART;TZID=Europe/Madrid:20240530T183000
DTEND;TZID=Europe/Madrid:20240530T200000
DTSTAMP:20260421T073313
CREATED:20240430T040045Z
LAST-MODIFIED:20240430T103526Z
UID:10000314-1717093800-1717099200@plangalapagar.es
SUMMARY:Verano por Europa gratis (o casi)
DESCRIPTION:¿Tienes entre 18 y 30 años? ¡Descubre el verano de tus sueños en Europa con nuestra sesión informativa! \nÚnete a nosotros para explorar emocionantes oportunidades con el Cuerpo Solidario Europeo\, Erasmus + y voluntariados en toda Europa. \nAprende cómo participar\, desde la solicitud hasta el viaje\, mientras te sumerges en culturas diversas y contribuyes a causas significativas. \n¡Desbloquea ventajas únicas\, desde el desarrollo personal hasta la construcción de redes internacionales! No te pierdas esta oportunidad única para vivir experiencias inolvidables y marcar la diferencia este verano. ¡Te esperamos! \nTendrá lugar el próximo 30 de mayo en Punto Joven.  \nHaz click en el botón «Me apunto» y reserva tu plaza. ¡Recuerda que son limitadas!
URL:https://plangalapagar.es/plan/verano-por-europa-gratis-o-casi/
LOCATION:Punto Joven\, Guadarrama\, 68\, Galapagar\, Madrid\, 28260
CATEGORIES:Jóvenes
ATTACH;FMTTYPE=image/jpeg:https://plangalapagar.es/wp-content/uploads/2024/04/VIAJAR-EUROPA.jpg
END:VEVENT
BEGIN:VEVENT
DTSTART;TZID=Europe/Madrid:20240531T173000
DTEND;TZID=Europe/Madrid:20240531T203000
DTSTAMP:20260421T073313
CREATED:20240527T040046Z
LAST-MODIFIED:20240430T103643Z
UID:10000320-1717176600-1717187400@plangalapagar.es
SUMMARY:Diverteca 31 de mayo
DESCRIPTION:¡Nos vamos de excursión con los peques de la casa! \nEl próximo viernes 31 de mayo tendrá lugar una actividad muy especial para disfrutar de la primavera. Nos iremos de excursión al Parque del Toril\, donde realizaremos actividades medioambientales y lúdicas disfrutando con los amigos de una tarde primaveral. \nLa recepción y despedida será en Punto Joven como cada viernes. \n¡No te pierdas este plan! Es gratis y las plazas son limitadas.  \nHaz click en el botón «Me apunto» y reserva la tuya.
URL:https://plangalapagar.es/plan/diverteca-31-de-mayo/
LOCATION:Punto Joven\, Guadarrama\, 68\, Galapagar\, Madrid\, 28260
CATEGORIES:Infantil
ATTACH;FMTTYPE=image/jpeg:https://plangalapagar.es/wp-content/uploads/2024/05/DV-31MAYO.jpg
END:VEVENT
END:VCALENDAR