BEGIN:VCALENDAR
VERSION:2.0
PRODID:-//Plan Galapagar - ECPv6.15.20//NONSGML v1.0//EN
CALSCALE:GREGORIAN
METHOD:PUBLISH
X-ORIGINAL-URL:https://plangalapagar.es
X-WR-CALDESC:Eventos para Plan Galapagar
REFRESH-INTERVAL;VALUE=DURATION:PT1H
X-Robots-Tag:noindex
X-PUBLISHED-TTL:PT1H
BEGIN:VTIMEZONE
TZID:Europe/Madrid
BEGIN:DAYLIGHT
TZOFFSETFROM:+0100
TZOFFSETTO:+0200
TZNAME:CEST
DTSTART:20230326T010000
END:DAYLIGHT
BEGIN:STANDARD
TZOFFSETFROM:+0200
TZOFFSETTO:+0100
TZNAME:CET
DTSTART:20231029T010000
END:STANDARD
BEGIN:DAYLIGHT
TZOFFSETFROM:+0100
TZOFFSETTO:+0200
TZNAME:CEST
DTSTART:20240331T010000
END:DAYLIGHT
BEGIN:STANDARD
TZOFFSETFROM:+0200
TZOFFSETTO:+0100
TZNAME:CET
DTSTART:20241027T010000
END:STANDARD
BEGIN:DAYLIGHT
TZOFFSETFROM:+0100
TZOFFSETTO:+0200
TZNAME:CEST
DTSTART:20250330T010000
END:DAYLIGHT
BEGIN:STANDARD
TZOFFSETFROM:+0200
TZOFFSETTO:+0100
TZNAME:CET
DTSTART:20251026T010000
END:STANDARD
END:VTIMEZONE
BEGIN:VEVENT
DTSTART;TZID=Europe/Madrid:20240729T110000
DTEND;TZID=Europe/Madrid:20240802T140000
DTSTAMP:20260421T025257
CREATED:20240625T063528Z
LAST-MODIFIED:20240712T074544Z
UID:10000351-1722250800-1722607200@plangalapagar.es
SUMMARY:Verano Joven 29 de julio - 2 de agosto
DESCRIPTION:¡Prepárate para un verano lleno de diversión y nuevas aventuras! Si tienes entre 12 y 17 años\, no te puedes perder Verano Joven\, el programa de actividades más emocionante para tus vacaciones inolvidables llenas de creatividad\, deporte y mucha diversión. \nHabrá actividades increíbles durante la semana del 29 de julio al 2 de agosto:  \n\nManualidades & Art Attack: Deja volar tu creatividad con proyectos súper divertidos.\nJuegos Deportivos Exteriores: Mantente activo y haz\, nuevos amigos.\n Juegos de Cooperación: Aprende a trabajar en equipo mientras te diviertes.\n Videoclips & Cortos: Si te gusta el cine y la música\, ¡esto es para ti!\n Juegos de Agua: ¡Refréscate mientras te diviertes bajo el sol!\n Futbolín & Ping-Pong: Demuestra tus habilidades y reta a tus amigos.\nPosibilidad de ir un día a la semana a la piscina municipal (cada participante debe pagar su entrada en la taquilla).\n\nHorario: De lunes a jueves de 11:00 a 14:00 horas y viernes de 11:00 a 18:00 horas.  \n  \nExcursión de la semana: El viernes 2 de agosto iremos al Área Recreativa El Chorro de Navafría para disfrutar de las cascadas y piscinas naturales en este rincón paradisíaco de la sierra. \nLugar de salida y recogida: Punto Joven de Galapagar.  \nHorario: De 11:00 a 18:00 horas. \n¿Qué debes traer? \n\nAgua.\nComida para almorzar.\nGorra.\nCrema solar.\nBañador en la mochila o uno de cambio (no puedes subir mojado al autobús).\nToalla.\nChanclas que te sujeten el pie\, además de calzado deportivo puesto.\nPueden traer dinero por si quieren comprarse algo en el chiringuito.\n\nPrecio total de la semana completa: 19\,50€.  \n\nLa actividad incluye monitores acompañantes y expertos en juventud que acompañarán a los menores toda la jornada.\nTransporte de ida y vuelta el día de la excursión.\nActividades lúdicas y/o culturales durante la jornada.\nSeguro de Responsabilidad Civil y Accidentes.\nEl pago se realiza mediante ingreso en la cuenta de Servicios Psicoeducativos (ES25 3058 1907 0527 2050 5695). En el concepto indique nombre de la excursión y datos del participantes (Ejemplo: Segovia Blanca García Muñoz). \n\n  \n¿Cómo apuntarse?  \n\nAccede a la web de Juventud plangalapagar.es para la inscripción en la actividad. Debes completar una inscripción en la web por cada semana que quieras participar en las actividades del Verano Joven. \nAsegúrate de proporcionar correctamente todos los datos que pongas en el formulario\, especialmente el correo electrónico\, ya que todas las comunicaciones\, incluida la confirmación de plaza\, te llegará a este correo.\nSigue las instrucciones en la página web asegurándote de completar todos los campos requeridos y adjuntar la documentación solicitada:\n\nFicha de inscripción cumplimentada y firmada por el padre/madre/tutor (adjunta la misma cada semana que te apuntes).\nJustificante de pago (puede ser una total de todas las semanas a las que estés apuntado).\nJustificante médico (si fuera necesario).\n\n\nImportante: El Ayuntamiento de Galapagar se reserva el derecho de dar de baja de la actividad a un participante en caso de que se compruebe que este no cumple con los requisitos establecidos para la misma\, así como si su participación puede suponer un riesgo y/o perjuicio para el desarrollo óptimo de la actividad y sus participantes.\n\n 
URL:https://plangalapagar.es/plan/verano-joven-29-de-julio-2-de-agosto/
LOCATION:Punto Joven\, Guadarrama\, 68\, Galapagar\, Madrid\, 28260
CATEGORIES:Jóvenes
ATTACH;FMTTYPE=image/jpeg:https://plangalapagar.es/wp-content/uploads/2024/06/2024-VeranoJoven_Semanas5.jpg
END:VEVENT
END:VCALENDAR