BEGIN:VCALENDAR
VERSION:2.0
PRODID:-//Plan Galapagar - ECPv6.15.20//NONSGML v1.0//EN
CALSCALE:GREGORIAN
METHOD:PUBLISH
X-ORIGINAL-URL:https://plangalapagar.es
X-WR-CALDESC:Eventos para Plan Galapagar
REFRESH-INTERVAL;VALUE=DURATION:PT1H
X-Robots-Tag:noindex
X-PUBLISHED-TTL:PT1H
BEGIN:VTIMEZONE
TZID:Europe/Madrid
BEGIN:DAYLIGHT
TZOFFSETFROM:+0100
TZOFFSETTO:+0200
TZNAME:CEST
DTSTART:20250330T010000
END:DAYLIGHT
BEGIN:STANDARD
TZOFFSETFROM:+0200
TZOFFSETTO:+0100
TZNAME:CET
DTSTART:20251026T010000
END:STANDARD
BEGIN:DAYLIGHT
TZOFFSETFROM:+0100
TZOFFSETTO:+0200
TZNAME:CEST
DTSTART:20260329T010000
END:DAYLIGHT
BEGIN:STANDARD
TZOFFSETFROM:+0200
TZOFFSETTO:+0100
TZNAME:CET
DTSTART:20261025T010000
END:STANDARD
BEGIN:DAYLIGHT
TZOFFSETFROM:+0100
TZOFFSETTO:+0200
TZNAME:CEST
DTSTART:20270328T010000
END:DAYLIGHT
BEGIN:STANDARD
TZOFFSETFROM:+0200
TZOFFSETTO:+0100
TZNAME:CET
DTSTART:20271031T010000
END:STANDARD
END:VTIMEZONE
BEGIN:VEVENT
DTSTART;TZID=Europe/Madrid:20260530T210000
DTEND;TZID=Europe/Madrid:20260530T233000
DTSTAMP:20260420T111133
CREATED:20260401T074228Z
LAST-MODIFIED:20260401T074228Z
UID:10001008-1780174800-1780183800@plangalapagar.es
SUMMARY:Rommel y Monty: Misión nocturna
DESCRIPTION:¿Tienes entre 12 y 17 años? \n¡No te pierdas este plan que combina estrategia\, adrenalina y trabajo en equipo bajo las estrellas y la luna llena!  \n«Rommel y Monty» es un emocionante juego nocturno que realizaremos al aire libre en el Parque del Toril inspirado en la estrategia y el movimiento táctico. Diseñado especialmente para adolescentes\, combina aventura\, cooperación y toma de decisiones en un entorno seguro y dinámico. \nEn esta misión\, dos equipos os enfrentaréis en un desafío estratégico donde deberéis planificar movimientos\, proteger vuestra base y cumplir objetivos mientras exploráis el terreno en la oscuridad. La noche añade un componente extra de emoción\, atención y coordinación grupal.  \n¡No te lo pierdas\, es gratis y las plazas son limitadas! \nHaz click en el botón «Me apunto» y reserva la tuya. \nNota: Los participantes deben llevar linterna.
URL:https://plangalapagar.es/plan/ocio-nocturno-300526/
LOCATION:Punto Joven\, Guadarrama\, 68\, Galapagar\, Madrid\, 28260
CATEGORIES:Jóvenes
ATTACH;FMTTYPE=image/jpeg:https://plangalapagar.es/wp-content/uploads/2026/03/ROMELYMONTY.jpg
END:VEVENT
END:VCALENDAR