BEGIN:VCALENDAR
VERSION:2.0
PRODID:-//Plan Galapagar - ECPv6.15.20//NONSGML v1.0//EN
CALSCALE:GREGORIAN
METHOD:PUBLISH
X-ORIGINAL-URL:https://plangalapagar.es
X-WR-CALDESC:Eventos para Plan Galapagar
REFRESH-INTERVAL;VALUE=DURATION:PT1H
X-Robots-Tag:noindex
X-PUBLISHED-TTL:PT1H
BEGIN:VTIMEZONE
TZID:Europe/Madrid
BEGIN:DAYLIGHT
TZOFFSETFROM:+0100
TZOFFSETTO:+0200
TZNAME:CEST
DTSTART:20220327T010000
END:DAYLIGHT
BEGIN:STANDARD
TZOFFSETFROM:+0200
TZOFFSETTO:+0100
TZNAME:CET
DTSTART:20221030T010000
END:STANDARD
BEGIN:DAYLIGHT
TZOFFSETFROM:+0100
TZOFFSETTO:+0200
TZNAME:CEST
DTSTART:20230326T010000
END:DAYLIGHT
BEGIN:STANDARD
TZOFFSETFROM:+0200
TZOFFSETTO:+0100
TZNAME:CET
DTSTART:20231029T010000
END:STANDARD
BEGIN:DAYLIGHT
TZOFFSETFROM:+0100
TZOFFSETTO:+0200
TZNAME:CEST
DTSTART:20240331T010000
END:DAYLIGHT
BEGIN:STANDARD
TZOFFSETFROM:+0200
TZOFFSETTO:+0100
TZNAME:CET
DTSTART:20241027T010000
END:STANDARD
END:VTIMEZONE
BEGIN:VEVENT
DTSTART;TZID=Europe/Madrid:20230616T170000
DTEND;TZID=Europe/Madrid:20230616T200000
DTSTAMP:20260424T015328
CREATED:20230612T040002Z
LAST-MODIFIED:20230613T090712Z
UID:10000171-1686934800-1686945600@plangalapagar.es
SUMMARY:Diverteca 16 de junio
DESCRIPTION:¡Planazo para los más peques de la casa! \nEl próximo viernes 16 de junio realizaremos una excursión al Parque del Toril. Haremos actividades medioambientales y lúdicas disfrutando de la primavera. \n¡No te pierdas esta actividad! \nEs gratis y las plazas son limitadas.  \n¡Dale al botón Me apunto!
URL:https://plangalapagar.es/plan/diverteca-16-de-junio/
LOCATION:Madrid
CATEGORIES:Infantil
ATTACH;FMTTYPE=image/jpeg:https://plangalapagar.es/wp-content/uploads/2023/06/diverteca-16-de-junio-nueva.jpg
END:VEVENT
BEGIN:VEVENT
DTSTART;TZID=Europe/Madrid:20230617T173000
DTEND;TZID=Europe/Madrid:20230617T203000
DTSTAMP:20260424T015328
CREATED:20230612T040010Z
LAST-MODIFIED:20230607T074802Z
UID:10000174-1687023000-1687033800@plangalapagar.es
SUMMARY:Ocio Joven 17 de junio
DESCRIPTION:¡Esta semana tenemos una nueva actividad para jóvenes! ¿Te apetece desarrollar tu lado creativo? \nEl próximo sábado 17 de junio aprenderemos a realizar pulseras\, llaveros o trenzas del pelo con diferentes materiales y técnicas. \n¡No te lo pierdas! \nEs gratis y las plazas son limitadas.  \n¡Dale al botón Me apunto!
URL:https://plangalapagar.es/plan/ocio-joven-17-de-junio/
LOCATION:Punto Joven\, Guadarrama\, 68\, Galapagar\, Madrid\, 28260
CATEGORIES:Jóvenes
ATTACH;FMTTYPE=image/jpeg:https://plangalapagar.es/wp-content/uploads/2023/06/JUN-17.jpg
END:VEVENT
END:VCALENDAR