BEGIN:VCALENDAR
VERSION:2.0
PRODID:-//Plan Galapagar - ECPv6.15.20//NONSGML v1.0//EN
CALSCALE:GREGORIAN
METHOD:PUBLISH
X-ORIGINAL-URL:https://plangalapagar.es
X-WR-CALDESC:Eventos para Plan Galapagar
REFRESH-INTERVAL;VALUE=DURATION:PT1H
X-Robots-Tag:noindex
X-PUBLISHED-TTL:PT1H
BEGIN:VTIMEZONE
TZID:Europe/Madrid
BEGIN:DAYLIGHT
TZOFFSETFROM:+0100
TZOFFSETTO:+0200
TZNAME:CEST
DTSTART:20220327T010000
END:DAYLIGHT
BEGIN:STANDARD
TZOFFSETFROM:+0200
TZOFFSETTO:+0100
TZNAME:CET
DTSTART:20221030T010000
END:STANDARD
BEGIN:DAYLIGHT
TZOFFSETFROM:+0100
TZOFFSETTO:+0200
TZNAME:CEST
DTSTART:20230326T010000
END:DAYLIGHT
BEGIN:STANDARD
TZOFFSETFROM:+0200
TZOFFSETTO:+0100
TZNAME:CET
DTSTART:20231029T010000
END:STANDARD
BEGIN:DAYLIGHT
TZOFFSETFROM:+0100
TZOFFSETTO:+0200
TZNAME:CEST
DTSTART:20240331T010000
END:DAYLIGHT
BEGIN:STANDARD
TZOFFSETFROM:+0200
TZOFFSETTO:+0100
TZNAME:CET
DTSTART:20241027T010000
END:STANDARD
END:VTIMEZONE
BEGIN:VEVENT
DTSTART;TZID=Europe/Madrid:20230710T110000
DTEND;TZID=Europe/Madrid:20230714T140000
DTSTAMP:20260424T020810
CREATED:20230614T094523Z
LAST-MODIFIED:20230614T094523Z
UID:10000178-1688986800-1689343200@plangalapagar.es
SUMMARY:Plan Verano Joven 10-14 de julio
DESCRIPTION:¿Tienes entre 12 y 17 años? \n¡No te pierdas el Verano Joven en Galapagar y disfruta de las actividades que tenemos preparadas para jóvenes. \nDurante la semana del 10 al 14 de julio habrá diversos planes para que puedas disfrutar con tus amigos y amigas.  \n\nLunes 10 de julio: Este día haremos diversos experimentos y nos divertiremos mucho.\nMartes 11 de julio: ¿Tienes calor? Vamos a refrescarnos con una gymkhana de agua. \nMiércoles 12 de julio: Este día te proponemos una actividad muy chula: Crea tus propias chapas personalizadas.\nJueves 13 de julio: Pierde el miedo a hablar en público con las Técnicas de comunicación y HHSS.\n\n¿Dónde y cuándo? El horario de actividades de lunes a jueves es de 11:00 a 14:00 horas en Punto Joven. Las actividades son gratuitas.  \n\nViernes 14 de julio: Salida al Área recreativa La Panera\, El espinar. De 10:30 a 18:00 horas. \n\nEl viernes 14 de julio nos remojaremos en las piscinas naturales\, compartiendo actividades y disfrutando de la naturaleza en El Espinar. \n¿Cuál es el precio? Esta actividad es gratuita e incluye monitores\, seguro y transporte.  \n¡Dale al botón Me apunto y reserva tu plaza! Una vez inscrito\, recibirás un correo electrónico con la ficha de inscripción/autorización\, la cual deberás entregar debidamente cumplimentada en Punto Joven (de forma presencial) antes del día de comienzo de la actividad. \nLa inscripción incluye la reserva de plaza de las actividades de toda la semana en su horario correspondiente. Te deberás apuntar una sola vez para todas las actividades. \nLas inscripciones se cierran el próximo 3 de julio.  \n  \n 
URL:https://plangalapagar.es/plan/plan-verano-joven-10-14-de-julio/
LOCATION:Punto Joven\, Guadarrama\, 68\, Galapagar\, Madrid\, 28260
CATEGORIES:Jóvenes
ATTACH;FMTTYPE=image/jpeg:https://plangalapagar.es/wp-content/uploads/2023/06/Verano-Joven-3-10-al-14-Julio.jpg
END:VEVENT
END:VCALENDAR