BEGIN:VCALENDAR
VERSION:2.0
PRODID:-//Plan Galapagar - ECPv6.15.20//NONSGML v1.0//EN
CALSCALE:GREGORIAN
METHOD:PUBLISH
X-ORIGINAL-URL:https://plangalapagar.es
X-WR-CALDESC:Eventos para Plan Galapagar
REFRESH-INTERVAL;VALUE=DURATION:PT1H
X-Robots-Tag:noindex
X-PUBLISHED-TTL:PT1H
BEGIN:VTIMEZONE
TZID:Europe/Madrid
BEGIN:DAYLIGHT
TZOFFSETFROM:+0100
TZOFFSETTO:+0200
TZNAME:CEST
DTSTART:20220327T010000
END:DAYLIGHT
BEGIN:STANDARD
TZOFFSETFROM:+0200
TZOFFSETTO:+0100
TZNAME:CET
DTSTART:20221030T010000
END:STANDARD
BEGIN:DAYLIGHT
TZOFFSETFROM:+0100
TZOFFSETTO:+0200
TZNAME:CEST
DTSTART:20230326T010000
END:DAYLIGHT
BEGIN:STANDARD
TZOFFSETFROM:+0200
TZOFFSETTO:+0100
TZNAME:CET
DTSTART:20231029T010000
END:STANDARD
BEGIN:DAYLIGHT
TZOFFSETFROM:+0100
TZOFFSETTO:+0200
TZNAME:CEST
DTSTART:20240331T010000
END:DAYLIGHT
BEGIN:STANDARD
TZOFFSETFROM:+0200
TZOFFSETTO:+0100
TZNAME:CET
DTSTART:20241027T010000
END:STANDARD
END:VTIMEZONE
BEGIN:VEVENT
DTSTART;TZID=Europe/Madrid:20230717T110000
DTEND;TZID=Europe/Madrid:20230721T140000
DTSTAMP:20260424T003805
CREATED:20230614T094604Z
LAST-MODIFIED:20230614T094604Z
UID:10000179-1689591600-1689948000@plangalapagar.es
SUMMARY:Plan Verano Joven 17-21 de julio
DESCRIPTION:¿Tienes entre 12 y 17 años? \n¡No te pierdas el Verano Joven en Galapagar y disfruta de las actividades que tenemos preparadas para jóvenes. \nDurante la semana del 17 al 21 de julio habrá diversos planes para que puedas disfrutar con tus amigos y amigas.  \n\nLunes 17 de julio: Disfruta con tus amigos y amigas de la actividad «Arte Circense». \nMartes 18 de julio: Este día habrá deportes alternativos para pasar una mañana muy divertida.\nMiércoles 19 de julio: Vamos a refrescarnos con una gymkhana de agua. \nJueves 20 de julio: Disfruta de la actividad «Porque yo lo valgo» y aprende dinámicas para fomentar la autoestima.\n\n¿Dónde y cuándo? El horario de actividades de lunes a jueves es de 11:00 a 14:00 horas en Punto Joven. Las actividades son gratuitas.  \n\nViernes 21 de julio: Salida a la Playa de la Virgen de la Nueva en San Martín de Valdeiglesias. De 10:30 a 18:00 horas. \n\nEl viernes 21 de julio nos vamos a la Playa de la virgen de la Nueva\, en el Pantano de San Juan\, una playa con bandera azul donde disfrutar del agua sin salir de Madrid. \n¿Cuál es el precio? Esta actividad es gratuita e incluye monitores\, seguro y transporte.  \n¡Dale al botón Me apunto y reserva tu plaza! Una vez inscrito\, recibirás un correo electrónico con la ficha de inscripción/autorización\, la cual deberás entregar debidamente cumplimentada en Punto Joven (de forma presencial) antes del día de comienzo de la actividad. \nLa inscripción incluye la reserva de plaza de las actividades de toda la semana en su horario correspondiente. Te deberás apuntar una sola vez para todas las actividades. \nLas inscripciones se cierran el próximo 10 de julio.  \n  \n  \n  \n 
URL:https://plangalapagar.es/plan/plan-verano-joven-17-21-de-julio/
LOCATION:Punto Joven\, Guadarrama\, 68\, Galapagar\, Madrid\, 28260
CATEGORIES:Jóvenes
ATTACH;FMTTYPE=image/jpeg:https://plangalapagar.es/wp-content/uploads/2023/06/Verano-Joven-4-17-al-21-Julio.jpg
END:VEVENT
END:VCALENDAR