BEGIN:VCALENDAR
VERSION:2.0
PRODID:-//Plan Galapagar - ECPv6.15.20//NONSGML v1.0//EN
CALSCALE:GREGORIAN
METHOD:PUBLISH
X-WR-CALNAME:Plan Galapagar
X-ORIGINAL-URL:https://plangalapagar.es
X-WR-CALDESC:Eventos para Plan Galapagar
REFRESH-INTERVAL;VALUE=DURATION:PT1H
X-Robots-Tag:noindex
X-PUBLISHED-TTL:PT1H
BEGIN:VTIMEZONE
TZID:Europe/Madrid
BEGIN:DAYLIGHT
TZOFFSETFROM:+0100
TZOFFSETTO:+0200
TZNAME:CEST
DTSTART:20220327T010000
END:DAYLIGHT
BEGIN:STANDARD
TZOFFSETFROM:+0200
TZOFFSETTO:+0100
TZNAME:CET
DTSTART:20221030T010000
END:STANDARD
BEGIN:DAYLIGHT
TZOFFSETFROM:+0100
TZOFFSETTO:+0200
TZNAME:CEST
DTSTART:20230326T010000
END:DAYLIGHT
BEGIN:STANDARD
TZOFFSETFROM:+0200
TZOFFSETTO:+0100
TZNAME:CET
DTSTART:20231029T010000
END:STANDARD
BEGIN:DAYLIGHT
TZOFFSETFROM:+0100
TZOFFSETTO:+0200
TZNAME:CEST
DTSTART:20240331T010000
END:DAYLIGHT
BEGIN:STANDARD
TZOFFSETFROM:+0200
TZOFFSETTO:+0100
TZNAME:CET
DTSTART:20241027T010000
END:STANDARD
END:VTIMEZONE
BEGIN:VEVENT
DTSTART;TZID=Europe/Madrid:20230724T110000
DTEND;TZID=Europe/Madrid:20230728T140000
DTSTAMP:20260423T231832
CREATED:20230614T094648Z
LAST-MODIFIED:20230614T094648Z
UID:10000180-1690196400-1690552800@plangalapagar.es
SUMMARY:Plan Verano Joven 24-28 de julio
DESCRIPTION:¿Tienes entre 12 y 17 años? \n¡No te pierdas el Verano Joven en Galapagar y disfruta de las actividades que tenemos preparadas para jóvenes. \nDurante la semana del 24 al 28 de julio habrá diversos planes para que puedas disfrutar con tus amigos y amigas.  \n\nLunes 24 de julio: Disfruta con tus amigos de una mañana de karaoke. ¡Pasaréis un rato muy divertido cantando juntos!\nMartes 25 de julio: Con este calor… ¡Vamos a refrescarnos con una gymkhana de agua!\nMiércoles 26 de julio: Disfruta de la mañana con tus amigos y amigas con nuestra actividad «Gymkhana medioambiental». \nJueves 27 de julio: Ven con tus amigos y amigas y diviértete simulando grafitis. ¡Lo pasaréis genial!\n\n¿Dónde y cuándo? El horario de actividades de lunes a jueves es de 11:00 a 14:00 horas en Punto Joven. Las actividades son gratuitas.  \n\nViernes 28 de julio: Salida al Área recreativa El Chorro de Navafría. De 10:30 a 18:00 horas. \n\nEl viernes 28 de julio iremos a Navafría. Podremos disfrutar en sus piscinas naturales\, realizar una pequeña senda para ver El chorro (una espectacular cascada con más de 20 metros de altura). ¡No te pierdas una experiencia única! \n¿Cuál es el precio? Esta actividad es gratuita e incluye monitores\, seguro y transporte.  \n¡Dale al botón Me apunto y reserva tu plaza! Una vez inscrito\, recibirás un correo electrónico con la ficha de inscripción/autorización\, la cual deberás entregar debidamente cumplimentada en Punto Joven (de forma presencial) antes del día de comienzo de la actividad. \nLa inscripción incluye la reserva de plaza de las actividades de toda la semana en su horario correspondiente. Te deberás apuntar una sola vez para todas las actividades. \nLas inscripciones se cierran el próximo 17 de julio.   \n 
URL:https://plangalapagar.es/plan/plan-verano-joven-24-28-de-julio/
LOCATION:Punto Joven\, Guadarrama\, 68\, Galapagar\, Madrid\, 28260
CATEGORIES:Jóvenes
ATTACH;FMTTYPE=image/jpeg:https://plangalapagar.es/wp-content/uploads/2023/06/Verano-Joven-5-24-al-28-Julio.jpg
END:VEVENT
BEGIN:VEVENT
DTSTART;TZID=Europe/Madrid:20230726T180000
DTEND;TZID=Europe/Madrid:20230727T210000
DTSTAMP:20260423T231832
CREATED:20230721T092037Z
LAST-MODIFIED:20230721T092037Z
UID:10000181-1690394400-1690491600@plangalapagar.es
SUMMARY:Torneo Mario Kart
DESCRIPTION:¿Tienes entre 12 y 19 años? \n¡No te pierdas el torneo Wii de Mario Kart! \nEl próximo miércoles 26 de julio tendrán lugar las rondas clasificatorias y el jueves 27 se disputarán las semifinales y finales. \nSerá en Punto Joven a partir de las 18:00 horas.  \n¡No te pierdas este plan\, es gratis y las plazas son limitadas! \n¡Dale al botón «Me apunto» y no pierdas tu plaza! \n 
URL:https://plangalapagar.es/plan/torneo-mario-kart/
LOCATION:Punto Joven\, Guadarrama\, 68\, Galapagar\, Madrid\, 28260
CATEGORIES:Jóvenes
ATTACH;FMTTYPE=image/jpeg:https://plangalapagar.es/wp-content/uploads/2023/07/mario-kart.jpg
END:VEVENT
BEGIN:VEVENT
DTSTART;TZID=Europe/Madrid:20230729T193000
DTEND;TZID=Europe/Madrid:20230729T213000
DTSTAMP:20260423T231832
CREATED:20230725T073636Z
LAST-MODIFIED:20230725T073636Z
UID:10000182-1690659000-1690666200@plangalapagar.es
SUMMARY:Fiesta light: Los temazos del verano
DESCRIPTION:¿Tienes entre 12 y 17 años? ¡Entonces no te pierdas este planazo! \nEl próximo sábado 29 de julio habrá una fiesta light donde podrás disfrutar de los temazos del verano y pasar un rato divertido cantando y bailando con tus amigos y amigas. \nDisfruta de una tarde de sábado diferente y apúntate a este plan. \n¿Cuándo y dónde? En Punto Joven de 19:30 a 21:30 horas.  \n¡Anímate\, es gratis!
URL:https://plangalapagar.es/plan/fiesta-light-los-temazos-del-verano/
LOCATION:Punto Joven\, Guadarrama\, 68\, Galapagar\, Madrid\, 28260
CATEGORIES:Jóvenes
ATTACH;FMTTYPE=image/jpeg:https://plangalapagar.es/wp-content/uploads/2023/07/fiesta-light-portada.jpg
END:VEVENT
END:VCALENDAR