BEGIN:VCALENDAR
VERSION:2.0
PRODID:-//Plan Galapagar - ECPv6.15.20//NONSGML v1.0//EN
CALSCALE:GREGORIAN
METHOD:PUBLISH
X-ORIGINAL-URL:https://plangalapagar.es
X-WR-CALDESC:Eventos para Plan Galapagar
REFRESH-INTERVAL;VALUE=DURATION:PT1H
X-Robots-Tag:noindex
X-PUBLISHED-TTL:PT1H
BEGIN:VTIMEZONE
TZID:Europe/Madrid
BEGIN:DAYLIGHT
TZOFFSETFROM:+0100
TZOFFSETTO:+0200
TZNAME:CEST
DTSTART:20220327T010000
END:DAYLIGHT
BEGIN:STANDARD
TZOFFSETFROM:+0200
TZOFFSETTO:+0100
TZNAME:CET
DTSTART:20221030T010000
END:STANDARD
BEGIN:DAYLIGHT
TZOFFSETFROM:+0100
TZOFFSETTO:+0200
TZNAME:CEST
DTSTART:20230326T010000
END:DAYLIGHT
BEGIN:STANDARD
TZOFFSETFROM:+0200
TZOFFSETTO:+0100
TZNAME:CET
DTSTART:20231029T010000
END:STANDARD
BEGIN:DAYLIGHT
TZOFFSETFROM:+0100
TZOFFSETTO:+0200
TZNAME:CEST
DTSTART:20240331T010000
END:DAYLIGHT
BEGIN:STANDARD
TZOFFSETFROM:+0200
TZOFFSETTO:+0100
TZNAME:CET
DTSTART:20241027T010000
END:STANDARD
END:VTIMEZONE
BEGIN:VEVENT
DTSTART;TZID=Europe/Madrid:20230922T170000
DTEND;TZID=Europe/Madrid:20230922T200000
DTSTAMP:20260423T204131
CREATED:20230918T135414Z
LAST-MODIFIED:20230918T135414Z
UID:10000192-1695402000-1695412800@plangalapagar.es
SUMMARY:Diverteca 22 de septiembre
DESCRIPTION:¡Por fin vuelve la Diverteca con un montón de nuevas actividades para los peques de la casa! \nEl próximo viernes 22 de septiembre realizaremos juegos de presentación y conocimiento y pintaremos con sal de colores. \n¿Te lo vas a perder? \n¡Es gratis y las plazas son limitadas! \nHaz click en el botón «Me apunto» y reserva tu plaza.
URL:https://plangalapagar.es/plan/diverteca-22-de-septiembre/
LOCATION:Punto Joven\, Guadarrama\, 68\, Galapagar\, Madrid\, 28260
CATEGORIES:Infantil
ATTACH;FMTTYPE=image/jpeg:https://plangalapagar.es/wp-content/uploads/2023/09/Diverteca1_largo.jpg
END:VEVENT
BEGIN:VEVENT
DTSTART;TZID=Europe/Madrid:20230923T173000
DTEND;TZID=Europe/Madrid:20230923T203000
DTSTAMP:20260423T204131
CREATED:20230918T135546Z
LAST-MODIFIED:20230918T135546Z
UID:10000194-1695490200-1695501000@plangalapagar.es
SUMMARY:Ocio Joven 23 de septiembre
DESCRIPTION:¡Volvemos con las actividades de Ocio Joven! \nEl próximo sábado 23 de septiembre podrás volver a disfrutar de un espacio especialmente creado para ti con música\, juegos de mesa\, ping-pong\, futbolín y mucho más. Además\, realizaremos nuestro propio organizador semanal borrable. \n¡No te pierdas este plan! \nEs gratis y las plazas son limitadas. \nHaz click en el botón «Me apunto» y reserva tu plaza.
URL:https://plangalapagar.es/plan/ocio-joven-23-de-septiembre/
LOCATION:Punto Joven\, Guadarrama\, 68\, Galapagar\, Madrid\, 28260
CATEGORIES:Jóvenes
ATTACH;FMTTYPE=image/jpeg:https://plangalapagar.es/wp-content/uploads/2023/09/OcioJoven1_largo.jpg
END:VEVENT
END:VCALENDAR