BEGIN:VCALENDAR
VERSION:2.0
PRODID:-//Plan Galapagar - ECPv6.15.20//NONSGML v1.0//EN
CALSCALE:GREGORIAN
METHOD:PUBLISH
X-ORIGINAL-URL:https://plangalapagar.es
X-WR-CALDESC:Eventos para Plan Galapagar
REFRESH-INTERVAL;VALUE=DURATION:PT1H
X-Robots-Tag:noindex
X-PUBLISHED-TTL:PT1H
BEGIN:VTIMEZONE
TZID:Europe/Madrid
BEGIN:DAYLIGHT
TZOFFSETFROM:+0100
TZOFFSETTO:+0200
TZNAME:CEST
DTSTART:20220327T010000
END:DAYLIGHT
BEGIN:STANDARD
TZOFFSETFROM:+0200
TZOFFSETTO:+0100
TZNAME:CET
DTSTART:20221030T010000
END:STANDARD
BEGIN:DAYLIGHT
TZOFFSETFROM:+0100
TZOFFSETTO:+0200
TZNAME:CEST
DTSTART:20230326T010000
END:DAYLIGHT
BEGIN:STANDARD
TZOFFSETFROM:+0200
TZOFFSETTO:+0100
TZNAME:CET
DTSTART:20231029T010000
END:STANDARD
BEGIN:DAYLIGHT
TZOFFSETFROM:+0100
TZOFFSETTO:+0200
TZNAME:CEST
DTSTART:20240331T010000
END:DAYLIGHT
BEGIN:STANDARD
TZOFFSETFROM:+0200
TZOFFSETTO:+0100
TZNAME:CET
DTSTART:20241027T010000
END:STANDARD
END:VTIMEZONE
BEGIN:VEVENT
DTSTART;VALUE=DATE:20230929
DTEND;VALUE=DATE:20231002
DTSTAMP:20260423T220618
CREATED:20230726T143241Z
LAST-MODIFIED:20230909T063012Z
UID:10000184-1695945600-1696204799@plangalapagar.es
SUMMARY:Finde de multiaventura en Navacerrada (12 a 14 años)
DESCRIPTION:¿Tienes entre 12 y 14 años? ¿Te apetece una escapada de fin de semana? ¡Pues no te pierdas este planazo! \nLa Concejalía de Juventud y la Concejalía de Servicios Sociales organizan el fin de semana del 29\, 30 de septiembre y 1 de octubre (de viernes a domingo) una salida con alojamiento y pensión completa al albergue «Los Almorchones» ubicado en Navacerrada. \nHabrá actividades de aire libre y multiaventura relacionadas con la resolución de conflictos\, el trabajo en equipo y la cooperación. Asimismo\, actividades de piragüismo con planteamientos cooperativos y trabajo en equipo\, manejo de cuerdas\, orientación\, senderismo\, veladas nocturnas\, rappel\, dinámicas\, Outdoor Training y muchas más. Todas ellas con la colaboración de psicólogos y educadores sociales expertos en la relación con menores. \nTodo el trabajo tendrá un objetivo transversal de prevención de la violencia con jóvenes en un contexto de ocio y tiempo libre para que los menores disfruten y lo pasen bien realizando las actividades. \nLa salida se realizará el viernes 29 de septiembre a las 16:00 horas desde Punto Joven y el regreso será el domingo 1 de octubre a partir de las 16:00 en Punto Joven.  \n¿Qué requisitos debo cumplir para apuntarme a este plan? \n\nDebes tener entre 12 y 14 años (es decir\, si has nacido entre el 2009-2011 y/o estás matriculado en 1º\, 2º y 3º ESO).\nDebes estar empadronado en Galapagar.\n\n  \nEsta actividad incluye: \n\nFin de semana con alojamiento y pensión completa (excepto la merienda del día de salida).\nMonitores y un delegado de protección según la ley LOPIVI.\nTécnicos especialistas en las actividades y todo el material necesario para la realización de las mismas (exceptuando la indumentaria personal de cada participante).\nSeguro de responsabilidad civil y accidentes.\nAutobuses desde Galapagar al albergue ida y vuelta y autobuses para la realización de las actividades que así lo requieran.\n\nImportante: Todos los participantes deberán salir y volver con el grupo desde y hasta Punto Joven de Galapagar. \n¿Cuánto cuesta esta actividad? El precio es de 20€ por participante en concepto de reserva de plaza y transporte. \nEs importante tener en cuenta que el Ayuntamiento de Galapagar se reserva el derecho a dar de baja de la actividad a un participante en caso de comprobar que no cumple con alguno de los requisitos\, así también\, como si su participación puede suponer un riesgo y/o perjuicio para el resto de participantes o el desarrollo óptimo de la actividad. \n\n¿Cómo me inscribo en esta actividad?\n\nPRE INSCRIPCIÓN (hasta el 4 de septiembre)\nDebes clicar en el botón «Me apunto» que verás en este plan en la web www.plangalapagar.es\nEs importante que revises muy bien los datos que pones\, fundamentalmente el correo\, ya que ahí te llegará toda la información.\nRevisa que no te llegue a SPAM (correo no deseado) y de ser así avisa a tu correo que NO ES SPAM.\nCONFIRMACIÓN Y ENVÍO DE DOCUMENTACIÓN (hasta el 6 de septiembre)\nAl correo que nos has facilitado te llegará un email confirmando tu preinscripción y los documentos que debes descargar\, rellenar y enviar antes del 6 de septiembre. Una vez pasado el plazo\, se dará de baja automáticamente a aquellas personas que no hayan enviado la documentación solicitada en tiempo y forma. No lo dejes para el último día por si surgiera cualquier problema que tengas tiempo a solucionarlo.\nCONFIRMACIÓN DE TU RESERVA DE PLAZA (a partir del 7 de septiembre)\nSi has enviado la documentación solicitada (dos documentos rellenos y el resguardo de pago) en el tiempo establecido (antes del 6 de septiembre)\, a partir del día 7 de septiembre iremos confirmando todas las plazas reservadas. De nuevo\, revisa tu correo y asegúrate que no acabamos en SPAM.\nREUNIÓN-TALLER INFORMATIVO PARA FAMILIAS  (19 de septiembre)\nEs obligatoria la asistencia de las familias al taller y charla informativa que celebraremos el día 19 de septiembre a las 17.00 horas en Punto Joven. Asegúrate que al menos el padre\, madre o tutor del menor participante puede asistir.\n\n  \nDARTE DE BAJA: Si ya has enviado los documentos y el resguardo de pago y decidieras darta de baja\, deberás hacerlo mediante el enlace que aparece en el correo de confirmación antes del 6 de septiembre. Si tuvieras cualquier problema para darte de baja contáctanos urgentemente para poder tramitarla. \n  \nLISTA DE ESPERA: Información solo para personas que estén en lista de espera \n\nSi al momento de apuntarte ya estaban todas las vacantes asignadas y estás en lista de espera\, deberás esperar a nuestro correo confirmándote que hubo bajas y que tienes una plaza disponible. Si no recibes este correo\, es que NO tienes plaza disponible.\nLas plazas de la lista de espera se irán asignado a partir del 7 de septiembre.\nSi te llegara el correo de confirmación de plaza a partir del 7 de septiembre\, tendrás hasta el 13 de septiembre para enviar la documentación que se te solicita.  En caso de no enviarla en tiempo y forma\, perderás tu plaza reservada. ¡No lo dejes para el último día!\n\n  \nRecuerda que es importante que revises frecuentemente el correo que nos has facilitado ya que es ahí donde se harán todas las comunicaciones respecto a esta actividad.
URL:https://plangalapagar.es/plan/finde-de-multiaventura-en-navacerrada/
LOCATION:Punto Joven\, Guadarrama\, 68\, Galapagar\, Madrid\, 28260
CATEGORIES:Jóvenes
ATTACH;FMTTYPE=image/jpeg:https://plangalapagar.es/wp-content/uploads/2023/07/MULTIAVENTURA1.jpg
END:VEVENT
BEGIN:VEVENT
DTSTART;TZID=Europe/Madrid:20230929T170000
DTEND;TZID=Europe/Madrid:20230929T200000
DTSTAMP:20260423T220618
CREATED:20230925T040028Z
LAST-MODIFIED:20230918T135652Z
UID:10000193-1696006800-1696017600@plangalapagar.es
SUMMARY:Diverteca 29 de septiembre
DESCRIPTION:¡Traemos un nuevo plan para los más peques de la casa! \nEl próximo viernes 29 de septiembre disfrutaremos de una tarde con diferentes rincones de juegos de mesa como el parchís\, la oca\, el dominó o su querido quién es quién. \n¿Te lo vas a perder? \n¡Es gratis y las plazas son limitadas! \nHaz click en el botón «Me apunto» y reserva tu plaza.
URL:https://plangalapagar.es/plan/diverteca-29-de-septiembre/
LOCATION:Punto Joven\, Guadarrama\, 68\, Galapagar\, Madrid\, 28260
CATEGORIES:Infantil
ATTACH;FMTTYPE=image/jpeg:https://plangalapagar.es/wp-content/uploads/2023/09/Diverteca2_largo.jpg
END:VEVENT
BEGIN:VEVENT
DTSTART;TZID=Europe/Madrid:20230930T173000
DTEND;TZID=Europe/Madrid:20230930T203000
DTSTAMP:20260423T220618
CREATED:20230925T040016Z
LAST-MODIFIED:20230918T135751Z
UID:10000195-1696095000-1696105800@plangalapagar.es
SUMMARY:Ocio Joven 30 de septiembre
DESCRIPTION:¡Nueva actividad para jóvenes! \nEl próximo sábado 30 de septiembre habrá un torneo de juegos de mesa. Elegid entre todos los que más o gusten (Catán\, Jungle\, virus y mucho más) y montaremos diferentes rincones para disfrutar de ellos. Podréis probar primero si alguno no lo conocéis y…¡Que gane el mejor! \n¡No te pierdas este plan! \nEs gratis y las plazas son limitadas. \nHaz click en el botón «Me apunto» y reserva tu plaza.
URL:https://plangalapagar.es/plan/ocio-joven-30-de-septiembre/
LOCATION:Punto Joven\, Guadarrama\, 68\, Galapagar\, Madrid\, 28260
CATEGORIES:Jóvenes
ATTACH;FMTTYPE=image/jpeg:https://plangalapagar.es/wp-content/uploads/2023/09/OcioJoven2_largo.jpg
END:VEVENT
END:VCALENDAR