BEGIN:VCALENDAR
VERSION:2.0
PRODID:-//Plan Galapagar - ECPv6.15.20//NONSGML v1.0//EN
CALSCALE:GREGORIAN
METHOD:PUBLISH
X-WR-CALNAME:Plan Galapagar
X-ORIGINAL-URL:https://plangalapagar.es
X-WR-CALDESC:Eventos para Plan Galapagar
REFRESH-INTERVAL;VALUE=DURATION:PT1H
X-Robots-Tag:noindex
X-PUBLISHED-TTL:PT1H
BEGIN:VTIMEZONE
TZID:Europe/Madrid
BEGIN:DAYLIGHT
TZOFFSETFROM:+0100
TZOFFSETTO:+0200
TZNAME:CEST
DTSTART:20220327T010000
END:DAYLIGHT
BEGIN:STANDARD
TZOFFSETFROM:+0200
TZOFFSETTO:+0100
TZNAME:CET
DTSTART:20221030T010000
END:STANDARD
BEGIN:DAYLIGHT
TZOFFSETFROM:+0100
TZOFFSETTO:+0200
TZNAME:CEST
DTSTART:20230326T010000
END:DAYLIGHT
BEGIN:STANDARD
TZOFFSETFROM:+0200
TZOFFSETTO:+0100
TZNAME:CET
DTSTART:20231029T010000
END:STANDARD
BEGIN:DAYLIGHT
TZOFFSETFROM:+0100
TZOFFSETTO:+0200
TZNAME:CEST
DTSTART:20240331T010000
END:DAYLIGHT
BEGIN:STANDARD
TZOFFSETFROM:+0200
TZOFFSETTO:+0100
TZNAME:CET
DTSTART:20241027T010000
END:STANDARD
END:VTIMEZONE
BEGIN:VEVENT
DTSTART;TZID=Europe/Madrid:20231013T170000
DTEND;TZID=Europe/Madrid:20231013T200000
DTSTAMP:20260423T220518
CREATED:20231010T101500Z
LAST-MODIFIED:20231010T101500Z
UID:10000198-1697216400-1697227200@plangalapagar.es
SUMMARY:Diverteca 13 de octubre
DESCRIPTION:¡Nuevo plan para los peques de la casa! \nEl próximo viernes 13 de octubre habrá una excursión otoñal al parque del Toril. Realizaremos actividades medioambientales y lúdicas disfrutando del otoño y haremos nuestra pulsera otoñal. \n¿Te lo vas a perder? \n¡Es gratis y las plazas son limitadas! \nDale al botón «Me apunto» y reserva tu plaza.
URL:https://plangalapagar.es/plan/diverteca-13-de-octubre/
LOCATION:Madrid
CATEGORIES:Infantil
ATTACH;FMTTYPE=image/jpeg:https://plangalapagar.es/wp-content/uploads/2023/10/DV-13-octubre.jpg
END:VEVENT
BEGIN:VEVENT
DTSTART;TZID=Europe/Madrid:20231014T173000
DTEND;TZID=Europe/Madrid:20231014T203000
DTSTAMP:20260423T220518
CREATED:20231010T101541Z
LAST-MODIFIED:20231010T101541Z
UID:10000199-1697304600-1697315400@plangalapagar.es
SUMMARY:Ocio Joven 14 de octubre
DESCRIPTION:¡Esta semana tenemos una nueva actividad para jóvenes! \n¿Te gusta la música? \nEl próximo sábado 14 de octubre habrá un karaoke. ¿Te atreves a perder la vergüenza? Da igual que se te dé bien o mal cantar\, lo importante es pasar una tarde de risas en Punto joven. \n¡No te pierdas este plan! \nEs gratis y las plazas son limitadas.  \nDale al botón «Me apunto» y reserva tu plaza.
URL:https://plangalapagar.es/plan/ocio-joven-14-de-octubre/
LOCATION:Punto Joven\, Guadarrama\, 68\, Galapagar\, Madrid\, 28260
CATEGORIES:Jóvenes
ATTACH;FMTTYPE=image/jpeg:https://plangalapagar.es/wp-content/uploads/2023/10/OJ-14-octubre.jpg
END:VEVENT
END:VCALENDAR