BEGIN:VCALENDAR
VERSION:2.0
PRODID:-//Plan Galapagar - ECPv6.15.20//NONSGML v1.0//EN
CALSCALE:GREGORIAN
METHOD:PUBLISH
X-ORIGINAL-URL:https://plangalapagar.es
X-WR-CALDESC:Eventos para Plan Galapagar
REFRESH-INTERVAL;VALUE=DURATION:PT1H
X-Robots-Tag:noindex
X-PUBLISHED-TTL:PT1H
BEGIN:VTIMEZONE
TZID:Europe/Madrid
BEGIN:DAYLIGHT
TZOFFSETFROM:+0100
TZOFFSETTO:+0200
TZNAME:CEST
DTSTART:20220327T010000
END:DAYLIGHT
BEGIN:STANDARD
TZOFFSETFROM:+0200
TZOFFSETTO:+0100
TZNAME:CET
DTSTART:20221030T010000
END:STANDARD
BEGIN:DAYLIGHT
TZOFFSETFROM:+0100
TZOFFSETTO:+0200
TZNAME:CEST
DTSTART:20230326T010000
END:DAYLIGHT
BEGIN:STANDARD
TZOFFSETFROM:+0200
TZOFFSETTO:+0100
TZNAME:CET
DTSTART:20231029T010000
END:STANDARD
BEGIN:DAYLIGHT
TZOFFSETFROM:+0100
TZOFFSETTO:+0200
TZNAME:CEST
DTSTART:20240331T010000
END:DAYLIGHT
BEGIN:STANDARD
TZOFFSETFROM:+0200
TZOFFSETTO:+0100
TZNAME:CET
DTSTART:20241027T010000
END:STANDARD
END:VTIMEZONE
BEGIN:VEVENT
DTSTART;TZID=Europe/Madrid:20231018T183000
DTEND;TZID=Europe/Madrid:20231018T210000
DTSTAMP:20260423T204803
CREATED:20231017T121027Z
LAST-MODIFIED:20231019T125055Z
UID:10000208-1697653800-1697662800@plangalapagar.es
SUMMARY:Taller sobre la prevención de suicidio
DESCRIPTION:El próximo miércoles 18 de octubre habrá un taller sobre la prevención de suicidio en la Biblioteca Municipal Ricardo León a partir de las 18:30 horas.  \nEsta conferencia ha sido organizada por la Asociación Sara Jiménez y el Ayuntamiento de Galapagar\, pensando en la sociedad y en la problemática actual que hay con el suicidio y en general con la salud mental. \nEste taller «Sí. Hablemos de suicidio» contará con la presencia de Francisco Javier Jiménez Saiz\, superviviente del suicidio de su hija Sara y autor de los libros «Vacunas para un duelo» y «Escúchame y te ayudaré». Asimismo\, nos acompañará Genoveva Casado\, superviviente del suicidio de su hermano.
URL:https://plangalapagar.es/plan/taller-sobre-la-prevencion-de-suicidio/
LOCATION:Madrid
CATEGORIES:Familiares
ATTACH;FMTTYPE=image/jpeg:https://plangalapagar.es/wp-content/uploads/2023/10/Conferenciasuiciodio_largo.jpg
END:VEVENT
BEGIN:VEVENT
DTSTART;TZID=Europe/Madrid:20231020T170000
DTEND;TZID=Europe/Madrid:20231020T200000
DTSTAMP:20260423T204803
CREATED:20231016T112444Z
LAST-MODIFIED:20231019T125040Z
UID:10000204-1697821200-1697832000@plangalapagar.es
SUMMARY:Diverteca 20 de octubre
DESCRIPTION:¡Nuevo plan para los peques de la casa! \nEl próximo viernes 20 de octubre tendrá lugar la actividad «Tiñe tus dibujos con agua en spray». Pintaremos de una manera muy especial con la tinta de los rotuladores pasada por agua. ¿Vienes a ver en qué consiste? \n¡No te pierdas este plan\, es gratis y las plazas son limitadas! \nDale al botón «Me apunto» y reserva la tuya.
URL:https://plangalapagar.es/plan/diverteca-20-de-octubre/
LOCATION:Punto Joven\, Guadarrama\, 68\, Galapagar\, Madrid\, 28260
CATEGORIES:Infantil
ATTACH;FMTTYPE=image/jpeg:https://plangalapagar.es/wp-content/uploads/2023/10/Diverteca-20OCT_largo.jpg
END:VEVENT
BEGIN:VEVENT
DTSTART;TZID=Europe/Madrid:20231021T173000
DTEND;TZID=Europe/Madrid:20231021T203000
DTSTAMP:20260423T204803
CREATED:20231016T112516Z
LAST-MODIFIED:20231019T125021Z
UID:10000205-1697909400-1697920200@plangalapagar.es
SUMMARY:Ocio Joven 21 de octubre
DESCRIPTION:¡Nuevo plan para jóvenes! \nEl próximo sábado 21 de octubre haremos pulseras y llaveros. Crearemos pulseras y llaveros personalizados con hilos de colores y diferentes técnicas. Puedes quedártelos o hacerle un regalo a alguien. \n¿Te lo vas a perder? \n¡Es gratis y las plazas son limitadas! \nDale al botón «Me apunto» y reserva la tuya.
URL:https://plangalapagar.es/plan/ocio-joven-21-de-octubre/
LOCATION:Punto Joven\, Guadarrama\, 68\, Galapagar\, Madrid\, 28260
CATEGORIES:Jóvenes
ATTACH;FMTTYPE=image/jpeg:https://plangalapagar.es/wp-content/uploads/2023/10/OcioJoven-21oct_largo.jpg
END:VEVENT
END:VCALENDAR