BEGIN:VCALENDAR
VERSION:2.0
PRODID:-//Plan Galapagar - ECPv6.15.20//NONSGML v1.0//EN
CALSCALE:GREGORIAN
METHOD:PUBLISH
X-WR-CALNAME:Plan Galapagar
X-ORIGINAL-URL:https://plangalapagar.es
X-WR-CALDESC:Eventos para Plan Galapagar
REFRESH-INTERVAL;VALUE=DURATION:PT1H
X-Robots-Tag:noindex
X-PUBLISHED-TTL:PT1H
BEGIN:VTIMEZONE
TZID:Europe/Madrid
BEGIN:DAYLIGHT
TZOFFSETFROM:+0100
TZOFFSETTO:+0200
TZNAME:CEST
DTSTART:20220327T010000
END:DAYLIGHT
BEGIN:STANDARD
TZOFFSETFROM:+0200
TZOFFSETTO:+0100
TZNAME:CET
DTSTART:20221030T010000
END:STANDARD
BEGIN:DAYLIGHT
TZOFFSETFROM:+0100
TZOFFSETTO:+0200
TZNAME:CEST
DTSTART:20230326T010000
END:DAYLIGHT
BEGIN:STANDARD
TZOFFSETFROM:+0200
TZOFFSETTO:+0100
TZNAME:CET
DTSTART:20231029T010000
END:STANDARD
BEGIN:DAYLIGHT
TZOFFSETFROM:+0100
TZOFFSETTO:+0200
TZNAME:CEST
DTSTART:20240331T010000
END:DAYLIGHT
BEGIN:STANDARD
TZOFFSETFROM:+0200
TZOFFSETTO:+0100
TZNAME:CET
DTSTART:20241027T010000
END:STANDARD
END:VTIMEZONE
BEGIN:VEVENT
DTSTART;TZID=Europe/Madrid:20231025T180000
DTEND;TZID=Europe/Madrid:20231025T193000
DTSTAMP:20260423T192348
CREATED:20231017T121353Z
LAST-MODIFIED:20231019T124940Z
UID:10000200-1698256800-1698262200@plangalapagar.es
SUMMARY:Diver Family - 25 de octubre
DESCRIPTION:¡Llega una actividad muy divertida para los más peques de la casa! \n¡Únete a la diversión en familia en nuestro evento especial de Halloween! Los más pequeños y sus familiares podrán disfrutar de un taller de manualidades donde crearán sus propias arañas usando sus manitas\, seguido de rincones mágicos diseñados para explorar con sus sentidos y música de Halloween para bailar y reír. ¡Te esperamos para pasar un rato genial en familia! \nEsta actividad tendrá lugar el miércoles 25 de octubre de 18:00 a 19:30 horas en Punto Joven.  \nEstá dirigida a niños y niñas de 1 a 5 años.  \n¡No te la pierdas! Es gratis y las plazas son limitadas. \nDale al botón «Me apunto» y reserva la tuya. \n 
URL:https://plangalapagar.es/plan/peque-halloween-25-de-octubre/
LOCATION:Punto Joven\, Guadarrama\, 68\, Galapagar\, Madrid\, 28260
CATEGORIES:Infantil
ATTACH;FMTTYPE=image/jpeg:https://plangalapagar.es/wp-content/uploads/2023/10/diverfamily-1_largo.jpg
END:VEVENT
BEGIN:VEVENT
DTSTART;TZID=Europe/Madrid:20231026T173000
DTEND;TZID=Europe/Madrid:20231102T190000
DTSTAMP:20260423T192348
CREATED:20231017T064900Z
LAST-MODIFIED:20231019T124905Z
UID:10000203-1698341400-1698951600@plangalapagar.es
SUMMARY:Programa de empleo
DESCRIPTION:¿Buscas empleo? Si es así\, durante este mes de octubre y principios de noviembre puedes acudir al programa de empleo para la incorporación al mundo laboral. El objetivo es dotar a las personas participantes de las herramientas y recursos para su incorporación al mundo laboral a través de sesiones grupales y talleres formativos e itinerarios individualizados de inserción laboral. \nConsta de tres sesiones. La primera tratará sobre las habilidades sociolaborales y CV y tendrá lugar el jueves 26 de octubre. Por su parte\, la segunda sesión\, que tendrá lugar el martes 31 de octubre\, abarcará las técnicas de búsqueda activa de empleo y competencias digitales. Finalmente\, la tercera sesión tratará sobre la entrevista en el mercado laboral y tendrá lugar el jueves 2 de noviembre. \nEl horario será de 17:30 a 19:00 horas en Punto Joven. La reserva de plaza en este plan incluye las tres sesiones del programa. Dale al botón «Me apunto» y no te quedes sin ella. ¡Son limitadas!
URL:https://plangalapagar.es/plan/programa-de-empleo/
LOCATION:Punto Joven\, Guadarrama\, 68\, Galapagar\, Madrid\, 28260
CATEGORIES:Familiares
ATTACH;FMTTYPE=image/jpeg:https://plangalapagar.es/wp-content/uploads/2023/10/empleo-web-nuevo-logo.jpg
END:VEVENT
BEGIN:VEVENT
DTSTART;TZID=Europe/Madrid:20231027T170000
DTEND;TZID=Europe/Madrid:20231027T200000
DTSTAMP:20260423T192348
CREATED:20231023T040040Z
LAST-MODIFIED:20231019T125310Z
UID:10000206-1698426000-1698436800@plangalapagar.es
SUMMARY:Diverteca 27 de octubre
DESCRIPTION:¡Llega otro plan de Diverteca para los más pequeños de la casa! \nEl próximo viernes 27 de octubre tendrá lugar la actividad «Tarde terrorífica». Se acerca la noche más espeluznante del año y por eso realizaremos diferentes manualidades y juegos «terroríficos». \n¡No te pierdas este plan! \nEs gratis y las plazas son limitadas. \nDale al botón «Me apunto» y reserva la tuya.
URL:https://plangalapagar.es/plan/diverteca-27-de-octubre/
LOCATION:Punto Joven\, Guadarrama\, 68\, Galapagar\, Madrid\, 28260
CATEGORIES:Infantil
ATTACH;FMTTYPE=image/jpeg:https://plangalapagar.es/wp-content/uploads/2023/10/Diverteca-27OCT_largo.jpg
END:VEVENT
BEGIN:VEVENT
DTSTART;TZID=Europe/Madrid:20231028T173000
DTEND;TZID=Europe/Madrid:20231028T203000
DTSTAMP:20260423T192348
CREATED:20231023T040052Z
LAST-MODIFIED:20231019T125302Z
UID:10000207-1698514200-1698525000@plangalapagar.es
SUMMARY:Ocio Joven 28 de octubre
DESCRIPTION:¡Llega un nuevo plan para jóvenes! \nEl próximo sábado 28 de octubre tendrá lugar la actividad «Master Chef terrorífico». Los aspirantes tendrán que conseguir los ingredientes más escalofriantes para cocinar una merienda terrorífica. \n¡No te pierdas este plan\, es gratis y las plazas son limitadas! \nDale al botón «Me apunto» y reserva la tuya.
URL:https://plangalapagar.es/plan/ocio-joven-28-de-octubre/
LOCATION:Punto Joven\, Guadarrama\, 68\, Galapagar\, Madrid\, 28260
CATEGORIES:Jóvenes
ATTACH;FMTTYPE=image/jpeg:https://plangalapagar.es/wp-content/uploads/2023/10/OcioJoven-28oct_largo.jpg
END:VEVENT
END:VCALENDAR