BEGIN:VCALENDAR
VERSION:2.0
PRODID:-//Plan Galapagar - ECPv6.15.20//NONSGML v1.0//EN
CALSCALE:GREGORIAN
METHOD:PUBLISH
X-WR-CALNAME:Plan Galapagar
X-ORIGINAL-URL:https://plangalapagar.es
X-WR-CALDESC:Eventos para Plan Galapagar
REFRESH-INTERVAL;VALUE=DURATION:PT1H
X-Robots-Tag:noindex
X-PUBLISHED-TTL:PT1H
BEGIN:VTIMEZONE
TZID:Europe/Madrid
BEGIN:DAYLIGHT
TZOFFSETFROM:+0100
TZOFFSETTO:+0200
TZNAME:CEST
DTSTART:20220327T010000
END:DAYLIGHT
BEGIN:STANDARD
TZOFFSETFROM:+0200
TZOFFSETTO:+0100
TZNAME:CET
DTSTART:20221030T010000
END:STANDARD
BEGIN:DAYLIGHT
TZOFFSETFROM:+0100
TZOFFSETTO:+0200
TZNAME:CEST
DTSTART:20230326T010000
END:DAYLIGHT
BEGIN:STANDARD
TZOFFSETFROM:+0200
TZOFFSETTO:+0100
TZNAME:CET
DTSTART:20231029T010000
END:STANDARD
BEGIN:DAYLIGHT
TZOFFSETFROM:+0100
TZOFFSETTO:+0200
TZNAME:CEST
DTSTART:20240331T010000
END:DAYLIGHT
BEGIN:STANDARD
TZOFFSETFROM:+0200
TZOFFSETTO:+0100
TZNAME:CET
DTSTART:20241027T010000
END:STANDARD
END:VTIMEZONE
BEGIN:VEVENT
DTSTART;TZID=Europe/Madrid:20231026T173000
DTEND;TZID=Europe/Madrid:20231102T190000
DTSTAMP:20260423T175446
CREATED:20231017T064900Z
LAST-MODIFIED:20231019T124905Z
UID:10000203-1698341400-1698951600@plangalapagar.es
SUMMARY:Programa de empleo
DESCRIPTION:¿Buscas empleo? Si es así\, durante este mes de octubre y principios de noviembre puedes acudir al programa de empleo para la incorporación al mundo laboral. El objetivo es dotar a las personas participantes de las herramientas y recursos para su incorporación al mundo laboral a través de sesiones grupales y talleres formativos e itinerarios individualizados de inserción laboral. \nConsta de tres sesiones. La primera tratará sobre las habilidades sociolaborales y CV y tendrá lugar el jueves 26 de octubre. Por su parte\, la segunda sesión\, que tendrá lugar el martes 31 de octubre\, abarcará las técnicas de búsqueda activa de empleo y competencias digitales. Finalmente\, la tercera sesión tratará sobre la entrevista en el mercado laboral y tendrá lugar el jueves 2 de noviembre. \nEl horario será de 17:30 a 19:00 horas en Punto Joven. La reserva de plaza en este plan incluye las tres sesiones del programa. Dale al botón «Me apunto» y no te quedes sin ella. ¡Son limitadas!
URL:https://plangalapagar.es/plan/programa-de-empleo/
LOCATION:Punto Joven\, Guadarrama\, 68\, Galapagar\, Madrid\, 28260
CATEGORIES:Familiares
ATTACH;FMTTYPE=image/jpeg:https://plangalapagar.es/wp-content/uploads/2023/10/empleo-web-nuevo-logo.jpg
END:VEVENT
BEGIN:VEVENT
DTSTART;TZID=Europe/Madrid:20231103T170000
DTEND;TZID=Europe/Madrid:20231103T200000
DTSTAMP:20260423T175446
CREATED:20231030T050053Z
LAST-MODIFIED:20231027T075058Z
UID:10000214-1699030800-1699041600@plangalapagar.es
SUMMARY:Diverteca 3 de noviembre
DESCRIPTION:¡Nuevas actividades de Diverteca para los más peques de la casa! \nEl próximo viernes 3 de noviembre tendrá lugar la actividad «Pintura creativa». Dejaremos volar nuestra imaginación pintando de maneras diferentes y especiales. ¿Quieres sacar el artista que llevas dentro? \n¡No te pierdas este plan\, es gratis y las plazas son limitadas! \nHaz click en el botón «Me apunto» y reserva la tuya.
URL:https://plangalapagar.es/plan/diverteca-3-de-noviembre/
LOCATION:Punto Joven\, Guadarrama\, 68\, Galapagar\, Madrid\, 28260
CATEGORIES:Infantil
ATTACH;FMTTYPE=image/jpeg:https://plangalapagar.es/wp-content/uploads/2023/10/DV-3NOV_largo.jpg
END:VEVENT
BEGIN:VEVENT
DTSTART;TZID=Europe/Madrid:20231104T173000
DTEND;TZID=Europe/Madrid:20231104T203000
DTSTAMP:20260423T175446
CREATED:20231030T050006Z
LAST-MODIFIED:20231027T075149Z
UID:10000218-1699119000-1699129800@plangalapagar.es
SUMMARY:Ocio Joven 4 de noviembre
DESCRIPTION:¡Nueva actividad para jóvenes! \nEl próximo sábado 4 de noviembre habrá un taller de slime. A petición de los participantes de Ocio joven\, realizaremos esta masilla viscosa que se puede moldear y customizar a gusto del consumidor y que mientras se amasa ayuda a relajarse. \n¡No te lo pierdas! \nEs gratis y las plazas son limitadas. \nHaz click en el botón «Me apunto» y reserva la tuya.
URL:https://plangalapagar.es/plan/ocio-joven-4-de-noviembre/
LOCATION:Punto Joven\, Guadarrama\, 68\, Galapagar\, Madrid\, 28260
CATEGORIES:Jóvenes
ATTACH;FMTTYPE=image/jpeg:https://plangalapagar.es/wp-content/uploads/2023/10/OJ-4NOV_largo.jpg
END:VEVENT
END:VCALENDAR