BEGIN:VCALENDAR
VERSION:2.0
PRODID:-//Plan Galapagar - ECPv6.15.20//NONSGML v1.0//EN
CALSCALE:GREGORIAN
METHOD:PUBLISH
X-WR-CALNAME:Plan Galapagar
X-ORIGINAL-URL:https://plangalapagar.es
X-WR-CALDESC:Eventos para Plan Galapagar
REFRESH-INTERVAL;VALUE=DURATION:PT1H
X-Robots-Tag:noindex
X-PUBLISHED-TTL:PT1H
BEGIN:VTIMEZONE
TZID:Europe/Madrid
BEGIN:DAYLIGHT
TZOFFSETFROM:+0100
TZOFFSETTO:+0200
TZNAME:CEST
DTSTART:20220327T010000
END:DAYLIGHT
BEGIN:STANDARD
TZOFFSETFROM:+0200
TZOFFSETTO:+0100
TZNAME:CET
DTSTART:20221030T010000
END:STANDARD
BEGIN:DAYLIGHT
TZOFFSETFROM:+0100
TZOFFSETTO:+0200
TZNAME:CEST
DTSTART:20230326T010000
END:DAYLIGHT
BEGIN:STANDARD
TZOFFSETFROM:+0200
TZOFFSETTO:+0100
TZNAME:CET
DTSTART:20231029T010000
END:STANDARD
BEGIN:DAYLIGHT
TZOFFSETFROM:+0100
TZOFFSETTO:+0200
TZNAME:CEST
DTSTART:20240331T010000
END:DAYLIGHT
BEGIN:STANDARD
TZOFFSETFROM:+0200
TZOFFSETTO:+0100
TZNAME:CET
DTSTART:20241027T010000
END:STANDARD
END:VTIMEZONE
BEGIN:VEVENT
DTSTART;TZID=Europe/Madrid:20231108T180000
DTEND;TZID=Europe/Madrid:20231108T193000
DTSTAMP:20260423T190843
CREATED:20231107T075151Z
LAST-MODIFIED:20231107T075151Z
UID:10000222-1699466400-1699471800@plangalapagar.es
SUMMARY:Club PG 8 de noviembre
DESCRIPTION:¿Te gustaría formar parte de una Fraternidad? \n¡Únete al Club PG y estarás un paso más cerca de conseguirlo! \nEn este espacio nos juntaremos todas las personas que alguna vez hayamos soñado con vivir la experiencia de una universidad americana. Compartiremos aficiones\, hobbies y todo lo que queráis. \nLas fraternidades se empezarán a crear cuando haya unas cuantas personas con las mismas aficiones. Cada fraternidad decidirá su nombre y su logo. ¡Puede haber tantas como queráis! \nHabilitaremos espacios gratuitos en Punto Joven para juntarnos y poder desarrollar todas las ideas que se nos ocurran. \n¿Qué Fraternidad te gustaría formar? \nHaz click en el botón «Me apunto» y no te pierdas este plan. ¡Es gratis y las plazas son limitadas! \n 
URL:https://plangalapagar.es/plan/club-pg-8-de-noviembre/
LOCATION:Punto Joven\, Guadarrama\, 68\, Galapagar\, Madrid\, 28260
CATEGORIES:Jóvenes
ATTACH;FMTTYPE=image/jpeg:https://plangalapagar.es/wp-content/uploads/2023/11/club-pg-8-nov-.jpg
END:VEVENT
BEGIN:VEVENT
DTSTART;TZID=Europe/Madrid:20231110T170000
DTEND;TZID=Europe/Madrid:20231110T200000
DTSTAMP:20260423T190843
CREATED:20231106T050004Z
LAST-MODIFIED:20231106T121259Z
UID:10000215-1699635600-1699646400@plangalapagar.es
SUMMARY:Diverteca 10 de noviembre
DESCRIPTION:¡Nueva actividad para los peques! \nEl próximo viernes 10 de noviembre podrás pasarlo en grande con «Juegos populares 2.0». Disfrutaremos de las 3 en raya en vivo\, el escondite\, la gallinita ciega\, la rayuela y muchos más. Ven a disfrutar con tus amigos a Punto joven.  \n¡No te pierdas este plan\, es gratis y las plazas son limitadas! \nDale al botón «Me apunto» y reserva la tuya.
URL:https://plangalapagar.es/plan/diverteca-10-de-noviembre/
LOCATION:Punto Joven\, Guadarrama\, 68\, Galapagar\, Madrid\, 28260
CATEGORIES:Infantil
ATTACH;FMTTYPE=image/jpeg:https://plangalapagar.es/wp-content/uploads/2023/10/DV-10NOV_largo.jpg
END:VEVENT
BEGIN:VEVENT
DTSTART;TZID=Europe/Madrid:20231111T173000
DTEND;TZID=Europe/Madrid:20231111T203000
DTSTAMP:20260423T190843
CREATED:20231106T050001Z
LAST-MODIFIED:20231027T075343Z
UID:10000219-1699723800-1699734600@plangalapagar.es
SUMMARY:Ocio Joven 11 de noviembre
DESCRIPTION:¡Llega una nueva actividad de Ocio Joven! \nEl próximo sábado 11 de noviembre habrá juegos de mesa y karaoke. Podréis elegir entre Catán\, Jungle\, Virus y muchos más o aclarar vuestras gargantas para cantar y bailar en el karaoke. \n¡No te lo pierdas\, es gratis y las plazas son limitadas! \nDale al botón «Me apunto» y reserva la tuya.
URL:https://plangalapagar.es/plan/ocio-joven-11-de-noviembre/
LOCATION:Punto Joven\, Guadarrama\, 68\, Galapagar\, Madrid\, 28260
CATEGORIES:Jóvenes
ATTACH;FMTTYPE=image/jpeg:https://plangalapagar.es/wp-content/uploads/2023/10/OJ-11NOV_largo.jpg
END:VEVENT
END:VCALENDAR