BEGIN:VCALENDAR
VERSION:2.0
PRODID:-//Plan Galapagar - ECPv6.15.20//NONSGML v1.0//EN
CALSCALE:GREGORIAN
METHOD:PUBLISH
X-WR-CALNAME:Plan Galapagar
X-ORIGINAL-URL:https://plangalapagar.es
X-WR-CALDESC:Eventos para Plan Galapagar
REFRESH-INTERVAL;VALUE=DURATION:PT1H
X-Robots-Tag:noindex
X-PUBLISHED-TTL:PT1H
BEGIN:VTIMEZONE
TZID:Europe/Madrid
BEGIN:DAYLIGHT
TZOFFSETFROM:+0100
TZOFFSETTO:+0200
TZNAME:CEST
DTSTART:20220327T010000
END:DAYLIGHT
BEGIN:STANDARD
TZOFFSETFROM:+0200
TZOFFSETTO:+0100
TZNAME:CET
DTSTART:20221030T010000
END:STANDARD
BEGIN:DAYLIGHT
TZOFFSETFROM:+0100
TZOFFSETTO:+0200
TZNAME:CEST
DTSTART:20230326T010000
END:DAYLIGHT
BEGIN:STANDARD
TZOFFSETFROM:+0200
TZOFFSETTO:+0100
TZNAME:CET
DTSTART:20231029T010000
END:STANDARD
BEGIN:DAYLIGHT
TZOFFSETFROM:+0100
TZOFFSETTO:+0200
TZNAME:CEST
DTSTART:20240331T010000
END:DAYLIGHT
BEGIN:STANDARD
TZOFFSETFROM:+0200
TZOFFSETTO:+0100
TZNAME:CET
DTSTART:20241027T010000
END:STANDARD
END:VTIMEZONE
BEGIN:VEVENT
DTSTART;TZID=Europe/Madrid:20231121T180000
DTEND;TZID=Europe/Madrid:20231128T193000
DTSTAMP:20260423T175444
CREATED:20231102T050003Z
LAST-MODIFIED:20231031T092546Z
UID:10000211-1700589600-1701199800@plangalapagar.es
SUMMARY:Programa "Diseña con tu móvil" - 21 y 28 de noviembre
DESCRIPTION:¡Aprende a editar vídeos con Capcut!  \nSeguro que ves montajes increíbles de vídeos de viajes\, de recetas o de sitios secretos de Madrid a diario. ¿Te gustaría aprender cómo hacerlos? ¡Apúntate a este taller! \nAprenderás a crear vídeos increíbles\, a hacer transiciones sorprendentes y a poner la música que más te gusta. Tus proyectos van a estar a la altura de los mejores tiktokers. \nVamos a aprender el uso básico de la herramienta Capcut\, un editor de vídeos profesional que se puede usar de forma gratuita\, bien online o descargando la app en tu dispositivo móvil. \nLo único que necesitas traer es tu móvil y las ideas más locas que se te ocurran para crear un vídeo único. \nEste taller está formado por dos sesiones consecutivas. En la primera aprenderemos elementos y herramientas básicas de Capcut. Elegiremos una temática atractiva entre todos y por grupos\, grabaremos distintos vídeos para\, en la siguiente sesión\, crear nuestro proyecto digno de los mejores youtubers. \nEn la segunda sesión refrescaremos algunos de los conceptos aprendidos. Nos juntaremos por grupos y empezaremos a montar los vídeos que grabamos en la sesión anterior para\, posteriormente\, presentarlos al resto de compañeros. \n¿Os animáis? \nEsta actividad tendrá lugar los martes 21 y 28 de noviembre en Punto Joven de 18:00 a 19:30 horas. Está dirigida a jóvenes de 12 a 30 años.  \n¡Es gratis! Solo necesitas traer un teléfono móvil para realizar la actividad. \nHaz click en el botón «Me apunto» y reserva tu plaza. ¡Son limitadas! \nNota: La reserva de plaza en este plan incluye las dos sesiones (21 y 28 de noviembre). \n 
URL:https://plangalapagar.es/plan/programa-disena-con-tu-movil-21-y-28-de-noviembre/
LOCATION:Punto Joven\, Guadarrama\, 68\, Galapagar\, Madrid\, 28260
CATEGORIES:Jóvenes
ATTACH;FMTTYPE=image/jpeg:https://plangalapagar.es/wp-content/uploads/2023/10/DISENA2_largo.jpg
END:VEVENT
BEGIN:VEVENT
DTSTART;TZID=Europe/Madrid:20231122T180000
DTEND;TZID=Europe/Madrid:20231122T193000
DTSTAMP:20260423T175444
CREATED:20231107T075312Z
LAST-MODIFIED:20231107T075312Z
UID:10000223-1700676000-1700681400@plangalapagar.es
SUMMARY:Club PG 22 de noviembre
DESCRIPTION:¿Te gustaría formar parte de una Fraternidad? \n¡Únete al Club PG y estarás un paso más cerca de conseguirlo! \nEn este espacio nos juntaremos todas las personas que alguna vez hayamos soñado con vivir la experiencia de una universidad americana. Compartiremos aficiones\, hobbies y todo lo que queráis. \nLas fraternidades se empezarán a crear cuando haya unas cuantas personas con las mismas aficiones. Cada fraternidad decidirá su nombre y su logo. ¡Puede haber tantas como queráis! \nHabilitaremos espacios gratuitos en Punto Joven para juntarnos y poder desarrollar todas las ideas que se nos ocurran. \n¿Qué Fraternidad te gustaría formar? \nHaz click en el botón «Me apunto» y no te pierdas este plan. ¡Es gratis y las plazas son limitadas!
URL:https://plangalapagar.es/plan/club-pg-22-de-noviembre/
LOCATION:Punto Joven\, Guadarrama\, 68\, Galapagar\, Madrid\, 28260
CATEGORIES:Jóvenes
ATTACH;FMTTYPE=image/jpeg:https://plangalapagar.es/wp-content/uploads/2023/11/club-pg-22-nov.jpg
END:VEVENT
BEGIN:VEVENT
DTSTART;TZID=Europe/Madrid:20231124T170000
DTEND;TZID=Europe/Madrid:20231124T200000
DTSTAMP:20260423T175444
CREATED:20231120T050054Z
LAST-MODIFIED:20231027T075643Z
UID:10000217-1700845200-1700856000@plangalapagar.es
SUMMARY:Diverteca 24 de noviembre
DESCRIPTION:¡Nueva actividad de Diverteca para los peques! \nEl próximo viernes 24 de noviembre tendrá lugar la actividad «Experimentos». En pequeños grupos aprenderemos algo de ciencias con divertidos experimentos caseros. \n¡Aprenderemos mientras jugamos! ¿A que suena divertido? \nNo te pierdas este plan\, es gratis y las plazas son limitadas. \nHaz click en el botón «Me apunto» y reserva la tuya.
URL:https://plangalapagar.es/plan/diverteca-24-de-noviembre/
LOCATION:Punto Joven\, Guadarrama\, 68\, Galapagar\, Madrid\, 28260
CATEGORIES:Infantil
ATTACH;FMTTYPE=image/jpeg:https://plangalapagar.es/wp-content/uploads/2023/10/DV-24NOV_largo.jpg
END:VEVENT
BEGIN:VEVENT
DTSTART;TZID=Europe/Madrid:20231125T173000
DTEND;TZID=Europe/Madrid:20231125T203000
DTSTAMP:20260423T175444
CREATED:20231120T050053Z
LAST-MODIFIED:20231027T075835Z
UID:10000221-1700933400-1700944200@plangalapagar.es
SUMMARY:Ocio Joven 25 de noviembre
DESCRIPTION:¡Nueva actividad de Ocio Joven! \nEl próximo sábado 25 de noviembre tendrá lugar la actividad «Customiza tu ropa». ¿Quieres transformar y darle un aire nuevo a tu ropa? Trae una camiseta o algunas prendas de ropa y juntos les daremos un toque personal. \n¡No te pierdas este plan! Es gratis y las plazas son limitadas. \nHaz click en el botón «Me apunto» y reserva la tuya.
URL:https://plangalapagar.es/plan/ocio-joven-25-de-noviembre/
LOCATION:Punto Joven\, Guadarrama\, 68\, Galapagar\, Madrid\, 28260
CATEGORIES:Jóvenes
ATTACH;FMTTYPE=image/jpeg:https://plangalapagar.es/wp-content/uploads/2023/10/OJ-25NOV_largo.jpg
END:VEVENT
END:VCALENDAR