BEGIN:VCALENDAR
VERSION:2.0
PRODID:-//Plan Galapagar - ECPv6.15.20//NONSGML v1.0//EN
CALSCALE:GREGORIAN
METHOD:PUBLISH
X-ORIGINAL-URL:https://plangalapagar.es
X-WR-CALDESC:Eventos para Plan Galapagar
REFRESH-INTERVAL;VALUE=DURATION:PT1H
X-Robots-Tag:noindex
X-PUBLISHED-TTL:PT1H
BEGIN:VTIMEZONE
TZID:Europe/Madrid
BEGIN:DAYLIGHT
TZOFFSETFROM:+0100
TZOFFSETTO:+0200
TZNAME:CEST
DTSTART:20220327T010000
END:DAYLIGHT
BEGIN:STANDARD
TZOFFSETFROM:+0200
TZOFFSETTO:+0100
TZNAME:CET
DTSTART:20221030T010000
END:STANDARD
BEGIN:DAYLIGHT
TZOFFSETFROM:+0100
TZOFFSETTO:+0200
TZNAME:CEST
DTSTART:20230326T010000
END:DAYLIGHT
BEGIN:STANDARD
TZOFFSETFROM:+0200
TZOFFSETTO:+0100
TZNAME:CET
DTSTART:20231029T010000
END:STANDARD
BEGIN:DAYLIGHT
TZOFFSETFROM:+0100
TZOFFSETTO:+0200
TZNAME:CEST
DTSTART:20240331T010000
END:DAYLIGHT
BEGIN:STANDARD
TZOFFSETFROM:+0200
TZOFFSETTO:+0100
TZNAME:CET
DTSTART:20241027T010000
END:STANDARD
END:VTIMEZONE
BEGIN:VEVENT
DTSTART;TZID=Europe/Madrid:20231121T180000
DTEND;TZID=Europe/Madrid:20231128T193000
DTSTAMP:20260423T191929
CREATED:20231102T050003Z
LAST-MODIFIED:20231031T092546Z
UID:10000211-1700589600-1701199800@plangalapagar.es
SUMMARY:Programa "Diseña con tu móvil" - 21 y 28 de noviembre
DESCRIPTION:¡Aprende a editar vídeos con Capcut!  \nSeguro que ves montajes increíbles de vídeos de viajes\, de recetas o de sitios secretos de Madrid a diario. ¿Te gustaría aprender cómo hacerlos? ¡Apúntate a este taller! \nAprenderás a crear vídeos increíbles\, a hacer transiciones sorprendentes y a poner la música que más te gusta. Tus proyectos van a estar a la altura de los mejores tiktokers. \nVamos a aprender el uso básico de la herramienta Capcut\, un editor de vídeos profesional que se puede usar de forma gratuita\, bien online o descargando la app en tu dispositivo móvil. \nLo único que necesitas traer es tu móvil y las ideas más locas que se te ocurran para crear un vídeo único. \nEste taller está formado por dos sesiones consecutivas. En la primera aprenderemos elementos y herramientas básicas de Capcut. Elegiremos una temática atractiva entre todos y por grupos\, grabaremos distintos vídeos para\, en la siguiente sesión\, crear nuestro proyecto digno de los mejores youtubers. \nEn la segunda sesión refrescaremos algunos de los conceptos aprendidos. Nos juntaremos por grupos y empezaremos a montar los vídeos que grabamos en la sesión anterior para\, posteriormente\, presentarlos al resto de compañeros. \n¿Os animáis? \nEsta actividad tendrá lugar los martes 21 y 28 de noviembre en Punto Joven de 18:00 a 19:30 horas. Está dirigida a jóvenes de 12 a 30 años.  \n¡Es gratis! Solo necesitas traer un teléfono móvil para realizar la actividad. \nHaz click en el botón «Me apunto» y reserva tu plaza. ¡Son limitadas! \nNota: La reserva de plaza en este plan incluye las dos sesiones (21 y 28 de noviembre). \n 
URL:https://plangalapagar.es/plan/programa-disena-con-tu-movil-21-y-28-de-noviembre/
LOCATION:Punto Joven\, Guadarrama\, 68\, Galapagar\, Madrid\, 28260
CATEGORIES:Jóvenes
ATTACH;FMTTYPE=image/jpeg:https://plangalapagar.es/wp-content/uploads/2023/10/DISENA2_largo.jpg
END:VEVENT
BEGIN:VEVENT
DTSTART;TZID=Europe/Madrid:20231129T173000
DTEND;TZID=Europe/Madrid:20231129T190000
DTSTAMP:20260423T191929
CREATED:20231102T050015Z
LAST-MODIFIED:20231107T093554Z
UID:10000201-1701279000-1701284400@plangalapagar.es
SUMMARY:Diver Family - 29 de noviembre
DESCRIPTION:¡Nuevo plan para los peques de la casa! Si quieres pasar un rato divertido\, no te lo pierdas. \nEn esta actividad creativa los niños experimentarán con pintura con yogurt y colorante alimenticio. ¡Una tarde de creatividad para chuparse los dedos! \nEste plan tendrá lugar el miércoles 29 de noviembre de 17:30 a 19:00 horas en Punto Joven.  \nEstá dirigido a niños y niñas de 1 a 5 años.  \n¡No te lo pierdas! Es gratis y las plazas son limitadas. \nDale al botón «Me apunto» y reserva la tuya.
URL:https://plangalapagar.es/plan/pintura-creativa-luces-y-sombras-29-de-noviembre/
LOCATION:Punto Joven\, Guadarrama\, 68\, Galapagar\, Madrid\, 28260
CATEGORIES:Infantil
ATTACH;FMTTYPE=image/jpeg:https://plangalapagar.es/wp-content/uploads/2023/10/diverfamily-2_largo-1.jpg
END:VEVENT
BEGIN:VEVENT
DTSTART;TZID=Europe/Madrid:20231130T180000
DTEND;TZID=Europe/Madrid:20231130T193000
DTSTAMP:20260423T191929
CREATED:20231109T081025Z
LAST-MODIFIED:20231109T081025Z
UID:10000225-1701367200-1701372600@plangalapagar.es
SUMMARY:Tritorneo para grupos 30 de noviembre
DESCRIPTION:¿Tienes entre 12 y 30 años? \n¡No te pierdas el primer Tritorneo para grupos con tus amigos en Punto Joven! \nConsta de tres pruebas diferentes: Futbolín\, Ping-Pong y Dardos. Se realizarán tres jornadas que coronarán con el equipo vencedor del Tritorneo.  \nEs recomendable asistir a todas las jornadas\, pero si a alguna no podéis acudir ¡No hay problema! Los puntos se acumulan para la clasificación final. \nLos equipos tienen que estar formados por un mínimo de 4 personas y un máximo de 6. \nAtención: En el formulario de inscripción debes apuntar a un mínimo de 4 personas y un máximo de 6\, ni más\, ni menos. Aunque veas más campos en el formulario\, déjalos en blanco.  \n¿No tienes equipo o no llegáis a 4 participantes? ¡No os preocupéis! Indicadlo en la inscripción y desde Plan Galapagar os buscamos equipo. \n¡Anímate\, es gratis y las plazas son limitadas! \nHaz click en el botón «Me apunto». Las plazas para este plan hacen referencia a la primera sesión que tendrá lugar el 30 de noviembre. \n 
URL:https://plangalapagar.es/plan/tritorneo-para-grupos-30-de-noviembre/
LOCATION:Punto Joven\, Guadarrama\, 68\, Galapagar\, Madrid\, 28260
CATEGORIES:Jóvenes
ATTACH;FMTTYPE=image/jpeg:https://plangalapagar.es/wp-content/uploads/2023/11/TRITORNEO_LARGO.jpg
END:VEVENT
BEGIN:VEVENT
DTSTART;TZID=Europe/Madrid:20231201T170000
DTEND;TZID=Europe/Madrid:20231201T200000
DTSTAMP:20260423T191929
CREATED:20231127T050054Z
LAST-MODIFIED:20231115T094024Z
UID:10000228-1701450000-1701460800@plangalapagar.es
SUMMARY:Diverteca 1 de diciembre
DESCRIPTION:¡Nuevo plan de Diverteca para los peques de la casa! \nEl próximo viernes 1 de diciembre tendrá lugar la actividad «Rincones de juegos de mesa». Disfrutaremos de una tarde llena de aprendizaje y diversión con los diferentes juegos de mesa que encontraremos en la sala. Y recordad: ¡Lo importante es participar! \n¿Te lo vas a perder? \n¡Es gratis y las plazas son limitadas! \nHaz click en el botón «Me apunto» y reserva la tuya. \n 
URL:https://plangalapagar.es/plan/diverteca-1-de-diciembre/
LOCATION:Punto Joven\, Guadarrama\, 68\, Galapagar\, Madrid\, 28260
CATEGORIES:Infantil
ATTACH;FMTTYPE=image/jpeg:https://plangalapagar.es/wp-content/uploads/2023/11/DV1_largo.jpg
END:VEVENT
BEGIN:VEVENT
DTSTART;TZID=Europe/Madrid:20231202T173000
DTEND;TZID=Europe/Madrid:20231202T203000
DTSTAMP:20260423T191929
CREATED:20231120T050013Z
LAST-MODIFIED:20231129T085429Z
UID:10000231-1701538200-1701549000@plangalapagar.es
SUMMARY:Ocio Joven 2 de diciembre
DESCRIPTION:¡Llega la actividad Rommel y Monty! \nEl próximo sábado 2 de diciembre habrá un juego de estrategia en vivo donde se enfrentarán dos bandos de números iguales\, con el objetivo de conseguir la bandera del otro equipo sin morir en la batalla. \nVence al ejército enemigo en el campo de batalla\, observa a tu rival\, planifica tu próximo ataque y captura la bandera enemiga. En este juego de estrategia sin tablero vosotros seréis las fichas. \nDivididos en 2 equipos enfrentados\, cada persona será un personaje (bandera\, soldado\, bomba\, mariscal…) con diferentes características\, pero una misión común: conseguir la bandera del equipo contrario\, alumbrados por la tenue luz de una linterna \n¿Te atreves a vivir la experiencia? \n¡El campo de batalla será en la oscuridad de la sala! \n¡No te pierdas esta actividad\, es gratis y las plazas son limitadas! \nHaz click en el botón «Me apunto» y reserva la tuya.
URL:https://plangalapagar.es/plan/ocio-joven-2-de-diciembre/
LOCATION:Punto Joven\, Guadarrama\, 68\, Galapagar\, Madrid\, 28260
CATEGORIES:Jóvenes
ATTACH;FMTTYPE=image/jpeg:https://plangalapagar.es/wp-content/uploads/2023/11/OJ1_largo-1.jpg
END:VEVENT
END:VCALENDAR