BEGIN:VCALENDAR
VERSION:2.0
PRODID:-//Plan Galapagar - ECPv6.15.20//NONSGML v1.0//EN
CALSCALE:GREGORIAN
METHOD:PUBLISH
X-ORIGINAL-URL:https://plangalapagar.es
X-WR-CALDESC:Eventos para Plan Galapagar
REFRESH-INTERVAL;VALUE=DURATION:PT1H
X-Robots-Tag:noindex
X-PUBLISHED-TTL:PT1H
BEGIN:VTIMEZONE
TZID:Europe/Madrid
BEGIN:DAYLIGHT
TZOFFSETFROM:+0100
TZOFFSETTO:+0200
TZNAME:CEST
DTSTART:20220327T010000
END:DAYLIGHT
BEGIN:STANDARD
TZOFFSETFROM:+0200
TZOFFSETTO:+0100
TZNAME:CET
DTSTART:20221030T010000
END:STANDARD
BEGIN:DAYLIGHT
TZOFFSETFROM:+0100
TZOFFSETTO:+0200
TZNAME:CEST
DTSTART:20230326T010000
END:DAYLIGHT
BEGIN:STANDARD
TZOFFSETFROM:+0200
TZOFFSETTO:+0100
TZNAME:CET
DTSTART:20231029T010000
END:STANDARD
BEGIN:DAYLIGHT
TZOFFSETFROM:+0100
TZOFFSETTO:+0200
TZNAME:CEST
DTSTART:20240331T010000
END:DAYLIGHT
BEGIN:STANDARD
TZOFFSETFROM:+0200
TZOFFSETTO:+0100
TZNAME:CET
DTSTART:20241027T010000
END:STANDARD
BEGIN:DAYLIGHT
TZOFFSETFROM:+0100
TZOFFSETTO:+0200
TZNAME:CEST
DTSTART:20250330T010000
END:DAYLIGHT
BEGIN:STANDARD
TZOFFSETFROM:+0200
TZOFFSETTO:+0100
TZNAME:CET
DTSTART:20251026T010000
END:STANDARD
END:VTIMEZONE
BEGIN:VEVENT
DTSTART;TZID=Europe/Madrid:20231214T170000
DTEND;TZID=Europe/Madrid:20240111T190000
DTSTAMP:20260423T175450
CREATED:20231212T082440Z
LAST-MODIFIED:20240108T114357Z
UID:10000246-1702573200-1704999600@plangalapagar.es
SUMMARY:El abecedario "donde cuentas cuentos"
DESCRIPTION:¿Tienes entre 6 y 12 años? \n¡No te pierdas este plan! \nExploraremos cómo la radio puede dar vida a las historias y personajes de los cuentos. Los participantes aprenderán a crear y transmitir programas de radio dedicados a cuentos y literatura infantil\, promoviendo la lectura y la imaginación. \n¿Cuándo? Habrá tres sesiones los jueves 14 y 21 de diciembre y 11 de enero de 2024.  \n¡Es gratis y las plazas son limitadas! \nHaz click en el botón «Me apunto» y reserva la tuya. \nNota: La inscripción en este plan incluye la reserva de plaza en todas las sesiones. 
URL:https://plangalapagar.es/plan/el-abecedario-donde-cuentas-cuentos/
LOCATION:Punto Joven\, Guadarrama\, 68\, Galapagar\, Madrid\, 28260
CATEGORIES:Infantil
ATTACH;FMTTYPE=image/jpeg:https://plangalapagar.es/wp-content/uploads/2023/11/RADIOJOVEN_ABC1_largo.jpg
END:VEVENT
BEGIN:VEVENT
DTSTART;TZID=Europe/Madrid:20231219T180000
DTEND;TZID=Europe/Madrid:20231219T193000
DTSTAMP:20260423T175450
CREATED:20231102T050003Z
LAST-MODIFIED:20231031T092742Z
UID:10000213-1703008800-1703014200@plangalapagar.es
SUMMARY:Programa "Diseña con tu móvil" - 19 de diciembre
DESCRIPTION:¡Aprende a crear las mejores felicitaciones navideñas digitales! \n¿Estáis cansados de recibir siempre el mismo tipo de felicitaciones navideñas aburridas? Este año dejaréis a todos con la boca abierta con vuestras felicitaciones navideñas. \nEn esta sesión aprenderemos a crear diferentes tipos de felicitaciones navideñas usando herramientas digitales. \n¿Cómo? En formato vídeo\, imagen\, stickers\, o incluso audios/canciones. Aprenderemos a crear QR con enlaces a estas felicitaciones para poder mandárselo a nuestros familiares y amigos\, incluso ponerlos en la mesa de las cenas de Navidad para sorprenderles con unas felicitaciones únicas. \nEsta actividad tendrá lugar el martes 19 de diciembre en Punto Joven de 18:00 a 19:30 horas. Está dirigida a jóvenes de 12 a 30 años.  \n¡Es gratis! Solo necesitas traer un teléfono móvil para realizar la actividad. \n¡No te pierdas este taller! \n Haz click en el botón «Me apunto» y reserva tu plaza. ¡Son limitadas!
URL:https://plangalapagar.es/plan/programa-disena-con-tu-movil-19-de-diciembre/
LOCATION:Punto Joven\, Guadarrama\, 68\, Galapagar\, Madrid\, 28260
CATEGORIES:Jóvenes
ATTACH;FMTTYPE=image/jpeg:https://plangalapagar.es/wp-content/uploads/2023/10/DISENA4_largo.jpg
END:VEVENT
BEGIN:VEVENT
DTSTART;TZID=Europe/Madrid:20231220T173000
DTEND;TZID=Europe/Madrid:20231220T190000
DTSTAMP:20260423T175450
CREATED:20231201T050015Z
LAST-MODIFIED:20231106T090806Z
UID:10000202-1703093400-1703098800@plangalapagar.es
SUMMARY:Diver Family - 20 de diciembre
DESCRIPTION:¡Llega la tercera y última actividad del plan «Diver Family»! ¿Te la vas a perder? \nLos niños podrán decorar sus propios adornos para el árbol de Navidad y experimentar con actividades relacionadas con el invierno\, como trasvases de invierno\, bolsas sensoriales invernales y la creación de nieve artificial con bicarbonato y agua. ¡La Navidad nunca fue tan emocionante para los más pequeños! \nEsta actividad tendrá lugar el miércoles 20 de diciembre de 17:30 a 19:00 horas en Punto Joven.  \nEstá dirigida a niños y niñas de 1 a 5 años.  \n¡No te la pierdas! Es gratis y las plazas son limitadas. \nDale al botón «Me apunto» y reserva la tuya.
URL:https://plangalapagar.es/plan/diver-family-20-de-diciembre/
LOCATION:Punto Joven\, Guadarrama\, 68\, Galapagar\, Madrid\, 28260
CATEGORIES:Infantil
ATTACH;FMTTYPE=image/jpeg:https://plangalapagar.es/wp-content/uploads/2023/10/diverfamily-3_largo.jpg
END:VEVENT
BEGIN:VEVENT
DTSTART;TZID=Europe/Madrid:20231221T180000
DTEND;TZID=Europe/Madrid:20231221T193000
DTSTAMP:20260423T175450
CREATED:20231129T050035Z
LAST-MODIFIED:20231113T074317Z
UID:10000227-1703181600-1703187000@plangalapagar.es
SUMMARY:Tritorneo para grupos 21 de diciembre
DESCRIPTION:¿Tienes entre 12 y 30 años? \n¡No te pierdas el primer Tritorneo para grupos con tus amigos en Punto Joven! \nConsta de tres pruebas diferentes: Futbolín\, Ping-Pong y Dardos. Se realizarán tres jornadas que coronarán con el equipo vencedor del Tritorneo.  \nEs recomendable asistir a todas las jornadas\, pero si a alguna no podéis acudir ¡No hay problema! Los puntos se acumulan para la clasificación final. \nLos equipos tienen que estar formados por un mínimo de 4 personas y un máximo de 6. \nAtención: En el formulario de inscripción debes apuntar a un mínimo de 4 personas y un máximo de 6\, ni más\, ni menos. Aunque veas más campos en el formulario\, déjalos en blanco.  \n¿No tienes equipo o no llegáis a 4 participantes? ¡No os preocupéis! Indicadlo en la inscripción y desde Plan Galapagar os buscamos equipo. \n¡Anímate\, es gratis y las plazas son limitadas! \nHaz click en el botón «Me apunto». Las plazas para este plan hacen referencia a la tercera sesión que tendrá lugar el 21 de diciembre.
URL:https://plangalapagar.es/plan/tritorneo-para-grupos-21-de-diciembre/
LOCATION:Punto Joven\, Guadarrama\, 68\, Galapagar\, Madrid\, 28260
CATEGORIES:Jóvenes
ATTACH;FMTTYPE=image/jpeg:https://plangalapagar.es/wp-content/uploads/2023/11/TRITORNEO3_LARGO-nuevo.jpg
END:VEVENT
BEGIN:VEVENT
DTSTART;TZID=Europe/Madrid:20231222T170000
DTEND;TZID=Europe/Madrid:20231222T200000
DTSTAMP:20260423T175450
CREATED:20231218T050048Z
LAST-MODIFIED:20231115T094515Z
UID:10000230-1703264400-1703275200@plangalapagar.es
SUMMARY:Diverteca 22 de diciembre
DESCRIPTION:¡Llega la última actividad de Diverteca del año! ¿Te la vas a perder? \nEl próximo viernes 22 de diciembre tendrá lugar la actividad «Chupa Chups navideño». Como despedida hasta el próximo año y deseo de una feliz navidad\, hoy decoraremos nuestro chupa chups navideño y nos lo llevaremos de recuerdo para endulzarnos las vacaciones. \n¿Te lo vas a perder? \n¡Es gratis y las plazas son limitadas! \nHaz click en el botón «Me apunto» y reserva la tuya.
URL:https://plangalapagar.es/plan/diverteca-22-de-diciembre/
LOCATION:Punto Joven\, Guadarrama\, 68\, Galapagar\, Madrid\, 28260
CATEGORIES:Infantil
ATTACH;FMTTYPE=image/jpeg:https://plangalapagar.es/wp-content/uploads/2023/11/DV3_largo.jpg
END:VEVENT
BEGIN:VEVENT
DTSTART;TZID=Europe/Madrid:20231223T173000
DTEND;TZID=Europe/Madrid:20231223T203000
DTSTAMP:20260423T175450
CREATED:20231218T050045Z
LAST-MODIFIED:20231115T094620Z
UID:10000232-1703352600-1703363400@plangalapagar.es
SUMMARY:Ocio Joven 23 de diciembre
DESCRIPTION:¡Nueva actividad para jóvenes! \nEl próximo sábado 23 de diciembre tendrá lugar la actividad «MasterChef navideño». ¿Quiere sorprender a tu familia esta navidad? ¿Te gusta cocinar? Ven a Punto Joven a aprender la receta de canapés fríos con los que deleitar a tus invitados. \n¡No te lo pierdas\, es gratis y las plazas son limitadas! \nHaz click en el botón «Me apunto» y reserva la tuya.
URL:https://plangalapagar.es/plan/ocio-joven-23-de-diciembre/
LOCATION:Punto Joven\, Guadarrama\, 68\, Galapagar\, Madrid\, 28260
CATEGORIES:Jóvenes
ATTACH;FMTTYPE=image/jpeg:https://plangalapagar.es/wp-content/uploads/2023/11/OJ2_largo.jpg
END:VEVENT
END:VCALENDAR