BEGIN:VCALENDAR
VERSION:2.0
PRODID:-//Plan Galapagar - ECPv6.15.20//NONSGML v1.0//EN
CALSCALE:GREGORIAN
METHOD:PUBLISH
X-ORIGINAL-URL:https://plangalapagar.es
X-WR-CALDESC:Eventos para Plan Galapagar
REFRESH-INTERVAL;VALUE=DURATION:PT1H
X-Robots-Tag:noindex
X-PUBLISHED-TTL:PT1H
BEGIN:VTIMEZONE
TZID:Europe/Madrid
BEGIN:DAYLIGHT
TZOFFSETFROM:+0100
TZOFFSETTO:+0200
TZNAME:CEST
DTSTART:20220327T010000
END:DAYLIGHT
BEGIN:STANDARD
TZOFFSETFROM:+0200
TZOFFSETTO:+0100
TZNAME:CET
DTSTART:20221030T010000
END:STANDARD
BEGIN:DAYLIGHT
TZOFFSETFROM:+0100
TZOFFSETTO:+0200
TZNAME:CEST
DTSTART:20230326T010000
END:DAYLIGHT
BEGIN:STANDARD
TZOFFSETFROM:+0200
TZOFFSETTO:+0100
TZNAME:CET
DTSTART:20231029T010000
END:STANDARD
BEGIN:DAYLIGHT
TZOFFSETFROM:+0100
TZOFFSETTO:+0200
TZNAME:CEST
DTSTART:20240331T010000
END:DAYLIGHT
BEGIN:STANDARD
TZOFFSETFROM:+0200
TZOFFSETTO:+0100
TZNAME:CET
DTSTART:20241027T010000
END:STANDARD
BEGIN:DAYLIGHT
TZOFFSETFROM:+0100
TZOFFSETTO:+0200
TZNAME:CEST
DTSTART:20250330T010000
END:DAYLIGHT
BEGIN:STANDARD
TZOFFSETFROM:+0200
TZOFFSETTO:+0100
TZNAME:CET
DTSTART:20251026T010000
END:STANDARD
END:VTIMEZONE
BEGIN:VEVENT
DTSTART;TZID=Europe/Madrid:20231214T170000
DTEND;TZID=Europe/Madrid:20240111T190000
DTSTAMP:20260423T163551
CREATED:20231212T082440Z
LAST-MODIFIED:20240108T114357Z
UID:10000246-1702573200-1704999600@plangalapagar.es
SUMMARY:El abecedario "donde cuentas cuentos"
DESCRIPTION:¿Tienes entre 6 y 12 años? \n¡No te pierdas este plan! \nExploraremos cómo la radio puede dar vida a las historias y personajes de los cuentos. Los participantes aprenderán a crear y transmitir programas de radio dedicados a cuentos y literatura infantil\, promoviendo la lectura y la imaginación. \n¿Cuándo? Habrá tres sesiones los jueves 14 y 21 de diciembre y 11 de enero de 2024.  \n¡Es gratis y las plazas son limitadas! \nHaz click en el botón «Me apunto» y reserva la tuya. \nNota: La inscripción en este plan incluye la reserva de plaza en todas las sesiones. 
URL:https://plangalapagar.es/plan/el-abecedario-donde-cuentas-cuentos/
LOCATION:Punto Joven\, Guadarrama\, 68\, Galapagar\, Madrid\, 28260
CATEGORIES:Infantil
ATTACH;FMTTYPE=image/jpeg:https://plangalapagar.es/wp-content/uploads/2023/11/RADIOJOVEN_ABC1_largo.jpg
END:VEVENT
BEGIN:VEVENT
DTSTART;TZID=Europe/Madrid:20231226T110000
DTEND;TZID=Europe/Madrid:20240105T140000
DTSTAMP:20260423T163551
CREATED:20231201T050017Z
LAST-MODIFIED:20231228T113113Z
UID:10000237-1703588400-1704463200@plangalapagar.es
SUMMARY:Navidad Joven
DESCRIPTION:¿Tienes entre 12 y 17 años? Ven a pasar las mañanas navideñas a Punto joven. Puedes venir acompañado de tus amigos y amigas o conocer caras nuevas. Realizaremos talleres\, deportes\, juegos de estrategia y mucho más. \n¿Cuándo? El 26\,27\,28 y 29 de diciembre y 2\,3\,4 y 5 de enero de 11:00 a 14:00 horas.  \nPuedes venir a una sesión\, a dos\, ¡o a todas!. Solo necesitas apuntarte una vez y puedes venir los días que quieras. \n¡No te pierdas este plan! Es gratis y las plazas son limitadas.  \nHaz click en el botón «Me apunto» y reserva la tuya. \n  \nPROGRAMA DE ACTIVIDADES POR DÍAS \nJueves 28 de diciembre: OLIMPIADAS\nEl jueves 28 de diciembre participa en nuestras olimpiadas en el polideportivo. Desarrollaremos una serie de competiciones y desafíos deportivos que pondrán a prueba tu destreza y trabajo en equipo. \nViernes 29 de diciembre: JUEGOS DE MESA Y KARAOKE\nJornada de juegos de mesa donde podrás desafiar a tus amigos en diferentes juegos estratégicos y divertidos. Además\, podrás demostrar tu talento musical en nuestro animado karaoke. \nMartes 2 de enero: EXPERIMENTOS\nSumérgete en el fascinante mundo de la ciencia con nuestros experimentos científicos. Desde reacciones químicas sorprendentes hasta curiosidades físicas\, descubre el lado más intrigante de la ciencia de manera práctica y divertida. \nMiércoles 3 de enero: YINCANA FOTOGRÁFICA POR GALAPAGAR\nParticipa en nuestra yincana fotográfica donde exploraremos lugares emblemáticos mientras capturamos momentos especiales con la cámara. \nJueves 4 de enero: DEPORTES ALTERNATIVOS\nRealizaremos deportes alternativos en el polideportivo. Desde deportes menos convencionales hasta desafíos únicos. \nViernes 5 de enero: CREA TUS PROPIAS CHAPAS PERSONALIZADAS\nDesata tu creatividad en nuestro taller de creación de chapas personalizadas. Explora tu estilo y diseño\, y lleva a casa una pieza única que refleje tu personalidad.
URL:https://plangalapagar.es/plan/navidad-joven/
LOCATION:Punto Joven\, Guadarrama\, 68\, Galapagar\, Madrid\, 28260
CATEGORIES:Jóvenes
ATTACH;FMTTYPE=image/jpeg:https://plangalapagar.es/wp-content/uploads/2023/11/NAVIDADJOVEN_largo.jpg
END:VEVENT
BEGIN:VEVENT
DTSTART;TZID=Europe/Madrid:20231226T180000
DTEND;TZID=Europe/Madrid:20231226T203000
DTSTAMP:20260423T163551
CREATED:20231201T050045Z
LAST-MODIFIED:20231127T114030Z
UID:10000238-1703613600-1703622600@plangalapagar.es
SUMMARY:Cineforum navideño 26 de diciembre
DESCRIPTION:¡Llega el cineforum navideño para jóvenes! Si tienes entre 12 y 30 años\, ¡no te pierdas este plan! \n¿Qué hay más navideño que ver una película típica de navidad\, con una mantita y unas palomitas bien calentitas con la chimenea puesta? \nEn Punto Joven tenemos la peli navideña\, las palomitas y unos sofás comodísimos donde venir a disfrutar con tus amigos. Lo único que nos falta es la chimenea… Pero\, ¿no pasa nada\, no? \nOs propondremos tres cineforum y seréis vosotros los que\, a través de una encuesta de Instagram\, podáis elegir. Así que… ¡Atentos a nuestras redes sociales! \n¡No te pierdas este plan y pasa una tarde de invierno diferente! \nEs gratis y las plazas son limitadas.  \nHaz click en el botón «Me apunto» y reserva la tuya.
URL:https://plangalapagar.es/plan/cineforum-navideno-26-de-diciembre/
LOCATION:Punto Joven\, Guadarrama\, 68\, Galapagar\, Madrid\, 28260
CATEGORIES:Jóvenes
ATTACH;FMTTYPE=image/jpeg:https://plangalapagar.es/wp-content/uploads/2023/11/CINEFORUM_largo.jpg
END:VEVENT
BEGIN:VEVENT
DTSTART;TZID=Europe/Madrid:20231227T173000
DTEND;TZID=Europe/Madrid:20231227T193000
DTSTAMP:20260423T163551
CREATED:20231201T050043Z
LAST-MODIFIED:20231120T164810Z
UID:10000233-1703698200-1703705400@plangalapagar.es
SUMMARY:Talleres navideños en familia 27 de diciembre
DESCRIPTION:¿Tienes entre 3 y 12 años? \n¡Llega la primera actividad de los talleres navideños en familia: «Crea tus propios recipientes para las uvas». \nSorprende a tu familia y amigos con unos recipientes para las uvas creados con tus propias manos. Apúntate a este taller navideño que tendrá lugar en Punto Joven el miércoles 27 de diciembre.  \n¡Anímate\, es gratis y las plazas son limitadas! \nHaz click en el botón «Me apunto» y reserva la tuya. \nNota importante: Solo podrá apuntarse al plan un adulto por cada niño. 
URL:https://plangalapagar.es/plan/talleres-navidenos-en-familia-27-de-diciembre/
LOCATION:Punto Joven\, Guadarrama\, 68\, Galapagar\, Madrid\, 28260
CATEGORIES:Infantil
ATTACH;FMTTYPE=image/jpeg:https://plangalapagar.es/wp-content/uploads/2023/11/FamNav1_largo.jpg
END:VEVENT
BEGIN:VEVENT
DTSTART;TZID=Europe/Madrid:20231227T180000
DTEND;TZID=Europe/Madrid:20231227T193000
DTSTAMP:20260423T163551
CREATED:20231201T050027Z
LAST-MODIFIED:20231127T114522Z
UID:10000239-1703700000-1703705400@plangalapagar.es
SUMMARY:Club PG 27 de diciembre
DESCRIPTION:¡Es el momento de que el mundo vea las Fraternidades que se han creado! \nEsta es la última sesión del Club PG del año. ¡Todavía estas a tiempo de unirte a él si aún no lo has hecho! \nPásate por Punto Joven y descubre las nuevas Fraternidades\, propón ideas y pasa una tarde diferente y conociendo gente nueva. \n¡No te lo pierdas! \nEs gratis y las plazas son limitadas. \nEste plan está dirigido a jóvenes entre 12 y 30 años.  \nHaz click en el botón «Me apunto» y reserva la tuya. \n  \n 
URL:https://plangalapagar.es/plan/club-pg-27-de-diciembre/
LOCATION:Punto Joven\, Guadarrama\, 68\, Galapagar\, Madrid\, 28260
CATEGORIES:Jóvenes
ATTACH;FMTTYPE=image/jpeg:https://plangalapagar.es/wp-content/uploads/2023/11/CLUBPG_largo.jpg
END:VEVENT
BEGIN:VEVENT
DTSTART;TZID=Europe/Madrid:20231228T173000
DTEND;TZID=Europe/Madrid:20231228T193000
DTSTAMP:20260423T163551
CREATED:20231201T050021Z
LAST-MODIFIED:20231120T165216Z
UID:10000234-1703784600-1703791800@plangalapagar.es
SUMMARY:Talleres navideños en familia 28 de diciembre
DESCRIPTION:¿Tienes entre 3 y 12 años? \n¡Llega la segunda actividad de los talleres navideños en familia: «Decora galletas navideñas». \n¿Quieres ser maestro pastelero por un día? Ven acompañado de un adulto a decorar galletas con temática navideña y endulzarte la tarde. \nApúntate a este taller navideño que tendrá lugar en Punto Joven el jueves 28 de diciembre.  \n¡Anímate\, es gratis y las plazas son limitadas! \nHaz click en el botón «Me apunto» y reserva la tuya. \nNota importante: Solo podrá apuntarse al plan un adulto por cada niño. 
URL:https://plangalapagar.es/plan/talleres-navidenos-en-familia-28-de-diciembre/
LOCATION:Punto Joven\, Guadarrama\, 68\, Galapagar\, Madrid\, 28260
CATEGORIES:Infantil
ATTACH;FMTTYPE=image/jpeg:https://plangalapagar.es/wp-content/uploads/2023/11/FamNav2_largo.jpg
END:VEVENT
BEGIN:VEVENT
DTSTART;TZID=Europe/Madrid:20231228T180000
DTEND;TZID=Europe/Madrid:20231228T201500
DTSTAMP:20260423T163551
CREATED:20231201T050053Z
LAST-MODIFIED:20231227T163214Z
UID:10000240-1703786400-1703794500@plangalapagar.es
SUMMARY:Cluedo en vivo 28 de diciembre
DESCRIPTION:Es 28 de diciembre\, estamos a 3 días de las campanadas y la prensa acaba de hacer un comunicado: \n«Se suspenden las campanadas de este año… ¡Cristina Pedroche ha aparecido muerta en Punto Joven y su vestido de este año ha desaparecido! Las autoridades dictaminan que hasta que no se esclarezca lo ocurrido y aparezca el vestido\, todo evento queda cancelado». \nSeguro que ahora mismo tenéis un millón de preguntas. ¿Quién va a dar las campanadas ahora? ¿Cómo habrá muerto? ¿Habrá sido asesinada? ¿Por qué ahora\, por qué ella? ¿Cómo era el vestido de este año? ¿Dónde está? Esto no puedes ser… \nSolo tú puedes averiguar lo que pasó realmente y resolver el misterio para que las campanadas se puedan celebrar. Pero… ¿Cómo lo harás? Ven a Punto Joven y sumérgete en esta historia. \n¿Quiénes son los personajes? Vosotros mismos. El cluedo en vivo es un juego de inmersión en el que cada jugador ha de adoptar la personalidad de uno de los personajes que componen la trama de la historia. \nNo perdáis de vista el objetivo: resolver el crimen. Tendréis que poner a prueba vuestro ingenio para hacerlo. \n¿Crees que eres capaz de resolver el misterio? \nEsta actividad está dirigida a jóvenes entre 12 y 30 años.  \n¡No te la pierdas\, es gratis y las plazas son limitadas! \nHaz click en el botón «Me apunto» y reserva la tuya. \n 
URL:https://plangalapagar.es/plan/cluedo-en-vivo-28-de-diciembre/
LOCATION:Punto Joven\, Guadarrama\, 68\, Galapagar\, Madrid\, 28260
CATEGORIES:Jóvenes
ATTACH;FMTTYPE=image/jpeg:https://plangalapagar.es/wp-content/uploads/2023/11/CLUEDO_largo.jpg
END:VEVENT
BEGIN:VEVENT
DTSTART;TZID=Europe/Madrid:20231229T180000
DTEND;TZID=Europe/Madrid:20231229T193000
DTSTAMP:20260423T163551
CREATED:20231201T050028Z
LAST-MODIFIED:20231127T115248Z
UID:10000241-1703872800-1703878200@plangalapagar.es
SUMMARY:Tritorneo edición navideña 29 de diciembre
DESCRIPTION:Llegan las vacaciones de navidad y… ¿No sabes qué hacer por las tardes? Anímate a participar en la edición navideña de nuestro Tritorneo para grupos con tus amigos. Consta de tres pruebas diferentes: Futbolín\, Ping-Pong y Dardos. \nLos equipos tienen que estar formados por mínimo de 4 personas y un máximo de 6. \nAtención: En el formulario de inscripción debes apuntar a un mínimo de 4 personas y un máximo de 6\, ni más\, ni menos. Aunque veas más campos en el formulario\, déjalos en blanco.  \n¿No tienes equipo o no llegáis a 4 participantes? ¡No os preocupéis! Indicadlo en la inscripción y desde Plan Galapagar os buscamos equipo. \nY dadas las fechas en las que estamos\, todos los participantes deberán venir con un outfit navideño. \nAdemás\, contaremos con música en directo de uno de nuestro grupos locales de jóvenes promesas. \nEsta actividad está dirigida a jóvenes entre 12 y 30 años.  \n¡Anímate! Es gratis y las plazas son limitadas.  \nHaz click en el botón «Me apunto» y reserva la tuya.
URL:https://plangalapagar.es/plan/tritorneo-edicion-navidena-29-de-diciembre/
LOCATION:Punto Joven\, Guadarrama\, 68\, Galapagar\, Madrid\, 28260
CATEGORIES:Jóvenes
ATTACH;FMTTYPE=image/jpeg:https://plangalapagar.es/wp-content/uploads/2023/11/TRITORNEO_largo-1.jpg
END:VEVENT
BEGIN:VEVENT
DTSTART;TZID=Europe/Madrid:20231230T180000
DTEND;TZID=Europe/Madrid:20231230T220000
DTSTAMP:20260423T163551
CREATED:20231201T050041Z
LAST-MODIFIED:20231127T115735Z
UID:10000242-1703959200-1703973600@plangalapagar.es
SUMMARY:Tardevieja con música en directo 30 de diciembre
DESCRIPTION: Ven a pasar la tarde a Punto Joven escuchando a diferentes grupos de música de nuestro pueblo que te harán vibrar con sus canciones. \nDespide este año de la mejor manera… ¡Con música! \nEsta actividad está dirigida a jóvenes entre 12 y 30 años.  \nEl precio es gratuito hasta completar aforo. \nHaz click en el botón «Me apunto» y reserva tu plaza.
URL:https://plangalapagar.es/plan/tardevieja-con-musica-en-directo-30-de-diciembre/
LOCATION:Punto Joven\, Guadarrama\, 68\, Galapagar\, Madrid\, 28260
CATEGORIES:Jóvenes
ATTACH;FMTTYPE=image/jpeg:https://plangalapagar.es/wp-content/uploads/2023/11/TARDEVIEJA_largo.jpg
END:VEVENT
END:VCALENDAR