BEGIN:VCALENDAR
VERSION:2.0
PRODID:-//Plan Galapagar - ECPv6.15.20//NONSGML v1.0//EN
CALSCALE:GREGORIAN
METHOD:PUBLISH
X-ORIGINAL-URL:https://plangalapagar.es
X-WR-CALDESC:Eventos para Plan Galapagar
REFRESH-INTERVAL;VALUE=DURATION:PT1H
X-Robots-Tag:noindex
X-PUBLISHED-TTL:PT1H
BEGIN:VTIMEZONE
TZID:Europe/Madrid
BEGIN:DAYLIGHT
TZOFFSETFROM:+0100
TZOFFSETTO:+0200
TZNAME:CEST
DTSTART:20230326T010000
END:DAYLIGHT
BEGIN:STANDARD
TZOFFSETFROM:+0200
TZOFFSETTO:+0100
TZNAME:CET
DTSTART:20231029T010000
END:STANDARD
BEGIN:DAYLIGHT
TZOFFSETFROM:+0100
TZOFFSETTO:+0200
TZNAME:CEST
DTSTART:20240331T010000
END:DAYLIGHT
BEGIN:STANDARD
TZOFFSETFROM:+0200
TZOFFSETTO:+0100
TZNAME:CET
DTSTART:20241027T010000
END:STANDARD
BEGIN:DAYLIGHT
TZOFFSETFROM:+0100
TZOFFSETTO:+0200
TZNAME:CEST
DTSTART:20250330T010000
END:DAYLIGHT
BEGIN:STANDARD
TZOFFSETFROM:+0200
TZOFFSETTO:+0100
TZNAME:CET
DTSTART:20251026T010000
END:STANDARD
END:VTIMEZONE
BEGIN:VEVENT
DTSTART;TZID=Europe/Madrid:20240109T170000
DTEND;TZID=Europe/Madrid:20240220T190000
DTSTAMP:20260423T132149
CREATED:20231212T082755Z
LAST-MODIFIED:20231228T084631Z
UID:10000249-1704819600-1708455600@plangalapagar.es
SUMMARY:Taller de radio y producción del programa "Acordes"
DESCRIPTION:¿Tienes entre 14 y 17 años? ¡No te pierdas este plan! \nSe trata de un programa completo diseñado para adentrarse en el mundo de la radio. A lo largo del taller aprenderás conceptos básicos de radio adquiriendo conocimientos técnicos\, perfeccionando habilidades de comunicación\, creando contenido y\, finalmente\, podrás participar en la producción del programa «Acordes». \n¿Cuándo? Habrá siete sesiones los martes 9\, 16\, 23 y 30 de enero y 6\, 13 y 20 de febrero de 2024.  \n¡Es gratis y las plazas son limitadas! \nHaz click en el botón «Me apunto» y reserva la tuya. \nNota: La inscripción en este plan incluye la reserva de plaza en todas las sesiones. 
URL:https://plangalapagar.es/plan/taller-de-radio-y-produccion-del-programa-acordes/
LOCATION:Punto Joven\, Guadarrama\, 68\, Galapagar\, Madrid\, 28260
CATEGORIES:Jóvenes
ATTACH;FMTTYPE=image/jpeg:https://plangalapagar.es/wp-content/uploads/2023/12/RADIOJOVEN_ACORDES_largo.jpg
END:VEVENT
BEGIN:VEVENT
DTSTART;TZID=Europe/Madrid:20240118T170000
DTEND;TZID=Europe/Madrid:20240201T190000
DTSTAMP:20260423T132149
CREATED:20231212T082528Z
LAST-MODIFIED:20231212T082528Z
UID:10000247-1705597200-1706814000@plangalapagar.es
SUMMARY:El abecedario "dando voz a la narrativa juvenil"
DESCRIPTION:¿Tienes entre 12 y 17 años? \n¡No te pierdas este plan! \nLa radio puede ser una herramienta poderosa para infundir vida en la narrativa juvenil y cultivar la pasión por la lectura. Los participantes aprenderán a adaptar y transmitir historias juveniles a través de programas de radio\, compartiendo su entusiasmo literario con otros oyentes. \n¿Cuándo? Habrá tres sesiones los jueves 18 y 25 de enero y 1 de febrero de 2024.  \n¡Es gratis y las plazas son limitadas! \nHaz click en el botón «Me apunto» y reserva la tuya. \nNota: La inscripción en este plan incluye la reserva de plaza en todas las sesiones. 
URL:https://plangalapagar.es/plan/el-abecedario-dando-voz-a-la-narrativa-juvenil/
LOCATION:Punto Joven\, Guadarrama\, 68\, Galapagar\, Madrid\, 28260
CATEGORIES:Jóvenes
ATTACH;FMTTYPE=image/jpeg:https://plangalapagar.es/wp-content/uploads/2023/11/RADIOJOVEN_ABC2_largo.jpg
END:VEVENT
BEGIN:VEVENT
DTSTART;TZID=Europe/Madrid:20240202T170000
DTEND;TZID=Europe/Madrid:20240202T200000
DTSTAMP:20260423T132149
CREATED:20240129T074149Z
LAST-MODIFIED:20240129T124556Z
UID:10000260-1706893200-1706904000@plangalapagar.es
SUMMARY:Diverteca 2 de febrero
DESCRIPTION:¡Llega una nueva actividad para los peques de la casa: Manualidades de San Valentín! \nEl próximo viernes 2 de febrero celebra el amor de una manera creativa. Pasaremos una tarde divertida y llena de amor donde podrás expresar tus sentimientos a través de juegos y manualidades. \n¡No te pierdas este plan! Es gratis y las plazas son limitadas. \nHaz click en el botón «Me apunto» y reserva la tuya.
URL:https://plangalapagar.es/plan/diverteca-2-de-febrero/
LOCATION:Punto Joven\, Guadarrama\, 68\, Galapagar\, Madrid\, 28260
CATEGORIES:Infantil
ATTACH;FMTTYPE=image/jpeg:https://plangalapagar.es/wp-content/uploads/2024/01/DV-FEB-02.jpg
END:VEVENT
BEGIN:VEVENT
DTSTART;TZID=Europe/Madrid:20240203T173000
DTEND;TZID=Europe/Madrid:20240203T203000
DTSTAMP:20260423T132149
CREATED:20240129T074650Z
LAST-MODIFIED:20240129T074650Z
UID:10000261-1706981400-1706992200@plangalapagar.es
SUMMARY:Ocio Joven 3 de febrero
DESCRIPTION:¡Nueva actividad para jóvenes: Técnicas de maquillaje para carnaval! \nEl próximo sábado 3 de febrero aprenderemos y experimentaremos en nuestra propia piel diferentes técnicas y recursos para hacerte un maquillaje original en carnaval. \n¿Te lo vas a perder? Es gratis y las plazas son limitadas. \nHaz click en el botón «Me apunto» y reserva la tuya.
URL:https://plangalapagar.es/plan/ocio-joven-3-de-febrero/
LOCATION:Punto Joven\, Guadarrama\, 68\, Galapagar\, Madrid\, 28260
CATEGORIES:Jóvenes
ATTACH;FMTTYPE=image/jpeg:https://plangalapagar.es/wp-content/uploads/2024/01/OJ-FEB-03.jpg
END:VEVENT
END:VCALENDAR