BEGIN:VCALENDAR
VERSION:2.0
PRODID:-//Plan Galapagar - ECPv6.15.20//NONSGML v1.0//EN
CALSCALE:GREGORIAN
METHOD:PUBLISH
X-WR-CALNAME:Plan Galapagar
X-ORIGINAL-URL:https://plangalapagar.es
X-WR-CALDESC:Eventos para Plan Galapagar
REFRESH-INTERVAL;VALUE=DURATION:PT1H
X-Robots-Tag:noindex
X-PUBLISHED-TTL:PT1H
BEGIN:VTIMEZONE
TZID:Europe/Madrid
BEGIN:DAYLIGHT
TZOFFSETFROM:+0100
TZOFFSETTO:+0200
TZNAME:CEST
DTSTART:20230326T010000
END:DAYLIGHT
BEGIN:STANDARD
TZOFFSETFROM:+0200
TZOFFSETTO:+0100
TZNAME:CET
DTSTART:20231029T010000
END:STANDARD
BEGIN:DAYLIGHT
TZOFFSETFROM:+0100
TZOFFSETTO:+0200
TZNAME:CEST
DTSTART:20240331T010000
END:DAYLIGHT
BEGIN:STANDARD
TZOFFSETFROM:+0200
TZOFFSETTO:+0100
TZNAME:CET
DTSTART:20241027T010000
END:STANDARD
BEGIN:DAYLIGHT
TZOFFSETFROM:+0100
TZOFFSETTO:+0200
TZNAME:CEST
DTSTART:20250330T010000
END:DAYLIGHT
BEGIN:STANDARD
TZOFFSETFROM:+0200
TZOFFSETTO:+0100
TZNAME:CET
DTSTART:20251026T010000
END:STANDARD
END:VTIMEZONE
BEGIN:VEVENT
DTSTART;TZID=Europe/Madrid:20240109T170000
DTEND;TZID=Europe/Madrid:20240220T190000
DTSTAMP:20260423T144339
CREATED:20231212T082755Z
LAST-MODIFIED:20231228T084631Z
UID:10000249-1704819600-1708455600@plangalapagar.es
SUMMARY:Taller de radio y producción del programa "Acordes"
DESCRIPTION:¿Tienes entre 14 y 17 años? ¡No te pierdas este plan! \nSe trata de un programa completo diseñado para adentrarse en el mundo de la radio. A lo largo del taller aprenderás conceptos básicos de radio adquiriendo conocimientos técnicos\, perfeccionando habilidades de comunicación\, creando contenido y\, finalmente\, podrás participar en la producción del programa «Acordes». \n¿Cuándo? Habrá siete sesiones los martes 9\, 16\, 23 y 30 de enero y 6\, 13 y 20 de febrero de 2024.  \n¡Es gratis y las plazas son limitadas! \nHaz click en el botón «Me apunto» y reserva la tuya. \nNota: La inscripción en este plan incluye la reserva de plaza en todas las sesiones. 
URL:https://plangalapagar.es/plan/taller-de-radio-y-produccion-del-programa-acordes/
LOCATION:Punto Joven\, Guadarrama\, 68\, Galapagar\, Madrid\, 28260
CATEGORIES:Jóvenes
ATTACH;FMTTYPE=image/jpeg:https://plangalapagar.es/wp-content/uploads/2023/12/RADIOJOVEN_ACORDES_largo.jpg
END:VEVENT
BEGIN:VEVENT
DTSTART;TZID=Europe/Madrid:20240206T180000
DTEND;TZID=Europe/Madrid:20240206T193000
DTSTAMP:20260423T144339
CREATED:20240201T113130Z
LAST-MODIFIED:20240201T113130Z
UID:10000270-1707242400-1707247800@plangalapagar.es
SUMMARY:Entrenamiento competición Wii 6 de febrero
DESCRIPTION:Pasas todo el día rodeado de pantallas y videojuegos. ¿No estás harto/a de jugar siempre solo/a contra bots? Vente a Punto Joven con tus amigos/as y demuéstrales quién es el más maquina. \nPodréis elegir entre vuestros juegos favoritos y competir o colaborar entre vosotros para disfrutar de una divertida tarde. \nPuedes traer tus propias consolas como la Nintendo switch para jugar o practicar con tus amigos/as. \nLa competición oficial será el sábado 17 de febrero de 17:30 a 20:30 horas. \nLa inscripción en la sesión de entrenamiento supone la reserva de plaza en la competición del día 17 de febrero. 
URL:https://plangalapagar.es/plan/entrenamiento-competicion-wii-6-de-febrero/
LOCATION:Punto Joven\, Guadarrama\, 68\, Galapagar\, Madrid\, 28260
CATEGORIES:Jóvenes
ATTACH;FMTTYPE=image/jpeg:https://plangalapagar.es/wp-content/uploads/2024/01/WII-6FEB.jpg
END:VEVENT
BEGIN:VEVENT
DTSTART;TZID=Europe/Madrid:20240207T180000
DTEND;TZID=Europe/Madrid:20240207T193000
DTSTAMP:20260423T144339
CREATED:20240201T113403Z
LAST-MODIFIED:20240201T113403Z
UID:10000271-1707328800-1707334200@plangalapagar.es
SUMMARY:Entrenamiento competición Wii 7 de febrero
DESCRIPTION:Pasas todo el día rodeado de pantallas y videojuegos. ¿No estás harto/a de jugar siempre solo/a contra bots? Vente a Punto Joven con tus amigos/as y demuéstrales quién es el más maquina. \nPodréis elegir entre vuestros juegos favoritos y competir o colaborar entre vosotros para disfrutar de una divertida tarde. \nPuedes traer tus propias consolas como la Nintendo switch para jugar o practicar con tus amigos/as. \nLa competición oficial será el sábado 17 de febrero de 17:30 a 20:30 horas. \nLa inscripción en la sesión de entrenamiento supone la reserva de plaza en la competición del día 17 de febrero. 
URL:https://plangalapagar.es/plan/entrenamiento-competicion-wii-7-de-febrero/
LOCATION:Punto Joven\, Guadarrama\, 68\, Galapagar\, Madrid\, 28260
CATEGORIES:Jóvenes
ATTACH;FMTTYPE=image/jpeg:https://plangalapagar.es/wp-content/uploads/2024/01/WII-7FEB.jpg
END:VEVENT
BEGIN:VEVENT
DTSTART;TZID=Europe/Madrid:20240208T170000
DTEND;TZID=Europe/Madrid:20240222T190000
DTSTAMP:20260423T144339
CREATED:20231212T082617Z
LAST-MODIFIED:20231212T082617Z
UID:10000248-1707411600-1708628400@plangalapagar.es
SUMMARY:El abecedario "voces literarias"
DESCRIPTION:¿Te gustaría analizar obras literarias\, discutir sobre autores contemporáneos y producir programas de radio que profundicen en temas literarios y culturales? \n¡Entonces no te pierdas este plan! \nEstá dirigido a un público adulto a partir de 18 años.  \n¿Cuándo? Habrá tres sesiones los jueves 8\, 15 y 22 de febrero de 2024.  \n¡Es gratis y las plazas son limitadas! \nHaz click en el botón «Me apunto» y reserva la tuya. \nNota: La inscripción en este plan incluye la reserva de plaza en todas las sesiones. 
URL:https://plangalapagar.es/plan/el-abecedario-voces-literarias/
LOCATION:Punto Joven\, Guadarrama\, 68\, Galapagar\, Madrid\, 28260
CATEGORIES:Familiares
ATTACH;FMTTYPE=image/jpeg:https://plangalapagar.es/wp-content/uploads/2023/11/RADIOJOVEN_ABC3_largo.jpg
END:VEVENT
BEGIN:VEVENT
DTSTART;TZID=Europe/Madrid:20240209T170000
DTEND;TZID=Europe/Madrid:20240209T200000
DTSTAMP:20260423T144339
CREATED:20240205T050008Z
LAST-MODIFIED:20240129T075244Z
UID:10000262-1707498000-1707508800@plangalapagar.es
SUMMARY:Diverteca 9 de febrero
DESCRIPTION:¿Preparado para la nueva actividad de diverteca? \nEl próximo viernes 9 de febrero habrá una yincana carnavalera. Ayúdanos a conseguir los objetos carnavalescos escondidos en Punto Joven y descubre todas las sorpresas que tenemos preparadas. \n¡Se recomienda venir disfrazados! \n¡No te pierdas este plan! Es gratis y las plazas son limitadas. \nHaz click en el botón «Me apunto» y reserva la tuya.
URL:https://plangalapagar.es/plan/diverteca-9-de-febrero/
LOCATION:Punto Joven\, Guadarrama\, 68\, Galapagar\, Madrid\, 28260
CATEGORIES:Infantil
ATTACH;FMTTYPE=image/jpeg:https://plangalapagar.es/wp-content/uploads/2024/01/DV-FEB-09.jpg
END:VEVENT
BEGIN:VEVENT
DTSTART;TZID=Europe/Madrid:20240210T173000
DTEND;TZID=Europe/Madrid:20240210T203000
DTSTAMP:20260423T144339
CREATED:20240201T050026Z
LAST-MODIFIED:20240129T084818Z
UID:10000263-1707586200-1707597000@plangalapagar.es
SUMMARY:Ocio Joven 10 de febrero
DESCRIPTION:¡Nueva actividad para jóvenes: Decoración de galletas para San Valentín! \nEl próximo sábado 10 de febrero decoraremos galletas con fondant para celebrar el día del amor y regalárselas a personas que queramos mucho. \n¡No te pierdas este plan! Es gratis y las plazas son limitadas. \nHaz click en el botón «Me apunto» y reserva la tuya.
URL:https://plangalapagar.es/plan/ocio-joven-10-de-febrero/
LOCATION:Punto Joven\, Guadarrama\, 68\, Galapagar\, Madrid\, 28260
CATEGORIES:Jóvenes
ATTACH;FMTTYPE=image/jpeg:https://plangalapagar.es/wp-content/uploads/2024/01/OJ-FEB-10.jpg
END:VEVENT
END:VCALENDAR